Workbook

Sheet August 2026
A1: August 2026
A2: Calendar · August 2026 to July 2027
A4: Monday | B4: Tuesday | C4: Wednesday | D4: Thursday | E4: Friday | F4: Saturday | G4: Sunday
F5: 46235 | G5: 46236
F6: =IFERROR(INDEX('Holidays'!$B$5:$B$64,MATCH(F5,'Holidays'!$A$5:$A$64,0)),"") | G6: =IFERROR(INDEX('Holidays'!$B$5:$B$64,MATCH(G5,'Holidays'!$A$5:$A$64,0)),"")
A7: 46237 | B7: 46238 | C7: 46239 | D7: 46240 | E7: 46241 | F7: 46242 | G7: 46243
A8: =IFERROR(INDEX('Holidays'!$B$5:$B$64,MATCH(A7,'Holidays'!$A$5:$A$64,0)),"") | B8: =IFERROR(INDEX('Holidays'!$B$5:$B$64,MATCH(B7,'Holidays'!$A$5:$A$64,0)),"") | C8: =IFERROR(INDEX('Holidays'!$B$5:$B$64,MATCH(C7,'Holidays'!$A$5:$A$64,0)),"") | D8: =IFERROR(INDEX('Holidays'!$B$5:$B$64,MATCH(D7,'Holidays'!$A$5:$A$64,0)),"") | E8: =IFERROR(INDEX('Holidays'!$B$5:$B$64,MATCH(E7,'Holidays'!$A$5:$A$64,0)),"") | F8: =IFERROR(INDEX('Holidays'!$B$5:$B$64,MATCH(F7,'Holidays'!$A$5:$A$64,0)),"") | G8: =IFERROR(INDEX('Holidays'!$B$5:$B$64,MATCH(G7,'Holidays'!$A$5:$A$64,0)),"")
A9: 46244 | B9: 46245 | C9: 46246 | D9: 46247 | E9: 46248 | F9: 46249 | G9: 46250
A10: =IFERROR(INDEX('Holidays'!$B$5:$B$64,MATCH(A9,'Holidays'!$A$5:$A$64,0)),"") | B10: =IFERROR(INDEX('Holidays'!$B$5:$B$64,MATCH(B9,'Holidays'!$A$5:$A$64,0)),"") | C10: =IFERROR(INDEX('Holidays'!$B$5:$B$64,MATCH(C9,'Holidays'!$A$5:$A$64,0)),"") | D10: =IFERROR(INDEX('Holidays'!$B$5:$B$64,MATCH(D9,'Holidays'!$A$5:$A$64,0)),"") | E10: =IFERROR(INDEX('Holidays'!$B$5:$B$64,MATCH(E9,'Holidays'!$A$5:$A$64,0)),"") | F10: =IFERROR(INDEX('Holidays'!$B$5:$B$64,MATCH(F9,'Holidays'!$A$5:$A$64,0)),"") | G10: =IFERROR(INDEX('Holidays'!$B$5:$B$64,MATCH(G9,'Holidays'!$A$5:$A$64,0)),"")
A11: 46251 | B11: 46252 | C11: 46253 | D11: 46254 | E11: 46255 | F11: 46256 | G11: 46257
A12: =IFERROR(INDEX('Holidays'!$B$5:$B$64,MATCH(A11,'Holidays'!$A$5:$A$64,0)),"") | B12: =IFERROR(INDEX('Holidays'!$B$5:$B$64,MATCH(B11,'Holidays'!$A$5:$A$64,0)),"") | C12: =IFERROR(INDEX('Holidays'!$B$5:$B$64,MATCH(C11,'Holidays'!$A$5:$A$64,0)),"") | D12: =IFERROR(INDEX('Holidays'!$B$5:$B$64,MATCH(D11,'Holidays'!$A$5:$A$64,0)),"") | E12: =IFERROR(INDEX('Holidays'!$B$5:$B$64,MATCH(E11,'Holidays'!$A$5:$A$64,0)),"") | F12: =IFERROR(INDEX('Holidays'!$B$5:$B$64,MATCH(F11,'Holidays'!$A$5:$A$64,0)),"") | G12: =IFERROR(INDEX('Holidays'!$B$5:$B$64,MATCH(G11,'Holidays'!$A$5:$A$64,0)),"")
A13: 46258 | B13: 46259 | C13: 46260 | D13: 46261 | E13: 46262 | F13: 46263 | G13: 46264
A14: =IFERROR(INDEX('Holidays'!$B$5:$B$64,MATCH(A13,'Holidays'!$A$5:$A$64,0)),"") | B14: =IFERROR(INDEX('Holidays'!$B$5:$B$64,MATCH(B13,'Holidays'!$A$5:$A$64,0)),"") | C14: =IFERROR(INDEX('Holidays'!$B$5:$B$64,MATCH(C13,'Holidays'!$A$5:$A$64,0)),"") | D14: =IFERROR(INDEX('Holidays'!$B$5:$B$64,MATCH(D13,'Holidays'!$A$5:$A$64,0)),"") | E14: =IFERROR(INDEX('Holidays'!$B$5:$B$64,MATCH(E13,'Holidays'!$A$5:$A$64,0)),"") | F14: =IFERROR(INDEX('Holidays'!$B$5:$B$64,MATCH(F13,'Holidays'!$A$5:$A$64,0)),"") | G14: =IFERROR(INDEX('Holidays'!$B$5:$B$64,MATCH(G13,'Holidays'!$A$5:$A$64,0)),"")
A15: 46265
A16: =IFERROR(INDEX('Holidays'!$B$5:$B$64,MATCH(A15,'Holidays'!$A$5:$A$64,0)),"")

Sheet September 2026
A1: September 2026
A2: Calendar · August 2026 to July 2027
A4: Monday | B4: Tuesday | C4: Wednesday | D4: Thursday | E4: Friday | F4: Saturday | G4: Sunday
B5: 46266 | C5: 46267 | D5: 46268 | E5: 46269 | F5: 46270 | G5: 46271
B6: =IFERROR(INDEX('Holidays'!$B$5:$B$64,MATCH(B5,'Holidays'!$A$5:$A$64,0)),"") | C6: =IFERROR(INDEX('Holidays'!$B$5:$B$64,MATCH(C5,'Holidays'!$A$5:$A$64,0)),"") | D6: =IFERROR(INDEX('Holidays'!$B$5:$B$64,MATCH(D5,'Holidays'!$A$5:$A$64,0)),"") | E6: =IFERROR(INDEX('Holidays'!$B$5:$B$64,MATCH(E5,'Holidays'!$A$5:$A$64,0)),"") | F6: =IFERROR(INDEX('Holidays'!$B$5:$B$64,MATCH(F5,'Holidays'!$A$5:$A$64,0)),"") | G6: =IFERROR(INDEX('Holidays'!$B$5:$B$64,MATCH(G5,'Holidays'!$A$5:$A$64,0)),"")
A7: 46272 | B7: 46273 | C7: 46274 | D7: 46275 | E7: 46276 | F7: 46277 | G7: 46278
A8: =IFERROR(INDEX('Holidays'!$B$5:$B$64,MATCH(A7,'Holidays'!$A$5:$A$64,0)),"") | B8: =IFERROR(INDEX('Holidays'!$B$5:$B$64,MATCH(B7,'Holidays'!$A$5:$A$64,0)),"") | C8: =IFERROR(INDEX('Holidays'!$B$5:$B$64,MATCH(C7,'Holidays'!$A$5:$A$64,0)),"") | D8: =IFERROR(INDEX('Holidays'!$B$5:$B$64,MATCH(D7,'Holidays'!$A$5:$A$64,0)),"") | E8: =IFERROR(INDEX('Holidays'!$B$5:$B$64,MATCH(E7,'Holidays'!$A$5:$A$64,0)),"") | F8: =IFERROR(INDEX('Holidays'!$B$5:$B$64,MATCH(F7,'Holidays'!$A$5:$A$64,0)),"") | G8: =IFERROR(INDEX('Holidays'!$B$5:$B$64,MATCH(G7,'Holidays'!$A$5:$A$64,0)),"")
A9: 46279 | B9: 46280 | C9: 46281 | D9: 46282 | E9: 46283 | F9: 46284 | G9: 46285
A10: =IFERROR(INDEX('Holidays'!$B$5:$B$64,MATCH(A9,'Holidays'!$A$5:$A$64,0)),"") | B10: =IFERROR(INDEX('Holidays'!$B$5:$B$64,MATCH(B9,'Holidays'!$A$5:$A$64,0)),"") | C10: =IFERROR(INDEX('Holidays'!$B$5:$B$64,MATCH(C9,'Holidays'!$A$5:$A$64,0)),"") | D10: =IFERROR(INDEX('Holidays'!$B$5:$B$64,MATCH(D9,'Holidays'!$A$5:$A$64,0)),"") | E10: =IFERROR(INDEX('Holidays'!$B$5:$B$64,MATCH(E9,'Holidays'!$A$5:$A$64,0)),"") | F10: =IFERROR(INDEX('Holidays'!$B$5:$B$64,MATCH(F9,'Holidays'!$A$5:$A$64,0)),"") | G10: =IFERROR(INDEX('Holidays'!$B$5:$B$64,MATCH(G9,'Holidays'!$A$5:$A$64,0)),"")
A11: 46286 | B11: 46287 | C11: 46288 | D11: 46289 | E11: 46290 | F11: 46291 | G11: 46292
A12: =IFERROR(INDEX('Holidays'!$B$5:$B$64,MATCH(A11,'Holidays'!$A$5:$A$64,0)),"") | B12: =IFERROR(INDEX('Holidays'!$B$5:$B$64,MATCH(B11,'Holidays'!$A$5:$A$64,0)),"") | C12: =IFERROR(INDEX('Holidays'!$B$5:$B$64,MATCH(C11,'Holidays'!$A$5:$A$64,0)),"") | D12: =IFERROR(INDEX('Holidays'!$B$5:$B$64,MATCH(D11,'Holidays'!$A$5:$A$64,0)),"") | E12: =IFERROR(INDEX('Holidays'!$B$5:$B$64,MATCH(E11,'Holidays'!$A$5:$A$64,0)),"") | F12: =IFERROR(INDEX('Holidays'!$B$5:$B$64,MATCH(F11,'Holidays'!$A$5:$A$64,0)),"") | G12: =IFERROR(INDEX('Holidays'!$B$5:$B$64,MATCH(G11,'Holidays'!$A$5:$A$64,0)),"")
A13: 46293 | B13: 46294 | C13: 46295
A14: =IFERROR(INDEX('Holidays'!$B$5:$B$64,MATCH(A13,'Holidays'!$A$5:$A$64,0)),"") | B14: =IFERROR(INDEX('Holidays'!$B$5:$B$64,MATCH(B13,'Holidays'!$A$5:$A$64,0)),"") | C14: =IFERROR(INDEX('Holidays'!$B$5:$B$64,MATCH(C13,'Holidays'!$A$5:$A$64,0)),"")

Sheet October 2026
A1: October 2026
A2: Calendar · August 2026 to July 2027
A4: Monday | B4: Tuesday | C4: Wednesday | D4: Thursday | E4: Friday | F4: Saturday | G4: Sunday
D5: 46296 | E5: 46297 | F5: 46298 | G5: 46299
D6: =IFERROR(INDEX('Holidays'!$B$5:$B$64,MATCH(D5,'Holidays'!$A$5:$A$64,0)),"") | E6: =IFERROR(INDEX('Holidays'!$B$5:$B$64,MATCH(E5,'Holidays'!$A$5:$A$64,0)),"") | F6: =IFERROR(INDEX('Holidays'!$B$5:$B$64,MATCH(F5,'Holidays'!$A$5:$A$64,0)),"") | G6: =IFERROR(INDEX('Holidays'!$B$5:$B$64,MATCH(G5,'Holidays'!$A$5:$A$64,0)),"")
A7: 46300 | B7: 46301 | C7: 46302 | D7: 46303 | E7: 46304 | F7: 46305 | G7: 46306
A8: =IFERROR(INDEX('Holidays'!$B$5:$B$64,MATCH(A7,'Holidays'!$A$5:$A$64,0)),"") | B8: =IFERROR(INDEX('Holidays'!$B$5:$B$64,MATCH(B7,'Holidays'!$A$5:$A$64,0)),"") | C8: =IFERROR(INDEX('Holidays'!$B$5:$B$64,MATCH(C7,'Holidays'!$A$5:$A$64,0)),"") | D8: =IFERROR(INDEX('Holidays'!$B$5:$B$64,MATCH(D7,'Holidays'!$A$5:$A$64,0)),"") | E8: =IFERROR(INDEX('Holidays'!$B$5:$B$64,MATCH(E7,'Holidays'!$A$5:$A$64,0)),"") | F8: =IFERROR(INDEX('Holidays'!$B$5:$B$64,MATCH(F7,'Holidays'!$A$5:$A$64,0)),"") | G8: =IFERROR(INDEX('Holidays'!$B$5:$B$64,MATCH(G7,'Holidays'!$A$5:$A$64,0)),"")
A9: 46307 | B9: 46308 | C9: 46309 | D9: 46310 | E9: 46311 | F9: 46312 | G9: 46313
A10: =IFERROR(INDEX('Holidays'!$B$5:$B$64,MATCH(A9,'Holidays'!$A$5:$A$64,0)),"") | B10: =IFERROR(INDEX('Holidays'!$B$5:$B$64,MATCH(B9,'Holidays'!$A$5:$A$64,0)),"") | C10: =IFERROR(INDEX('Holidays'!$B$5:$B$64,MATCH(C9,'Holidays'!$A$5:$A$64,0)),"") | D10: =IFERROR(INDEX('Holidays'!$B$5:$B$64,MATCH(D9,'Holidays'!$A$5:$A$64,0)),"") | E10: =IFERROR(INDEX('Holidays'!$B$5:$B$64,MATCH(E9,'Holidays'!$A$5:$A$64,0)),"") | F10: =IFERROR(INDEX('Holidays'!$B$5:$B$64,MATCH(F9,'Holidays'!$A$5:$A$64,0)),"") | G10: =IFERROR(INDEX('Holidays'!$B$5:$B$64,MATCH(G9,'Holidays'!$A$5:$A$64,0)),"")
A11: 46314 | B11: 46315 | C11: 46316 | D11: 46317 | E11: 46318 | F11: 46319 | G11: 46320
A12: =IFERROR(INDEX('Holidays'!$B$5:$B$64,MATCH(A11,'Holidays'!$A$5:$A$64,0)),"") | B12: =IFERROR(INDEX('Holidays'!$B$5:$B$64,MATCH(B11,'Holidays'!$A$5:$A$64,0)),"") | C12: =IFERROR(INDEX('Holidays'!$B$5:$B$64,MATCH(C11,'Holidays'!$A$5:$A$64,0)),"") | D12: =IFERROR(INDEX('Holidays'!$B$5:$B$64,MATCH(D11,'Holidays'!$A$5:$A$64,0)),"") | E12: =IFERROR(INDEX('Holidays'!$B$5:$B$64,MATCH(E11,'Holidays'!$A$5:$A$64,0)),"") | F12: =IFERROR(INDEX('Holidays'!$B$5:$B$64,MATCH(F11,'Holidays'!$A$5:$A$64,0)),"") | G12: =IFERROR(INDEX('Holidays'!$B$5:$B$64,MATCH(G11,'Holidays'!$A$5:$A$64,0)),"")
A13: 46321 | B13: 46322 | C13: 46323 | D13: 46324 | E13: 46325 | F13: 46326
A14: =IFERROR(INDEX('Holidays'!$B$5:$B$64,MATCH(A13,'Holidays'!$A$5:$A$64,0)),"") | B14: =IFERROR(INDEX('Holidays'!$B$5:$B$64,MATCH(B13,'Holidays'!$A$5:$A$64,0)),"") | C14: =IFERROR(INDEX('Holidays'!$B$5:$B$64,MATCH(C13,'Holidays'!$A$5:$A$64,0)),"") | D14: =IFERROR(INDEX('Holidays'!$B$5:$B$64,MATCH(D13,'Holidays'!$A$5:$A$64,0)),"") | E14: =IFERROR(INDEX('Holidays'!$B$5:$B$64,MATCH(E13,'Holidays'!$A$5:$A$64,0)),"") | F14: =IFERROR(INDEX('Holidays'!$B$5:$B$64,MATCH(F13,'Holidays'!$A$5:$A$64,0)),"")

Sheet November 2026
A1: November 2026
A2: Calendar · August 2026 to July 2027
A4: Monday | B4: Tuesday | C4: Wednesday | D4: Thursday | E4: Friday | F4: Saturday | G4: Sunday
G5: 46327
G6: =IFERROR(INDEX('Holidays'!$B$5:$B$64,MATCH(G5,'Holidays'!$A$5:$A$64,0)),"")
A7: 46328 | B7: 46329 | C7: 46330 | D7: 46331 | E7: 46332 | F7: 46333 | G7: 46334
A8: =IFERROR(INDEX('Holidays'!$B$5:$B$64,MATCH(A7,'Holidays'!$A$5:$A$64,0)),"") | B8: =IFERROR(INDEX('Holidays'!$B$5:$B$64,MATCH(B7,'Holidays'!$A$5:$A$64,0)),"") | C8: =IFERROR(INDEX('Holidays'!$B$5:$B$64,MATCH(C7,'Holidays'!$A$5:$A$64,0)),"") | D8: =IFERROR(INDEX('Holidays'!$B$5:$B$64,MATCH(D7,'Holidays'!$A$5:$A$64,0)),"") | E8: =IFERROR(INDEX('Holidays'!$B$5:$B$64,MATCH(E7,'Holidays'!$A$5:$A$64,0)),"") | F8: =IFERROR(INDEX('Holidays'!$B$5:$B$64,MATCH(F7,'Holidays'!$A$5:$A$64,0)),"") | G8: =IFERROR(INDEX('Holidays'!$B$5:$B$64,MATCH(G7,'Holidays'!$A$5:$A$64,0)),"")
A9: 46335 | B9: 46336 | C9: 46337 | D9: 46338 | E9: 46339 | F9: 46340 | G9: 46341
A10: =IFERROR(INDEX('Holidays'!$B$5:$B$64,MATCH(A9,'Holidays'!$A$5:$A$64,0)),"") | B10: =IFERROR(INDEX('Holidays'!$B$5:$B$64,MATCH(B9,'Holidays'!$A$5:$A$64,0)),"") | C10: =IFERROR(INDEX('Holidays'!$B$5:$B$64,MATCH(C9,'Holidays'!$A$5:$A$64,0)),"") | D10: =IFERROR(INDEX('Holidays'!$B$5:$B$64,MATCH(D9,'Holidays'!$A$5:$A$64,0)),"") | E10: =IFERROR(INDEX('Holidays'!$B$5:$B$64,MATCH(E9,'Holidays'!$A$5:$A$64,0)),"") | F10: =IFERROR(INDEX('Holidays'!$B$5:$B$64,MATCH(F9,'Holidays'!$A$5:$A$64,0)),"") | G10: =IFERROR(INDEX('Holidays'!$B$5:$B$64,MATCH(G9,'Holidays'!$A$5:$A$64,0)),"")
A11: 46342 | B11: 46343 | C11: 46344 | D11: 46345 | E11: 46346 | F11: 46347 | G11: 46348
A12: =IFERROR(INDEX('Holidays'!$B$5:$B$64,MATCH(A11,'Holidays'!$A$5:$A$64,0)),"") | B12: =IFERROR(INDEX('Holidays'!$B$5:$B$64,MATCH(B11,'Holidays'!$A$5:$A$64,0)),"") | C12: =IFERROR(INDEX('Holidays'!$B$5:$B$64,MATCH(C11,'Holidays'!$A$5:$A$64,0)),"") | D12: =IFERROR(INDEX('Holidays'!$B$5:$B$64,MATCH(D11,'Holidays'!$A$5:$A$64,0)),"") | E12: =IFERROR(INDEX('Holidays'!$B$5:$B$64,MATCH(E11,'Holidays'!$A$5:$A$64,0)),"") | F12: =IFERROR(INDEX('Holidays'!$B$5:$B$64,MATCH(F11,'Holidays'!$A$5:$A$64,0)),"") | G12: =IFERROR(INDEX('Holidays'!$B$5:$B$64,MATCH(G11,'Holidays'!$A$5:$A$64,0)),"")
A13: 46349 | B13: 46350 | C13: 46351 | D13: 46352 | E13: 46353 | F13: 46354 | G13: 46355
A14: =IFERROR(INDEX('Holidays'!$B$5:$B$64,MATCH(A13,'Holidays'!$A$5:$A$64,0)),"") | B14: =IFERROR(INDEX('Holidays'!$B$5:$B$64,MATCH(B13,'Holidays'!$A$5:$A$64,0)),"") | C14: =IFERROR(INDEX('Holidays'!$B$5:$B$64,MATCH(C13,'Holidays'!$A$5:$A$64,0)),"") | D14: =IFERROR(INDEX('Holidays'!$B$5:$B$64,MATCH(D13,'Holidays'!$A$5:$A$64,0)),"") | E14: =IFERROR(INDEX('Holidays'!$B$5:$B$64,MATCH(E13,'Holidays'!$A$5:$A$64,0)),"") | F14: =IFERROR(INDEX('Holidays'!$B$5:$B$64,MATCH(F13,'Holidays'!$A$5:$A$64,0)),"") | G14: =IFERROR(INDEX('Holidays'!$B$5:$B$64,MATCH(G13,'Holidays'!$A$5:$A$64,0)),"")
A15: 46356
A16: =IFERROR(INDEX('Holidays'!$B$5:$B$64,MATCH(A15,'Holidays'!$A$5:$A$64,0)),"")

Sheet December 2026
A1: December 2026
A2: Calendar · August 2026 to July 2027
A4: Monday | B4: Tuesday | C4: Wednesday | D4: Thursday | E4: Friday | F4: Saturday | G4: Sunday
B5: 46357 | C5: 46358 | D5: 46359 | E5: 46360 | F5: 46361 | G5: 46362
B6: =IFERROR(INDEX('Holidays'!$B$5:$B$64,MATCH(B5,'Holidays'!$A$5:$A$64,0)),"") | C6: =IFERROR(INDEX('Holidays'!$B$5:$B$64,MATCH(C5,'Holidays'!$A$5:$A$64,0)),"") | D6: =IFERROR(INDEX('Holidays'!$B$5:$B$64,MATCH(D5,'Holidays'!$A$5:$A$64,0)),"") | E6: =IFERROR(INDEX('Holidays'!$B$5:$B$64,MATCH(E5,'Holidays'!$A$5:$A$64,0)),"") | F6: =IFERROR(INDEX('Holidays'!$B$5:$B$64,MATCH(F5,'Holidays'!$A$5:$A$64,0)),"") | G6: =IFERROR(INDEX('Holidays'!$B$5:$B$64,MATCH(G5,'Holidays'!$A$5:$A$64,0)),"")
A7: 46363 | B7: 46364 | C7: 46365 | D7: 46366 | E7: 46367 | F7: 46368 | G7: 46369
A8: =IFERROR(INDEX('Holidays'!$B$5:$B$64,MATCH(A7,'Holidays'!$A$5:$A$64,0)),"") | B8: =IFERROR(INDEX('Holidays'!$B$5:$B$64,MATCH(B7,'Holidays'!$A$5:$A$64,0)),"") | C8: =IFERROR(INDEX('Holidays'!$B$5:$B$64,MATCH(C7,'Holidays'!$A$5:$A$64,0)),"") | D8: =IFERROR(INDEX('Holidays'!$B$5:$B$64,MATCH(D7,'Holidays'!$A$5:$A$64,0)),"") | E8: =IFERROR(INDEX('Holidays'!$B$5:$B$64,MATCH(E7,'Holidays'!$A$5:$A$64,0)),"") | F8: =IFERROR(INDEX('Holidays'!$B$5:$B$64,MATCH(F7,'Holidays'!$A$5:$A$64,0)),"") | G8: =IFERROR(INDEX('Holidays'!$B$5:$B$64,MATCH(G7,'Holidays'!$A$5:$A$64,0)),"")
A9: 46370 | B9: 46371 | C9: 46372 | D9: 46373 | E9: 46374 | F9: 46375 | G9: 46376
A10: =IFERROR(INDEX('Holidays'!$B$5:$B$64,MATCH(A9,'Holidays'!$A$5:$A$64,0)),"") | B10: =IFERROR(INDEX('Holidays'!$B$5:$B$64,MATCH(B9,'Holidays'!$A$5:$A$64,0)),"") | C10: =IFERROR(INDEX('Holidays'!$B$5:$B$64,MATCH(C9,'Holidays'!$A$5:$A$64,0)),"") | D10: =IFERROR(INDEX('Holidays'!$B$5:$B$64,MATCH(D9,'Holidays'!$A$5:$A$64,0)),"") | E10: =IFERROR(INDEX('Holidays'!$B$5:$B$64,MATCH(E9,'Holidays'!$A$5:$A$64,0)),"") | F10: =IFERROR(INDEX('Holidays'!$B$5:$B$64,MATCH(F9,'Holidays'!$A$5:$A$64,0)),"") | G10: =IFERROR(INDEX('Holidays'!$B$5:$B$64,MATCH(G9,'Holidays'!$A$5:$A$64,0)),"")
A11: 46377 | B11: 46378 | C11: 46379 | D11: 46380 | E11: 46381 | F11: 46382 | G11: 46383
A12: =IFERROR(INDEX('Holidays'!$B$5:$B$64,MATCH(A11,'Holidays'!$A$5:$A$64,0)),"") | B12: =IFERROR(INDEX('Holidays'!$B$5:$B$64,MATCH(B11,'Holidays'!$A$5:$A$64,0)),"") | C12: =IFERROR(INDEX('Holidays'!$B$5:$B$64,MATCH(C11,'Holidays'!$A$5:$A$64,0)),"") | D12: =IFERROR(INDEX('Holidays'!$B$5:$B$64,MATCH(D11,'Holidays'!$A$5:$A$64,0)),"") | E12: =IFERROR(INDEX('Holidays'!$B$5:$B$64,MATCH(E11,'Holidays'!$A$5:$A$64,0)),"") | F12: =IFERROR(INDEX('Holidays'!$B$5:$B$64,MATCH(F11,'Holidays'!$A$5:$A$64,0)),"") | G12: =IFERROR(INDEX('Holidays'!$B$5:$B$64,MATCH(G11,'Holidays'!$A$5:$A$64,0)),"")
A13: 46384 | B13: 46385 | C13: 46386 | D13: 46387
A14: =IFERROR(INDEX('Holidays'!$B$5:$B$64,MATCH(A13,'Holidays'!$A$5:$A$64,0)),"") | B14: =IFERROR(INDEX('Holidays'!$B$5:$B$64,MATCH(B13,'Holidays'!$A$5:$A$64,0)),"") | C14: =IFERROR(INDEX('Holidays'!$B$5:$B$64,MATCH(C13,'Holidays'!$A$5:$A$64,0)),"") | D14: =IFERROR(INDEX('Holidays'!$B$5:$B$64,MATCH(D13,'Holidays'!$A$5:$A$64,0)),"")

Sheet January 2027
A1: January 2027
A2: Calendar · August 2026 to July 2027
A4: Monday | B4: Tuesday | C4: Wednesday | D4: Thursday | E4: Friday | F4: Saturday | G4: Sunday
E5: 46388 | F5: 46389 | G5: 46390
E6: =IFERROR(INDEX('Holidays'!$B$5:$B$64,MATCH(E5,'Holidays'!$A$5:$A$64,0)),"") | F6: =IFERROR(INDEX('Holidays'!$B$5:$B$64,MATCH(F5,'Holidays'!$A$5:$A$64,0)),"") | G6: =IFERROR(INDEX('Holidays'!$B$5:$B$64,MATCH(G5,'Holidays'!$A$5:$A$64,0)),"")
A7: 46391 | B7: 46392 | C7: 46393 | D7: 46394 | E7: 46395 | F7: 46396 | G7: 46397
A8: =IFERROR(INDEX('Holidays'!$B$5:$B$64,MATCH(A7,'Holidays'!$A$5:$A$64,0)),"") | B8: =IFERROR(INDEX('Holidays'!$B$5:$B$64,MATCH(B7,'Holidays'!$A$5:$A$64,0)),"") | C8: =IFERROR(INDEX('Holidays'!$B$5:$B$64,MATCH(C7,'Holidays'!$A$5:$A$64,0)),"") | D8: =IFERROR(INDEX('Holidays'!$B$5:$B$64,MATCH(D7,'Holidays'!$A$5:$A$64,0)),"") | E8: =IFERROR(INDEX('Holidays'!$B$5:$B$64,MATCH(E7,'Holidays'!$A$5:$A$64,0)),"") | F8: =IFERROR(INDEX('Holidays'!$B$5:$B$64,MATCH(F7,'Holidays'!$A$5:$A$64,0)),"") | G8: =IFERROR(INDEX('Holidays'!$B$5:$B$64,MATCH(G7,'Holidays'!$A$5:$A$64,0)),"")
A9: 46398 | B9: 46399 | C9: 46400 | D9: 46401 | E9: 46402 | F9: 46403 | G9: 46404
A10: =IFERROR(INDEX('Holidays'!$B$5:$B$64,MATCH(A9,'Holidays'!$A$5:$A$64,0)),"") | B10: =IFERROR(INDEX('Holidays'!$B$5:$B$64,MATCH(B9,'Holidays'!$A$5:$A$64,0)),"") | C10: =IFERROR(INDEX('Holidays'!$B$5:$B$64,MATCH(C9,'Holidays'!$A$5:$A$64,0)),"") | D10: =IFERROR(INDEX('Holidays'!$B$5:$B$64,MATCH(D9,'Holidays'!$A$5:$A$64,0)),"") | E10: =IFERROR(INDEX('Holidays'!$B$5:$B$64,MATCH(E9,'Holidays'!$A$5:$A$64,0)),"") | F10: =IFERROR(INDEX('Holidays'!$B$5:$B$64,MATCH(F9,'Holidays'!$A$5:$A$64,0)),"") | G10: =IFERROR(INDEX('Holidays'!$B$5:$B$64,MATCH(G9,'Holidays'!$A$5:$A$64,0)),"")
A11: 46405 | B11: 46406 | C11: 46407 | D11: 46408 | E11: 46409 | F11: 46410 | G11: 46411
A12: =IFERROR(INDEX('Holidays'!$B$5:$B$64,MATCH(A11,'Holidays'!$A$5:$A$64,0)),"") | B12: =IFERROR(INDEX('Holidays'!$B$5:$B$64,MATCH(B11,'Holidays'!$A$5:$A$64,0)),"") | C12: =IFERROR(INDEX('Holidays'!$B$5:$B$64,MATCH(C11,'Holidays'!$A$5:$A$64,0)),"") | D12: =IFERROR(INDEX('Holidays'!$B$5:$B$64,MATCH(D11,'Holidays'!$A$5:$A$64,0)),"") | E12: =IFERROR(INDEX('Holidays'!$B$5:$B$64,MATCH(E11,'Holidays'!$A$5:$A$64,0)),"") | F12: =IFERROR(INDEX('Holidays'!$B$5:$B$64,MATCH(F11,'Holidays'!$A$5:$A$64,0)),"") | G12: =IFERROR(INDEX('Holidays'!$B$5:$B$64,MATCH(G11,'Holidays'!$A$5:$A$64,0)),"")
A13: 46412 | B13: 46413 | C13: 46414 | D13: 46415 | E13: 46416 | F13: 46417 | G13: 46418
A14: =IFERROR(INDEX('Holidays'!$B$5:$B$64,MATCH(A13,'Holidays'!$A$5:$A$64,0)),"") | B14: =IFERROR(INDEX('Holidays'!$B$5:$B$64,MATCH(B13,'Holidays'!$A$5:$A$64,0)),"") | C14: =IFERROR(INDEX('Holidays'!$B$5:$B$64,MATCH(C13,'Holidays'!$A$5:$A$64,0)),"") | D14: =IFERROR(INDEX('Holidays'!$B$5:$B$64,MATCH(D13,'Holidays'!$A$5:$A$64,0)),"") | E14: =IFERROR(INDEX('Holidays'!$B$5:$B$64,MATCH(E13,'Holidays'!$A$5:$A$64,0)),"") | F14: =IFERROR(INDEX('Holidays'!$B$5:$B$64,MATCH(F13,'Holidays'!$A$5:$A$64,0)),"") | G14: =IFERROR(INDEX('Holidays'!$B$5:$B$64,MATCH(G13,'Holidays'!$A$5:$A$64,0)),"")

Sheet February 2027
A1: February 2027
A2: Calendar · August 2026 to July 2027
A4: Monday | B4: Tuesday | C4: Wednesday | D4: Thursday | E4: Friday | F4: Saturday | G4: Sunday
A5: 46419 | B5: 46420 | C5: 46421 | D5: 46422 | E5: 46423 | F5: 46424 | G5: 46425
A6: =IFERROR(INDEX('Holidays'!$B$5:$B$64,MATCH(A5,'Holidays'!$A$5:$A$64,0)),"") | B6: =IFERROR(INDEX('Holidays'!$B$5:$B$64,MATCH(B5,'Holidays'!$A$5:$A$64,0)),"") | C6: =IFERROR(INDEX('Holidays'!$B$5:$B$64,MATCH(C5,'Holidays'!$A$5:$A$64,0)),"") | D6: =IFERROR(INDEX('Holidays'!$B$5:$B$64,MATCH(D5,'Holidays'!$A$5:$A$64,0)),"") | E6: =IFERROR(INDEX('Holidays'!$B$5:$B$64,MATCH(E5,'Holidays'!$A$5:$A$64,0)),"") | F6: =IFERROR(INDEX('Holidays'!$B$5:$B$64,MATCH(F5,'Holidays'!$A$5:$A$64,0)),"") | G6: =IFERROR(INDEX('Holidays'!$B$5:$B$64,MATCH(G5,'Holidays'!$A$5:$A$64,0)),"")
A7: 46426 | B7: 46427 | C7: 46428 | D7: 46429 | E7: 46430 | F7: 46431 | G7: 46432
A8: =IFERROR(INDEX('Holidays'!$B$5:$B$64,MATCH(A7,'Holidays'!$A$5:$A$64,0)),"") | B8: =IFERROR(INDEX('Holidays'!$B$5:$B$64,MATCH(B7,'Holidays'!$A$5:$A$64,0)),"") | C8: =IFERROR(INDEX('Holidays'!$B$5:$B$64,MATCH(C7,'Holidays'!$A$5:$A$64,0)),"") | D8: =IFERROR(INDEX('Holidays'!$B$5:$B$64,MATCH(D7,'Holidays'!$A$5:$A$64,0)),"") | E8: =IFERROR(INDEX('Holidays'!$B$5:$B$64,MATCH(E7,'Holidays'!$A$5:$A$64,0)),"") | F8: =IFERROR(INDEX('Holidays'!$B$5:$B$64,MATCH(F7,'Holidays'!$A$5:$A$64,0)),"") | G8: =IFERROR(INDEX('Holidays'!$B$5:$B$64,MATCH(G7,'Holidays'!$A$5:$A$64,0)),"")
A9: 46433 | B9: 46434 | C9: 46435 | D9: 46436 | E9: 46437 | F9: 46438 | G9: 46439
A10: =IFERROR(INDEX('Holidays'!$B$5:$B$64,MATCH(A9,'Holidays'!$A$5:$A$64,0)),"") | B10: =IFERROR(INDEX('Holidays'!$B$5:$B$64,MATCH(B9,'Holidays'!$A$5:$A$64,0)),"") | C10: =IFERROR(INDEX('Holidays'!$B$5:$B$64,MATCH(C9,'Holidays'!$A$5:$A$64,0)),"") | D10: =IFERROR(INDEX('Holidays'!$B$5:$B$64,MATCH(D9,'Holidays'!$A$5:$A$64,0)),"") | E10: =IFERROR(INDEX('Holidays'!$B$5:$B$64,MATCH(E9,'Holidays'!$A$5:$A$64,0)),"") | F10: =IFERROR(INDEX('Holidays'!$B$5:$B$64,MATCH(F9,'Holidays'!$A$5:$A$64,0)),"") | G10: =IFERROR(INDEX('Holidays'!$B$5:$B$64,MATCH(G9,'Holidays'!$A$5:$A$64,0)),"")
A11: 46440 | B11: 46441 | C11: 46442 | D11: 46443 | E11: 46444 | F11: 46445 | G11: 46446
A12: =IFERROR(INDEX('Holidays'!$B$5:$B$64,MATCH(A11,'Holidays'!$A$5:$A$64,0)),"") | B12: =IFERROR(INDEX('Holidays'!$B$5:$B$64,MATCH(B11,'Holidays'!$A$5:$A$64,0)),"") | C12: =IFERROR(INDEX('Holidays'!$B$5:$B$64,MATCH(C11,'Holidays'!$A$5:$A$64,0)),"") | D12: =IFERROR(INDEX('Holidays'!$B$5:$B$64,MATCH(D11,'Holidays'!$A$5:$A$64,0)),"") | E12: =IFERROR(INDEX('Holidays'!$B$5:$B$64,MATCH(E11,'Holidays'!$A$5:$A$64,0)),"") | F12: =IFERROR(INDEX('Holidays'!$B$5:$B$64,MATCH(F11,'Holidays'!$A$5:$A$64,0)),"") | G12: =IFERROR(INDEX('Holidays'!$B$5:$B$64,MATCH(G11,'Holidays'!$A$5:$A$64,0)),"")

Sheet March 2027
A1: March 2027
A2: Calendar · August 2026 to July 2027
A4: Monday | B4: Tuesday | C4: Wednesday | D4: Thursday | E4: Friday | F4: Saturday | G4: Sunday
A5: 46447 | B5: 46448 | C5: 46449 | D5: 46450 | E5: 46451 | F5: 46452 | G5: 46453
A6: =IFERROR(INDEX('Holidays'!$B$5:$B$64,MATCH(A5,'Holidays'!$A$5:$A$64,0)),"") | B6: =IFERROR(INDEX('Holidays'!$B$5:$B$64,MATCH(B5,'Holidays'!$A$5:$A$64,0)),"") | C6: =IFERROR(INDEX('Holidays'!$B$5:$B$64,MATCH(C5,'Holidays'!$A$5:$A$64,0)),"") | D6: =IFERROR(INDEX('Holidays'!$B$5:$B$64,MATCH(D5,'Holidays'!$A$5:$A$64,0)),"") | E6: =IFERROR(INDEX('Holidays'!$B$5:$B$64,MATCH(E5,'Holidays'!$A$5:$A$64,0)),"") | F6: =IFERROR(INDEX('Holidays'!$B$5:$B$64,MATCH(F5,'Holidays'!$A$5:$A$64,0)),"") | G6: =IFERROR(INDEX('Holidays'!$B$5:$B$64,MATCH(G5,'Holidays'!$A$5:$A$64,0)),"")
A7: 46454 | B7: 46455 | C7: 46456 | D7: 46457 | E7: 46458 | F7: 46459 | G7: 46460
A8: =IFERROR(INDEX('Holidays'!$B$5:$B$64,MATCH(A7,'Holidays'!$A$5:$A$64,0)),"") | B8: =IFERROR(INDEX('Holidays'!$B$5:$B$64,MATCH(B7,'Holidays'!$A$5:$A$64,0)),"") | C8: =IFERROR(INDEX('Holidays'!$B$5:$B$64,MATCH(C7,'Holidays'!$A$5:$A$64,0)),"") | D8: =IFERROR(INDEX('Holidays'!$B$5:$B$64,MATCH(D7,'Holidays'!$A$5:$A$64,0)),"") | E8: =IFERROR(INDEX('Holidays'!$B$5:$B$64,MATCH(E7,'Holidays'!$A$5:$A$64,0)),"") | F8: =IFERROR(INDEX('Holidays'!$B$5:$B$64,MATCH(F7,'Holidays'!$A$5:$A$64,0)),"") | G8: =IFERROR(INDEX('Holidays'!$B$5:$B$64,MATCH(G7,'Holidays'!$A$5:$A$64,0)),"")
A9: 46461 | B9: 46462 | C9: 46463 | D9: 46464 | E9: 46465 | F9: 46466 | G9: 46467
A10: =IFERROR(INDEX('Holidays'!$B$5:$B$64,MATCH(A9,'Holidays'!$A$5:$A$64,0)),"") | B10: =IFERROR(INDEX('Holidays'!$B$5:$B$64,MATCH(B9,'Holidays'!$A$5:$A$64,0)),"") | C10: =IFERROR(INDEX('Holidays'!$B$5:$B$64,MATCH(C9,'Holidays'!$A$5:$A$64,0)),"") | D10: =IFERROR(INDEX('Holidays'!$B$5:$B$64,MATCH(D9,'Holidays'!$A$5:$A$64,0)),"") | E10: =IFERROR(INDEX('Holidays'!$B$5:$B$64,MATCH(E9,'Holidays'!$A$5:$A$64,0)),"") | F10: =IFERROR(INDEX('Holidays'!$B$5:$B$64,MATCH(F9,'Holidays'!$A$5:$A$64,0)),"") | G10: =IFERROR(INDEX('Holidays'!$B$5:$B$64,MATCH(G9,'Holidays'!$A$5:$A$64,0)),"")
A11: 46468 | B11: 46469 | C11: 46470 | D11: 46471 | E11: 46472 | F11: 46473 | G11: 46474
A12: =IFERROR(INDEX('Holidays'!$B$5:$B$64,MATCH(A11,'Holidays'!$A$5:$A$64,0)),"") | B12: =IFERROR(INDEX('Holidays'!$B$5:$B$64,MATCH(B11,'Holidays'!$A$5:$A$64,0)),"") | C12: =IFERROR(INDEX('Holidays'!$B$5:$B$64,MATCH(C11,'Holidays'!$A$5:$A$64,0)),"") | D12: =IFERROR(INDEX('Holidays'!$B$5:$B$64,MATCH(D11,'Holidays'!$A$5:$A$64,0)),"") | E12: =IFERROR(INDEX('Holidays'!$B$5:$B$64,MATCH(E11,'Holidays'!$A$5:$A$64,0)),"") | F12: =IFERROR(INDEX('Holidays'!$B$5:$B$64,MATCH(F11,'Holidays'!$A$5:$A$64,0)),"") | G12: =IFERROR(INDEX('Holidays'!$B$5:$B$64,MATCH(G11,'Holidays'!$A$5:$A$64,0)),"")
A13: 46475 | B13: 46476 | C13: 46477
A14: =IFERROR(INDEX('Holidays'!$B$5:$B$64,MATCH(A13,'Holidays'!$A$5:$A$64,0)),"") | B14: =IFERROR(INDEX('Holidays'!$B$5:$B$64,MATCH(B13,'Holidays'!$A$5:$A$64,0)),"") | C14: =IFERROR(INDEX('Holidays'!$B$5:$B$64,MATCH(C13,'Holidays'!$A$5:$A$64,0)),"")

Sheet April 2027
A1: April 2027
A2: Calendar · August 2026 to July 2027
A4: Monday | B4: Tuesday | C4: Wednesday | D4: Thursday | E4: Friday | F4: Saturday | G4: Sunday
D5: 46478 | E5: 46479 | F5: 46480 | G5: 46481
D6: =IFERROR(INDEX('Holidays'!$B$5:$B$64,MATCH(D5,'Holidays'!$A$5:$A$64,0)),"") | E6: =IFERROR(INDEX('Holidays'!$B$5:$B$64,MATCH(E5,'Holidays'!$A$5:$A$64,0)),"") | F6: =IFERROR(INDEX('Holidays'!$B$5:$B$64,MATCH(F5,'Holidays'!$A$5:$A$64,0)),"") | G6: =IFERROR(INDEX('Holidays'!$B$5:$B$64,MATCH(G5,'Holidays'!$A$5:$A$64,0)),"")
A7: 46482 | B7: 46483 | C7: 46484 | D7: 46485 | E7: 46486 | F7: 46487 | G7: 46488
A8: =IFERROR(INDEX('Holidays'!$B$5:$B$64,MATCH(A7,'Holidays'!$A$5:$A$64,0)),"") | B8: =IFERROR(INDEX('Holidays'!$B$5:$B$64,MATCH(B7,'Holidays'!$A$5:$A$64,0)),"") | C8: =IFERROR(INDEX('Holidays'!$B$5:$B$64,MATCH(C7,'Holidays'!$A$5:$A$64,0)),"") | D8: =IFERROR(INDEX('Holidays'!$B$5:$B$64,MATCH(D7,'Holidays'!$A$5:$A$64,0)),"") | E8: =IFERROR(INDEX('Holidays'!$B$5:$B$64,MATCH(E7,'Holidays'!$A$5:$A$64,0)),"") | F8: =IFERROR(INDEX('Holidays'!$B$5:$B$64,MATCH(F7,'Holidays'!$A$5:$A$64,0)),"") | G8: =IFERROR(INDEX('Holidays'!$B$5:$B$64,MATCH(G7,'Holidays'!$A$5:$A$64,0)),"")
A9: 46489 | B9: 46490 | C9: 46491 | D9: 46492 | E9: 46493 | F9: 46494 | G9: 46495
A10: =IFERROR(INDEX('Holidays'!$B$5:$B$64,MATCH(A9,'Holidays'!$A$5:$A$64,0)),"") | B10: =IFERROR(INDEX('Holidays'!$B$5:$B$64,MATCH(B9,'Holidays'!$A$5:$A$64,0)),"") | C10: =IFERROR(INDEX('Holidays'!$B$5:$B$64,MATCH(C9,'Holidays'!$A$5:$A$64,0)),"") | D10: =IFERROR(INDEX('Holidays'!$B$5:$B$64,MATCH(D9,'Holidays'!$A$5:$A$64,0)),"") | E10: =IFERROR(INDEX('Holidays'!$B$5:$B$64,MATCH(E9,'Holidays'!$A$5:$A$64,0)),"") | F10: =IFERROR(INDEX('Holidays'!$B$5:$B$64,MATCH(F9,'Holidays'!$A$5:$A$64,0)),"") | G10: =IFERROR(INDEX('Holidays'!$B$5:$B$64,MATCH(G9,'Holidays'!$A$5:$A$64,0)),"")
A11: 46496 | B11: 46497 | C11: 46498 | D11: 46499 | E11: 46500 | F11: 46501 | G11: 46502
A12: =IFERROR(INDEX('Holidays'!$B$5:$B$64,MATCH(A11,'Holidays'!$A$5:$A$64,0)),"") | B12: =IFERROR(INDEX('Holidays'!$B$5:$B$64,MATCH(B11,'Holidays'!$A$5:$A$64,0)),"") | C12: =IFERROR(INDEX('Holidays'!$B$5:$B$64,MATCH(C11,'Holidays'!$A$5:$A$64,0)),"") | D12: =IFERROR(INDEX('Holidays'!$B$5:$B$64,MATCH(D11,'Holidays'!$A$5:$A$64,0)),"") | E12: =IFERROR(INDEX('Holidays'!$B$5:$B$64,MATCH(E11,'Holidays'!$A$5:$A$64,0)),"") | F12: =IFERROR(INDEX('Holidays'!$B$5:$B$64,MATCH(F11,'Holidays'!$A$5:$A$64,0)),"") | G12: =IFERROR(INDEX('Holidays'!$B$5:$B$64,MATCH(G11,'Holidays'!$A$5:$A$64,0)),"")
A13: 46503 | B13: 46504 | C13: 46505 | D13: 46506 | E13: 46507
A14: =IFERROR(INDEX('Holidays'!$B$5:$B$64,MATCH(A13,'Holidays'!$A$5:$A$64,0)),"") | B14: =IFERROR(INDEX('Holidays'!$B$5:$B$64,MATCH(B13,'Holidays'!$A$5:$A$64,0)),"") | C14: =IFERROR(INDEX('Holidays'!$B$5:$B$64,MATCH(C13,'Holidays'!$A$5:$A$64,0)),"") | D14: =IFERROR(INDEX('Holidays'!$B$5:$B$64,MATCH(D13,'Holidays'!$A$5:$A$64,0)),"") | E14: =IFERROR(INDEX('Holidays'!$B$5:$B$64,MATCH(E13,'Holidays'!$A$5:$A$64,0)),"")

Sheet May 2027
A1: May 2027
A2: Calendar · August 2026 to July 2027
A4: Monday | B4: Tuesday | C4: Wednesday | D4: Thursday | E4: Friday | F4: Saturday | G4: Sunday
F5: 46508 | G5: 46509
F6: =IFERROR(INDEX('Holidays'!$B$5:$B$64,MATCH(F5,'Holidays'!$A$5:$A$64,0)),"") | G6: =IFERROR(INDEX('Holidays'!$B$5:$B$64,MATCH(G5,'Holidays'!$A$5:$A$64,0)),"")
A7: 46510 | B7: 46511 | C7: 46512 | D7: 46513 | E7: 46514 | F7: 46515 | G7: 46516
A8: =IFERROR(INDEX('Holidays'!$B$5:$B$64,MATCH(A7,'Holidays'!$A$5:$A$64,0)),"") | B8: =IFERROR(INDEX('Holidays'!$B$5:$B$64,MATCH(B7,'Holidays'!$A$5:$A$64,0)),"") | C8: =IFERROR(INDEX('Holidays'!$B$5:$B$64,MATCH(C7,'Holidays'!$A$5:$A$64,0)),"") | D8: =IFERROR(INDEX('Holidays'!$B$5:$B$64,MATCH(D7,'Holidays'!$A$5:$A$64,0)),"") | E8: =IFERROR(INDEX('Holidays'!$B$5:$B$64,MATCH(E7,'Holidays'!$A$5:$A$64,0)),"") | F8: =IFERROR(INDEX('Holidays'!$B$5:$B$64,MATCH(F7,'Holidays'!$A$5:$A$64,0)),"") | G8: =IFERROR(INDEX('Holidays'!$B$5:$B$64,MATCH(G7,'Holidays'!$A$5:$A$64,0)),"")
A9: 46517 | B9: 46518 | C9: 46519 | D9: 46520 | E9: 46521 | F9: 46522 | G9: 46523
A10: =IFERROR(INDEX('Holidays'!$B$5:$B$64,MATCH(A9,'Holidays'!$A$5:$A$64,0)),"") | B10: =IFERROR(INDEX('Holidays'!$B$5:$B$64,MATCH(B9,'Holidays'!$A$5:$A$64,0)),"") | C10: =IFERROR(INDEX('Holidays'!$B$5:$B$64,MATCH(C9,'Holidays'!$A$5:$A$64,0)),"") | D10: =IFERROR(INDEX('Holidays'!$B$5:$B$64,MATCH(D9,'Holidays'!$A$5:$A$64,0)),"") | E10: =IFERROR(INDEX('Holidays'!$B$5:$B$64,MATCH(E9,'Holidays'!$A$5:$A$64,0)),"") | F10: =IFERROR(INDEX('Holidays'!$B$5:$B$64,MATCH(F9,'Holidays'!$A$5:$A$64,0)),"") | G10: =IFERROR(INDEX('Holidays'!$B$5:$B$64,MATCH(G9,'Holidays'!$A$5:$A$64,0)),"")
A11: 46524 | B11: 46525 | C11: 46526 | D11: 46527 | E11: 46528 | F11: 46529 | G11: 46530
A12: =IFERROR(INDEX('Holidays'!$B$5:$B$64,MATCH(A11,'Holidays'!$A$5:$A$64,0)),"") | B12: =IFERROR(INDEX('Holidays'!$B$5:$B$64,MATCH(B11,'Holidays'!$A$5:$A$64,0)),"") | C12: =IFERROR(INDEX('Holidays'!$B$5:$B$64,MATCH(C11,'Holidays'!$A$5:$A$64,0)),"") | D12: =IFERROR(INDEX('Holidays'!$B$5:$B$64,MATCH(D11,'Holidays'!$A$5:$A$64,0)),"") | E12: =IFERROR(INDEX('Holidays'!$B$5:$B$64,MATCH(E11,'Holidays'!$A$5:$A$64,0)),"") | F12: =IFERROR(INDEX('Holidays'!$B$5:$B$64,MATCH(F11,'Holidays'!$A$5:$A$64,0)),"") | G12: =IFERROR(INDEX('Holidays'!$B$5:$B$64,MATCH(G11,'Holidays'!$A$5:$A$64,0)),"")
A13: 46531 | B13: 46532 | C13: 46533 | D13: 46534 | E13: 46535 | F13: 46536 | G13: 46537
A14: =IFERROR(INDEX('Holidays'!$B$5:$B$64,MATCH(A13,'Holidays'!$A$5:$A$64,0)),"") | B14: =IFERROR(INDEX('Holidays'!$B$5:$B$64,MATCH(B13,'Holidays'!$A$5:$A$64,0)),"") | C14: =IFERROR(INDEX('Holidays'!$B$5:$B$64,MATCH(C13,'Holidays'!$A$5:$A$64,0)),"") | D14: =IFERROR(INDEX('Holidays'!$B$5:$B$64,MATCH(D13,'Holidays'!$A$5:$A$64,0)),"") | E14: =IFERROR(INDEX('Holidays'!$B$5:$B$64,MATCH(E13,'Holidays'!$A$5:$A$64,0)),"") | F14: =IFERROR(INDEX('Holidays'!$B$5:$B$64,MATCH(F13,'Holidays'!$A$5:$A$64,0)),"") | G14: =IFERROR(INDEX('Holidays'!$B$5:$B$64,MATCH(G13,'Holidays'!$A$5:$A$64,0)),"")
A15: 46538
A16: =IFERROR(INDEX('Holidays'!$B$5:$B$64,MATCH(A15,'Holidays'!$A$5:$A$64,0)),"")

Sheet June 2027
A1: June 2027
A2: Calendar · August 2026 to July 2027
A4: Monday | B4: Tuesday | C4: Wednesday | D4: Thursday | E4: Friday | F4: Saturday | G4: Sunday
B5: 46539 | C5: 46540 | D5: 46541 | E5: 46542 | F5: 46543 | G5: 46544
B6: =IFERROR(INDEX('Holidays'!$B$5:$B$64,MATCH(B5,'Holidays'!$A$5:$A$64,0)),"") | C6: =IFERROR(INDEX('Holidays'!$B$5:$B$64,MATCH(C5,'Holidays'!$A$5:$A$64,0)),"") | D6: =IFERROR(INDEX('Holidays'!$B$5:$B$64,MATCH(D5,'Holidays'!$A$5:$A$64,0)),"") | E6: =IFERROR(INDEX('Holidays'!$B$5:$B$64,MATCH(E5,'Holidays'!$A$5:$A$64,0)),"") | F6: =IFERROR(INDEX('Holidays'!$B$5:$B$64,MATCH(F5,'Holidays'!$A$5:$A$64,0)),"") | G6: =IFERROR(INDEX('Holidays'!$B$5:$B$64,MATCH(G5,'Holidays'!$A$5:$A$64,0)),"")
A7: 46545 | B7: 46546 | C7: 46547 | D7: 46548 | E7: 46549 | F7: 46550 | G7: 46551
A8: =IFERROR(INDEX('Holidays'!$B$5:$B$64,MATCH(A7,'Holidays'!$A$5:$A$64,0)),"") | B8: =IFERROR(INDEX('Holidays'!$B$5:$B$64,MATCH(B7,'Holidays'!$A$5:$A$64,0)),"") | C8: =IFERROR(INDEX('Holidays'!$B$5:$B$64,MATCH(C7,'Holidays'!$A$5:$A$64,0)),"") | D8: =IFERROR(INDEX('Holidays'!$B$5:$B$64,MATCH(D7,'Holidays'!$A$5:$A$64,0)),"") | E8: =IFERROR(INDEX('Holidays'!$B$5:$B$64,MATCH(E7,'Holidays'!$A$5:$A$64,0)),"") | F8: =IFERROR(INDEX('Holidays'!$B$5:$B$64,MATCH(F7,'Holidays'!$A$5:$A$64,0)),"") | G8: =IFERROR(INDEX('Holidays'!$B$5:$B$64,MATCH(G7,'Holidays'!$A$5:$A$64,0)),"")
A9: 46552 | B9: 46553 | C9: 46554 | D9: 46555 | E9: 46556 | F9: 46557 | G9: 46558
A10: =IFERROR(INDEX('Holidays'!$B$5:$B$64,MATCH(A9,'Holidays'!$A$5:$A$64,0)),"") | B10: =IFERROR(INDEX('Holidays'!$B$5:$B$64,MATCH(B9,'Holidays'!$A$5:$A$64,0)),"") | C10: =IFERROR(INDEX('Holidays'!$B$5:$B$64,MATCH(C9,'Holidays'!$A$5:$A$64,0)),"") | D10: =IFERROR(INDEX('Holidays'!$B$5:$B$64,MATCH(D9,'Holidays'!$A$5:$A$64,0)),"") | E10: =IFERROR(INDEX('Holidays'!$B$5:$B$64,MATCH(E9,'Holidays'!$A$5:$A$64,0)),"") | F10: =IFERROR(INDEX('Holidays'!$B$5:$B$64,MATCH(F9,'Holidays'!$A$5:$A$64,0)),"") | G10: =IFERROR(INDEX('Holidays'!$B$5:$B$64,MATCH(G9,'Holidays'!$A$5:$A$64,0)),"")
A11: 46559 | B11: 46560 | C11: 46561 | D11: 46562 | E11: 46563 | F11: 46564 | G11: 46565
A12: =IFERROR(INDEX('Holidays'!$B$5:$B$64,MATCH(A11,'Holidays'!$A$5:$A$64,0)),"") | B12: =IFERROR(INDEX('Holidays'!$B$5:$B$64,MATCH(B11,'Holidays'!$A$5:$A$64,0)),"") | C12: =IFERROR(INDEX('Holidays'!$B$5:$B$64,MATCH(C11,'Holidays'!$A$5:$A$64,0)),"") | D12: =IFERROR(INDEX('Holidays'!$B$5:$B$64,MATCH(D11,'Holidays'!$A$5:$A$64,0)),"") | E12: =IFERROR(INDEX('Holidays'!$B$5:$B$64,MATCH(E11,'Holidays'!$A$5:$A$64,0)),"") | F12: =IFERROR(INDEX('Holidays'!$B$5:$B$64,MATCH(F11,'Holidays'!$A$5:$A$64,0)),"") | G12: =IFERROR(INDEX('Holidays'!$B$5:$B$64,MATCH(G11,'Holidays'!$A$5:$A$64,0)),"")
A13: 46566 | B13: 46567 | C13: 46568
A14: =IFERROR(INDEX('Holidays'!$B$5:$B$64,MATCH(A13,'Holidays'!$A$5:$A$64,0)),"") | B14: =IFERROR(INDEX('Holidays'!$B$5:$B$64,MATCH(B13,'Holidays'!$A$5:$A$64,0)),"") | C14: =IFERROR(INDEX('Holidays'!$B$5:$B$64,MATCH(C13,'Holidays'!$A$5:$A$64,0)),"")

Sheet July 2027
A1: July 2027
A2: Calendar · August 2026 to July 2027
A4: Monday | B4: Tuesday | C4: Wednesday | D4: Thursday | E4: Friday | F4: Saturday | G4: Sunday
D5: 46569 | E5: 46570 | F5: 46571 | G5: 46572
D6: =IFERROR(INDEX('Holidays'!$B$5:$B$64,MATCH(D5,'Holidays'!$A$5:$A$64,0)),"") | E6: =IFERROR(INDEX('Holidays'!$B$5:$B$64,MATCH(E5,'Holidays'!$A$5:$A$64,0)),"") | F6: =IFERROR(INDEX('Holidays'!$B$5:$B$64,MATCH(F5,'Holidays'!$A$5:$A$64,0)),"") | G6: =IFERROR(INDEX('Holidays'!$B$5:$B$64,MATCH(G5,'Holidays'!$A$5:$A$64,0)),"")
A7: 46573 | B7: 46574 | C7: 46575 | D7: 46576 | E7: 46577 | F7: 46578 | G7: 46579
A8: =IFERROR(INDEX('Holidays'!$B$5:$B$64,MATCH(A7,'Holidays'!$A$5:$A$64,0)),"") | B8: =IFERROR(INDEX('Holidays'!$B$5:$B$64,MATCH(B7,'Holidays'!$A$5:$A$64,0)),"") | C8: =IFERROR(INDEX('Holidays'!$B$5:$B$64,MATCH(C7,'Holidays'!$A$5:$A$64,0)),"") | D8: =IFERROR(INDEX('Holidays'!$B$5:$B$64,MATCH(D7,'Holidays'!$A$5:$A$64,0)),"") | E8: =IFERROR(INDEX('Holidays'!$B$5:$B$64,MATCH(E7,'Holidays'!$A$5:$A$64,0)),"") | F8: =IFERROR(INDEX('Holidays'!$B$5:$B$64,MATCH(F7,'Holidays'!$A$5:$A$64,0)),"") | G8: =IFERROR(INDEX('Holidays'!$B$5:$B$64,MATCH(G7,'Holidays'!$A$5:$A$64,0)),"")
A9: 46580 | B9: 46581 | C9: 46582 | D9: 46583 | E9: 46584 | F9: 46585 | G9: 46586
A10: =IFERROR(INDEX('Holidays'!$B$5:$B$64,MATCH(A9,'Holidays'!$A$5:$A$64,0)),"") | B10: =IFERROR(INDEX('Holidays'!$B$5:$B$64,MATCH(B9,'Holidays'!$A$5:$A$64,0)),"") | C10: =IFERROR(INDEX('Holidays'!$B$5:$B$64,MATCH(C9,'Holidays'!$A$5:$A$64,0)),"") | D10: =IFERROR(INDEX('Holidays'!$B$5:$B$64,MATCH(D9,'Holidays'!$A$5:$A$64,0)),"") | E10: =IFERROR(INDEX('Holidays'!$B$5:$B$64,MATCH(E9,'Holidays'!$A$5:$A$64,0)),"") | F10: =IFERROR(INDEX('Holidays'!$B$5:$B$64,MATCH(F9,'Holidays'!$A$5:$A$64,0)),"") | G10: =IFERROR(INDEX('Holidays'!$B$5:$B$64,MATCH(G9,'Holidays'!$A$5:$A$64,0)),"")
A11: 46587 | B11: 46588 | C11: 46589 | D11: 46590 | E11: 46591 | F11: 46592 | G11: 46593
A12: =IFERROR(INDEX('Holidays'!$B$5:$B$64,MATCH(A11,'Holidays'!$A$5:$A$64,0)),"") | B12: =IFERROR(INDEX('Holidays'!$B$5:$B$64,MATCH(B11,'Holidays'!$A$5:$A$64,0)),"") | C12: =IFERROR(INDEX('Holidays'!$B$5:$B$64,MATCH(C11,'Holidays'!$A$5:$A$64,0)),"") | D12: =IFERROR(INDEX('Holidays'!$B$5:$B$64,MATCH(D11,'Holidays'!$A$5:$A$64,0)),"") | E12: =IFERROR(INDEX('Holidays'!$B$5:$B$64,MATCH(E11,'Holidays'!$A$5:$A$64,0)),"") | F12: =IFERROR(INDEX('Holidays'!$B$5:$B$64,MATCH(F11,'Holidays'!$A$5:$A$64,0)),"") | G12: =IFERROR(INDEX('Holidays'!$B$5:$B$64,MATCH(G11,'Holidays'!$A$5:$A$64,0)),"")
A13: 46594 | B13: 46595 | C13: 46596 | D13: 46597 | E13: 46598 | F13: 46599
A14: =IFERROR(INDEX('Holidays'!$B$5:$B$64,MATCH(A13,'Holidays'!$A$5:$A$64,0)),"") | B14: =IFERROR(INDEX('Holidays'!$B$5:$B$64,MATCH(B13,'Holidays'!$A$5:$A$64,0)),"") | C14: =IFERROR(INDEX('Holidays'!$B$5:$B$64,MATCH(C13,'Holidays'!$A$5:$A$64,0)),"") | D14: =IFERROR(INDEX('Holidays'!$B$5:$B$64,MATCH(D13,'Holidays'!$A$5:$A$64,0)),"") | E14: =IFERROR(INDEX('Holidays'!$B$5:$B$64,MATCH(E13,'Holidays'!$A$5:$A$64,0)),"") | F14: =IFERROR(INDEX('Holidays'!$B$5:$B$64,MATCH(F13,'Holidays'!$A$5:$A$64,0)),"")

Sheet Holidays
A1: Holidays
A2: Calendar · August 2026 to July 2027
A4: Date | B4: Holiday
