Workbook

Sheet Agosto 2026
A1: Agosto 2026
A2: México · educación básica SEP
A4: Domingo | B4: Lunes | C4: Martes | D4: Miércoles | E4: Jueves | F4: Viernes | G4: Sábado
G5: 46235
G6: =IFERROR(INDEX('Fechas escolares'!$B$5:$B$64,MATCH(G5,'Fechas escolares'!$A$5:$A$64,0)),"")
A7: 46236 | B7: 46237 | C7: 46238 | D7: 46239 | E7: 46240 | F7: 46241 | G7: 46242
A8: =IFERROR(INDEX('Fechas escolares'!$B$5:$B$64,MATCH(A7,'Fechas escolares'!$A$5:$A$64,0)),"") | B8: =IFERROR(INDEX('Fechas escolares'!$B$5:$B$64,MATCH(B7,'Fechas escolares'!$A$5:$A$64,0)),"") | C8: =IFERROR(INDEX('Fechas escolares'!$B$5:$B$64,MATCH(C7,'Fechas escolares'!$A$5:$A$64,0)),"") | D8: =IFERROR(INDEX('Fechas escolares'!$B$5:$B$64,MATCH(D7,'Fechas escolares'!$A$5:$A$64,0)),"") | E8: =IFERROR(INDEX('Fechas escolares'!$B$5:$B$64,MATCH(E7,'Fechas escolares'!$A$5:$A$64,0)),"") | F8: =IFERROR(INDEX('Fechas escolares'!$B$5:$B$64,MATCH(F7,'Fechas escolares'!$A$5:$A$64,0)),"") | G8: =IFERROR(INDEX('Fechas escolares'!$B$5:$B$64,MATCH(G7,'Fechas escolares'!$A$5:$A$64,0)),"")
A9: 46243 | B9: 46244 | C9: 46245 | D9: 46246 | E9: 46247 | F9: 46248 | G9: 46249
A10: =IFERROR(INDEX('Fechas escolares'!$B$5:$B$64,MATCH(A9,'Fechas escolares'!$A$5:$A$64,0)),"") | B10: =IFERROR(INDEX('Fechas escolares'!$B$5:$B$64,MATCH(B9,'Fechas escolares'!$A$5:$A$64,0)),"") | C10: =IFERROR(INDEX('Fechas escolares'!$B$5:$B$64,MATCH(C9,'Fechas escolares'!$A$5:$A$64,0)),"") | D10: =IFERROR(INDEX('Fechas escolares'!$B$5:$B$64,MATCH(D9,'Fechas escolares'!$A$5:$A$64,0)),"") | E10: =IFERROR(INDEX('Fechas escolares'!$B$5:$B$64,MATCH(E9,'Fechas escolares'!$A$5:$A$64,0)),"") | F10: =IFERROR(INDEX('Fechas escolares'!$B$5:$B$64,MATCH(F9,'Fechas escolares'!$A$5:$A$64,0)),"") | G10: =IFERROR(INDEX('Fechas escolares'!$B$5:$B$64,MATCH(G9,'Fechas escolares'!$A$5:$A$64,0)),"")
A11: 46250 | B11: 46251 | C11: 46252 | D11: 46253 | E11: 46254 | F11: 46255 | G11: 46256
A12: =IFERROR(INDEX('Fechas escolares'!$B$5:$B$64,MATCH(A11,'Fechas escolares'!$A$5:$A$64,0)),"") | B12: =IFERROR(INDEX('Fechas escolares'!$B$5:$B$64,MATCH(B11,'Fechas escolares'!$A$5:$A$64,0)),"") | C12: =IFERROR(INDEX('Fechas escolares'!$B$5:$B$64,MATCH(C11,'Fechas escolares'!$A$5:$A$64,0)),"") | D12: =IFERROR(INDEX('Fechas escolares'!$B$5:$B$64,MATCH(D11,'Fechas escolares'!$A$5:$A$64,0)),"") | E12: =IFERROR(INDEX('Fechas escolares'!$B$5:$B$64,MATCH(E11,'Fechas escolares'!$A$5:$A$64,0)),"") | F12: =IFERROR(INDEX('Fechas escolares'!$B$5:$B$64,MATCH(F11,'Fechas escolares'!$A$5:$A$64,0)),"") | G12: =IFERROR(INDEX('Fechas escolares'!$B$5:$B$64,MATCH(G11,'Fechas escolares'!$A$5:$A$64,0)),"")
A13: 46257 | B13: 46258 | C13: 46259 | D13: 46260 | E13: 46261 | F13: 46262 | G13: 46263
A14: =IFERROR(INDEX('Fechas escolares'!$B$5:$B$64,MATCH(A13,'Fechas escolares'!$A$5:$A$64,0)),"") | B14: =IFERROR(INDEX('Fechas escolares'!$B$5:$B$64,MATCH(B13,'Fechas escolares'!$A$5:$A$64,0)),"") | C14: =IFERROR(INDEX('Fechas escolares'!$B$5:$B$64,MATCH(C13,'Fechas escolares'!$A$5:$A$64,0)),"") | D14: =IFERROR(INDEX('Fechas escolares'!$B$5:$B$64,MATCH(D13,'Fechas escolares'!$A$5:$A$64,0)),"") | E14: =IFERROR(INDEX('Fechas escolares'!$B$5:$B$64,MATCH(E13,'Fechas escolares'!$A$5:$A$64,0)),"") | F14: =IFERROR(INDEX('Fechas escolares'!$B$5:$B$64,MATCH(F13,'Fechas escolares'!$A$5:$A$64,0)),"") | G14: =IFERROR(INDEX('Fechas escolares'!$B$5:$B$64,MATCH(G13,'Fechas escolares'!$A$5:$A$64,0)),"")
A15: 46264 | B15: 46265
A16: =IFERROR(INDEX('Fechas escolares'!$B$5:$B$64,MATCH(A15,'Fechas escolares'!$A$5:$A$64,0)),"") | B16: =IFERROR(INDEX('Fechas escolares'!$B$5:$B$64,MATCH(B15,'Fechas escolares'!$A$5:$A$64,0)),"") -> Inicio de clases

Sheet Septiembre 2026
A1: Septiembre 2026
A2: México · educación básica SEP
A4: Domingo | B4: Lunes | C4: Martes | D4: Miércoles | E4: Jueves | F4: Viernes | G4: Sábado
C5: 46266 | D5: 46267 | E5: 46268 | F5: 46269 | G5: 46270
C6: =IFERROR(INDEX('Fechas escolares'!$B$5:$B$64,MATCH(C5,'Fechas escolares'!$A$5:$A$64,0)),"") | D6: =IFERROR(INDEX('Fechas escolares'!$B$5:$B$64,MATCH(D5,'Fechas escolares'!$A$5:$A$64,0)),"") | E6: =IFERROR(INDEX('Fechas escolares'!$B$5:$B$64,MATCH(E5,'Fechas escolares'!$A$5:$A$64,0)),"") | F6: =IFERROR(INDEX('Fechas escolares'!$B$5:$B$64,MATCH(F5,'Fechas escolares'!$A$5:$A$64,0)),"") | G6: =IFERROR(INDEX('Fechas escolares'!$B$5:$B$64,MATCH(G5,'Fechas escolares'!$A$5:$A$64,0)),"")
A7: 46271 | B7: 46272 | C7: 46273 | D7: 46274 | E7: 46275 | F7: 46276 | G7: 46277
A8: =IFERROR(INDEX('Fechas escolares'!$B$5:$B$64,MATCH(A7,'Fechas escolares'!$A$5:$A$64,0)),"") | B8: =IFERROR(INDEX('Fechas escolares'!$B$5:$B$64,MATCH(B7,'Fechas escolares'!$A$5:$A$64,0)),"") | C8: =IFERROR(INDEX('Fechas escolares'!$B$5:$B$64,MATCH(C7,'Fechas escolares'!$A$5:$A$64,0)),"") | D8: =IFERROR(INDEX('Fechas escolares'!$B$5:$B$64,MATCH(D7,'Fechas escolares'!$A$5:$A$64,0)),"") | E8: =IFERROR(INDEX('Fechas escolares'!$B$5:$B$64,MATCH(E7,'Fechas escolares'!$A$5:$A$64,0)),"") | F8: =IFERROR(INDEX('Fechas escolares'!$B$5:$B$64,MATCH(F7,'Fechas escolares'!$A$5:$A$64,0)),"") | G8: =IFERROR(INDEX('Fechas escolares'!$B$5:$B$64,MATCH(G7,'Fechas escolares'!$A$5:$A$64,0)),"")
A9: 46278 | B9: 46279 | C9: 46280 | D9: 46281 | E9: 46282 | F9: 46283 | G9: 46284
A10: =IFERROR(INDEX('Fechas escolares'!$B$5:$B$64,MATCH(A9,'Fechas escolares'!$A$5:$A$64,0)),"") | B10: =IFERROR(INDEX('Fechas escolares'!$B$5:$B$64,MATCH(B9,'Fechas escolares'!$A$5:$A$64,0)),"") | C10: =IFERROR(INDEX('Fechas escolares'!$B$5:$B$64,MATCH(C9,'Fechas escolares'!$A$5:$A$64,0)),"") | D10: =IFERROR(INDEX('Fechas escolares'!$B$5:$B$64,MATCH(D9,'Fechas escolares'!$A$5:$A$64,0)),"") -> Suspensión de clases | E10: =IFERROR(INDEX('Fechas escolares'!$B$5:$B$64,MATCH(E9,'Fechas escolares'!$A$5:$A$64,0)),"") | F10: =IFERROR(INDEX('Fechas escolares'!$B$5:$B$64,MATCH(F9,'Fechas escolares'!$A$5:$A$64,0)),"") | G10: =IFERROR(INDEX('Fechas escolares'!$B$5:$B$64,MATCH(G9,'Fechas escolares'!$A$5:$A$64,0)),"")
A11: 46285 | B11: 46286 | C11: 46287 | D11: 46288 | E11: 46289 | F11: 46290 | G11: 46291
A12: =IFERROR(INDEX('Fechas escolares'!$B$5:$B$64,MATCH(A11,'Fechas escolares'!$A$5:$A$64,0)),"") | B12: =IFERROR(INDEX('Fechas escolares'!$B$5:$B$64,MATCH(B11,'Fechas escolares'!$A$5:$A$64,0)),"") | C12: =IFERROR(INDEX('Fechas escolares'!$B$5:$B$64,MATCH(C11,'Fechas escolares'!$A$5:$A$64,0)),"") | D12: =IFERROR(INDEX('Fechas escolares'!$B$5:$B$64,MATCH(D11,'Fechas escolares'!$A$5:$A$64,0)),"") | E12: =IFERROR(INDEX('Fechas escolares'!$B$5:$B$64,MATCH(E11,'Fechas escolares'!$A$5:$A$64,0)),"") | F12: =IFERROR(INDEX('Fechas escolares'!$B$5:$B$64,MATCH(F11,'Fechas escolares'!$A$5:$A$64,0)),"") -> CTE: sin clases | G12: =IFERROR(INDEX('Fechas escolares'!$B$5:$B$64,MATCH(G11,'Fechas escolares'!$A$5:$A$64,0)),"")
A13: 46292 | B13: 46293 | C13: 46294 | D13: 46295
A14: =IFERROR(INDEX('Fechas escolares'!$B$5:$B$64,MATCH(A13,'Fechas escolares'!$A$5:$A$64,0)),"") | B14: =IFERROR(INDEX('Fechas escolares'!$B$5:$B$64,MATCH(B13,'Fechas escolares'!$A$5:$A$64,0)),"") | C14: =IFERROR(INDEX('Fechas escolares'!$B$5:$B$64,MATCH(C13,'Fechas escolares'!$A$5:$A$64,0)),"") | D14: =IFERROR(INDEX('Fechas escolares'!$B$5:$B$64,MATCH(D13,'Fechas escolares'!$A$5:$A$64,0)),"")

Sheet Octubre 2026
A1: Octubre 2026
A2: México · educación básica SEP
A4: Domingo | B4: Lunes | C4: Martes | D4: Miércoles | E4: Jueves | F4: Viernes | G4: Sábado
E5: 46296 | F5: 46297 | G5: 46298
E6: =IFERROR(INDEX('Fechas escolares'!$B$5:$B$64,MATCH(E5,'Fechas escolares'!$A$5:$A$64,0)),"") | F6: =IFERROR(INDEX('Fechas escolares'!$B$5:$B$64,MATCH(F5,'Fechas escolares'!$A$5:$A$64,0)),"") | G6: =IFERROR(INDEX('Fechas escolares'!$B$5:$B$64,MATCH(G5,'Fechas escolares'!$A$5:$A$64,0)),"")
A7: 46299 | B7: 46300 | C7: 46301 | D7: 46302 | E7: 46303 | F7: 46304 | G7: 46305
A8: =IFERROR(INDEX('Fechas escolares'!$B$5:$B$64,MATCH(A7,'Fechas escolares'!$A$5:$A$64,0)),"") | B8: =IFERROR(INDEX('Fechas escolares'!$B$5:$B$64,MATCH(B7,'Fechas escolares'!$A$5:$A$64,0)),"") | C8: =IFERROR(INDEX('Fechas escolares'!$B$5:$B$64,MATCH(C7,'Fechas escolares'!$A$5:$A$64,0)),"") | D8: =IFERROR(INDEX('Fechas escolares'!$B$5:$B$64,MATCH(D7,'Fechas escolares'!$A$5:$A$64,0)),"") | E8: =IFERROR(INDEX('Fechas escolares'!$B$5:$B$64,MATCH(E7,'Fechas escolares'!$A$5:$A$64,0)),"") | F8: =IFERROR(INDEX('Fechas escolares'!$B$5:$B$64,MATCH(F7,'Fechas escolares'!$A$5:$A$64,0)),"") | G8: =IFERROR(INDEX('Fechas escolares'!$B$5:$B$64,MATCH(G7,'Fechas escolares'!$A$5:$A$64,0)),"")
A9: 46306 | B9: 46307 | C9: 46308 | D9: 46309 | E9: 46310 | F9: 46311 | G9: 46312
A10: =IFERROR(INDEX('Fechas escolares'!$B$5:$B$64,MATCH(A9,'Fechas escolares'!$A$5:$A$64,0)),"") | B10: =IFERROR(INDEX('Fechas escolares'!$B$5:$B$64,MATCH(B9,'Fechas escolares'!$A$5:$A$64,0)),"") | C10: =IFERROR(INDEX('Fechas escolares'!$B$5:$B$64,MATCH(C9,'Fechas escolares'!$A$5:$A$64,0)),"") | D10: =IFERROR(INDEX('Fechas escolares'!$B$5:$B$64,MATCH(D9,'Fechas escolares'!$A$5:$A$64,0)),"") | E10: =IFERROR(INDEX('Fechas escolares'!$B$5:$B$64,MATCH(E9,'Fechas escolares'!$A$5:$A$64,0)),"") | F10: =IFERROR(INDEX('Fechas escolares'!$B$5:$B$64,MATCH(F9,'Fechas escolares'!$A$5:$A$64,0)),"") | G10: =IFERROR(INDEX('Fechas escolares'!$B$5:$B$64,MATCH(G9,'Fechas escolares'!$A$5:$A$64,0)),"")
A11: 46313 | B11: 46314 | C11: 46315 | D11: 46316 | E11: 46317 | F11: 46318 | G11: 46319
A12: =IFERROR(INDEX('Fechas escolares'!$B$5:$B$64,MATCH(A11,'Fechas escolares'!$A$5:$A$64,0)),"") | B12: =IFERROR(INDEX('Fechas escolares'!$B$5:$B$64,MATCH(B11,'Fechas escolares'!$A$5:$A$64,0)),"") | C12: =IFERROR(INDEX('Fechas escolares'!$B$5:$B$64,MATCH(C11,'Fechas escolares'!$A$5:$A$64,0)),"") | D12: =IFERROR(INDEX('Fechas escolares'!$B$5:$B$64,MATCH(D11,'Fechas escolares'!$A$5:$A$64,0)),"") | E12: =IFERROR(INDEX('Fechas escolares'!$B$5:$B$64,MATCH(E11,'Fechas escolares'!$A$5:$A$64,0)),"") | F12: =IFERROR(INDEX('Fechas escolares'!$B$5:$B$64,MATCH(F11,'Fechas escolares'!$A$5:$A$64,0)),"") | G12: =IFERROR(INDEX('Fechas escolares'!$B$5:$B$64,MATCH(G11,'Fechas escolares'!$A$5:$A$64,0)),"")
A13: 46320 | B13: 46321 | C13: 46322 | D13: 46323 | E13: 46324 | F13: 46325 | G13: 46326
A14: =IFERROR(INDEX('Fechas escolares'!$B$5:$B$64,MATCH(A13,'Fechas escolares'!$A$5:$A$64,0)),"") | B14: =IFERROR(INDEX('Fechas escolares'!$B$5:$B$64,MATCH(B13,'Fechas escolares'!$A$5:$A$64,0)),"") | C14: =IFERROR(INDEX('Fechas escolares'!$B$5:$B$64,MATCH(C13,'Fechas escolares'!$A$5:$A$64,0)),"") | D14: =IFERROR(INDEX('Fechas escolares'!$B$5:$B$64,MATCH(D13,'Fechas escolares'!$A$5:$A$64,0)),"") | E14: =IFERROR(INDEX('Fechas escolares'!$B$5:$B$64,MATCH(E13,'Fechas escolares'!$A$5:$A$64,0)),"") | F14: =IFERROR(INDEX('Fechas escolares'!$B$5:$B$64,MATCH(F13,'Fechas escolares'!$A$5:$A$64,0)),"") -> CTE: sin clases | G14: =IFERROR(INDEX('Fechas escolares'!$B$5:$B$64,MATCH(G13,'Fechas escolares'!$A$5:$A$64,0)),"")

Sheet Noviembre 2026
A1: Noviembre 2026
A2: México · educación básica SEP
A4: Domingo | B4: Lunes | C4: Martes | D4: Miércoles | E4: Jueves | F4: Viernes | G4: Sábado
A5: 46327 | B5: 46328 | C5: 46329 | D5: 46330 | E5: 46331 | F5: 46332 | G5: 46333
A6: =IFERROR(INDEX('Fechas escolares'!$B$5:$B$64,MATCH(A5,'Fechas escolares'!$A$5:$A$64,0)),"") | B6: =IFERROR(INDEX('Fechas escolares'!$B$5:$B$64,MATCH(B5,'Fechas escolares'!$A$5:$A$64,0)),"") -> Suspensión de clases | C6: =IFERROR(INDEX('Fechas escolares'!$B$5:$B$64,MATCH(C5,'Fechas escolares'!$A$5:$A$64,0)),"") | D6: =IFERROR(INDEX('Fechas escolares'!$B$5:$B$64,MATCH(D5,'Fechas escolares'!$A$5:$A$64,0)),"") | E6: =IFERROR(INDEX('Fechas escolares'!$B$5:$B$64,MATCH(E5,'Fechas escolares'!$A$5:$A$64,0)),"") | F6: =IFERROR(INDEX('Fechas escolares'!$B$5:$B$64,MATCH(F5,'Fechas escolares'!$A$5:$A$64,0)),"") | G6: =IFERROR(INDEX('Fechas escolares'!$B$5:$B$64,MATCH(G5,'Fechas escolares'!$A$5:$A$64,0)),"")
A7: 46334 | B7: 46335 | C7: 46336 | D7: 46337 | E7: 46338 | F7: 46339 | G7: 46340
A8: =IFERROR(INDEX('Fechas escolares'!$B$5:$B$64,MATCH(A7,'Fechas escolares'!$A$5:$A$64,0)),"") | B8: =IFERROR(INDEX('Fechas escolares'!$B$5:$B$64,MATCH(B7,'Fechas escolares'!$A$5:$A$64,0)),"") | C8: =IFERROR(INDEX('Fechas escolares'!$B$5:$B$64,MATCH(C7,'Fechas escolares'!$A$5:$A$64,0)),"") | D8: =IFERROR(INDEX('Fechas escolares'!$B$5:$B$64,MATCH(D7,'Fechas escolares'!$A$5:$A$64,0)),"") | E8: =IFERROR(INDEX('Fechas escolares'!$B$5:$B$64,MATCH(E7,'Fechas escolares'!$A$5:$A$64,0)),"") | F8: =IFERROR(INDEX('Fechas escolares'!$B$5:$B$64,MATCH(F7,'Fechas escolares'!$A$5:$A$64,0)),"") | G8: =IFERROR(INDEX('Fechas escolares'!$B$5:$B$64,MATCH(G7,'Fechas escolares'!$A$5:$A$64,0)),"")
A9: 46341 | B9: 46342 | C9: 46343 | D9: 46344 | E9: 46345 | F9: 46346 | G9: 46347
A10: =IFERROR(INDEX('Fechas escolares'!$B$5:$B$64,MATCH(A9,'Fechas escolares'!$A$5:$A$64,0)),"") | B10: =IFERROR(INDEX('Fechas escolares'!$B$5:$B$64,MATCH(B9,'Fechas escolares'!$A$5:$A$64,0)),"") -> Suspensión de clases | C10: =IFERROR(INDEX('Fechas escolares'!$B$5:$B$64,MATCH(C9,'Fechas escolares'!$A$5:$A$64,0)),"") | D10: =IFERROR(INDEX('Fechas escolares'!$B$5:$B$64,MATCH(D9,'Fechas escolares'!$A$5:$A$64,0)),"") | E10: =IFERROR(INDEX('Fechas escolares'!$B$5:$B$64,MATCH(E9,'Fechas escolares'!$A$5:$A$64,0)),"") | F10: =IFERROR(INDEX('Fechas escolares'!$B$5:$B$64,MATCH(F9,'Fechas escolares'!$A$5:$A$64,0)),"") | G10: =IFERROR(INDEX('Fechas escolares'!$B$5:$B$64,MATCH(G9,'Fechas escolares'!$A$5:$A$64,0)),"")
A11: 46348 | B11: 46349 | C11: 46350 | D11: 46351 | E11: 46352 | F11: 46353 | G11: 46354
A12: =IFERROR(INDEX('Fechas escolares'!$B$5:$B$64,MATCH(A11,'Fechas escolares'!$A$5:$A$64,0)),"") | B12: =IFERROR(INDEX('Fechas escolares'!$B$5:$B$64,MATCH(B11,'Fechas escolares'!$A$5:$A$64,0)),"") | C12: =IFERROR(INDEX('Fechas escolares'!$B$5:$B$64,MATCH(C11,'Fechas escolares'!$A$5:$A$64,0)),"") | D12: =IFERROR(INDEX('Fechas escolares'!$B$5:$B$64,MATCH(D11,'Fechas escolares'!$A$5:$A$64,0)),"") | E12: =IFERROR(INDEX('Fechas escolares'!$B$5:$B$64,MATCH(E11,'Fechas escolares'!$A$5:$A$64,0)),"") | F12: =IFERROR(INDEX('Fechas escolares'!$B$5:$B$64,MATCH(F11,'Fechas escolares'!$A$5:$A$64,0)),"") -> CTE: sin clases | G12: =IFERROR(INDEX('Fechas escolares'!$B$5:$B$64,MATCH(G11,'Fechas escolares'!$A$5:$A$64,0)),"")
A13: 46355 | B13: 46356
A14: =IFERROR(INDEX('Fechas escolares'!$B$5:$B$64,MATCH(A13,'Fechas escolares'!$A$5:$A$64,0)),"") | B14: =IFERROR(INDEX('Fechas escolares'!$B$5:$B$64,MATCH(B13,'Fechas escolares'!$A$5:$A$64,0)),"")

Sheet Diciembre 2026
A1: Diciembre 2026
A2: México · educación básica SEP
A4: Domingo | B4: Lunes | C4: Martes | D4: Miércoles | E4: Jueves | F4: Viernes | G4: Sábado
C5: 46357 | D5: 46358 | E5: 46359 | F5: 46360 | G5: 46361
C6: =IFERROR(INDEX('Fechas escolares'!$B$5:$B$64,MATCH(C5,'Fechas escolares'!$A$5:$A$64,0)),"") | D6: =IFERROR(INDEX('Fechas escolares'!$B$5:$B$64,MATCH(D5,'Fechas escolares'!$A$5:$A$64,0)),"") | E6: =IFERROR(INDEX('Fechas escolares'!$B$5:$B$64,MATCH(E5,'Fechas escolares'!$A$5:$A$64,0)),"") | F6: =IFERROR(INDEX('Fechas escolares'!$B$5:$B$64,MATCH(F5,'Fechas escolares'!$A$5:$A$64,0)),"") | G6: =IFERROR(INDEX('Fechas escolares'!$B$5:$B$64,MATCH(G5,'Fechas escolares'!$A$5:$A$64,0)),"")
A7: 46362 | B7: 46363 | C7: 46364 | D7: 46365 | E7: 46366 | F7: 46367 | G7: 46368
A8: =IFERROR(INDEX('Fechas escolares'!$B$5:$B$64,MATCH(A7,'Fechas escolares'!$A$5:$A$64,0)),"") | B8: =IFERROR(INDEX('Fechas escolares'!$B$5:$B$64,MATCH(B7,'Fechas escolares'!$A$5:$A$64,0)),"") | C8: =IFERROR(INDEX('Fechas escolares'!$B$5:$B$64,MATCH(C7,'Fechas escolares'!$A$5:$A$64,0)),"") | D8: =IFERROR(INDEX('Fechas escolares'!$B$5:$B$64,MATCH(D7,'Fechas escolares'!$A$5:$A$64,0)),"") | E8: =IFERROR(INDEX('Fechas escolares'!$B$5:$B$64,MATCH(E7,'Fechas escolares'!$A$5:$A$64,0)),"") | F8: =IFERROR(INDEX('Fechas escolares'!$B$5:$B$64,MATCH(F7,'Fechas escolares'!$A$5:$A$64,0)),"") | G8: =IFERROR(INDEX('Fechas escolares'!$B$5:$B$64,MATCH(G7,'Fechas escolares'!$A$5:$A$64,0)),"")
A9: 46369 | B9: 46370 | C9: 46371 | D9: 46372 | E9: 46373 | F9: 46374 | G9: 46375
A10: =IFERROR(INDEX('Fechas escolares'!$B$5:$B$64,MATCH(A9,'Fechas escolares'!$A$5:$A$64,0)),"") | B10: =IFERROR(INDEX('Fechas escolares'!$B$5:$B$64,MATCH(B9,'Fechas escolares'!$A$5:$A$64,0)),"") | C10: =IFERROR(INDEX('Fechas escolares'!$B$5:$B$64,MATCH(C9,'Fechas escolares'!$A$5:$A$64,0)),"") | D10: =IFERROR(INDEX('Fechas escolares'!$B$5:$B$64,MATCH(D9,'Fechas escolares'!$A$5:$A$64,0)),"") | E10: =IFERROR(INDEX('Fechas escolares'!$B$5:$B$64,MATCH(E9,'Fechas escolares'!$A$5:$A$64,0)),"") | F10: =IFERROR(INDEX('Fechas escolares'!$B$5:$B$64,MATCH(F9,'Fechas escolares'!$A$5:$A$64,0)),"") | G10: =IFERROR(INDEX('Fechas escolares'!$B$5:$B$64,MATCH(G9,'Fechas escolares'!$A$5:$A$64,0)),"")
A11: 46376 | B11: 46377 | C11: 46378 | D11: 46379 | E11: 46380 | F11: 46381 | G11: 46382
A12: =IFERROR(INDEX('Fechas escolares'!$B$5:$B$64,MATCH(A11,'Fechas escolares'!$A$5:$A$64,0)),"") | B12: =IFERROR(INDEX('Fechas escolares'!$B$5:$B$64,MATCH(B11,'Fechas escolares'!$A$5:$A$64,0)),"") -> Inicio de vacaciones | C12: =IFERROR(INDEX('Fechas escolares'!$B$5:$B$64,MATCH(C11,'Fechas escolares'!$A$5:$A$64,0)),"") | D12: =IFERROR(INDEX('Fechas escolares'!$B$5:$B$64,MATCH(D11,'Fechas escolares'!$A$5:$A$64,0)),"") | E12: =IFERROR(INDEX('Fechas escolares'!$B$5:$B$64,MATCH(E11,'Fechas escolares'!$A$5:$A$64,0)),"") | F12: =IFERROR(INDEX('Fechas escolares'!$B$5:$B$64,MATCH(F11,'Fechas escolares'!$A$5:$A$64,0)),"") -> Suspensión de clases | G12: =IFERROR(INDEX('Fechas escolares'!$B$5:$B$64,MATCH(G11,'Fechas escolares'!$A$5:$A$64,0)),"")
A13: 46383 | B13: 46384 | C13: 46385 | D13: 46386 | E13: 46387
A14: =IFERROR(INDEX('Fechas escolares'!$B$5:$B$64,MATCH(A13,'Fechas escolares'!$A$5:$A$64,0)),"") | B14: =IFERROR(INDEX('Fechas escolares'!$B$5:$B$64,MATCH(B13,'Fechas escolares'!$A$5:$A$64,0)),"") | C14: =IFERROR(INDEX('Fechas escolares'!$B$5:$B$64,MATCH(C13,'Fechas escolares'!$A$5:$A$64,0)),"") | D14: =IFERROR(INDEX('Fechas escolares'!$B$5:$B$64,MATCH(D13,'Fechas escolares'!$A$5:$A$64,0)),"") | E14: =IFERROR(INDEX('Fechas escolares'!$B$5:$B$64,MATCH(E13,'Fechas escolares'!$A$5:$A$64,0)),"")

Sheet Enero 2027
A1: Enero 2027
A2: México · educación básica SEP
A4: Domingo | B4: Lunes | C4: Martes | D4: Miércoles | E4: Jueves | F4: Viernes | G4: Sábado
F5: 46388 | G5: 46389
F6: =IFERROR(INDEX('Fechas escolares'!$B$5:$B$64,MATCH(F5,'Fechas escolares'!$A$5:$A$64,0)),"") -> Suspensión de clases | G6: =IFERROR(INDEX('Fechas escolares'!$B$5:$B$64,MATCH(G5,'Fechas escolares'!$A$5:$A$64,0)),"")
A7: 46390 | B7: 46391 | C7: 46392 | D7: 46393 | E7: 46394 | F7: 46395 | G7: 46396
A8: =IFERROR(INDEX('Fechas escolares'!$B$5:$B$64,MATCH(A7,'Fechas escolares'!$A$5:$A$64,0)),"") | B8: =IFERROR(INDEX('Fechas escolares'!$B$5:$B$64,MATCH(B7,'Fechas escolares'!$A$5:$A$64,0)),"") | C8: =IFERROR(INDEX('Fechas escolares'!$B$5:$B$64,MATCH(C7,'Fechas escolares'!$A$5:$A$64,0)),"") -> Último día de vacaciones | D8: =IFERROR(INDEX('Fechas escolares'!$B$5:$B$64,MATCH(D7,'Fechas escolares'!$A$5:$A$64,0)),"") -> Suspensión de clases | E8: =IFERROR(INDEX('Fechas escolares'!$B$5:$B$64,MATCH(E7,'Fechas escolares'!$A$5:$A$64,0)),"") | F8: =IFERROR(INDEX('Fechas escolares'!$B$5:$B$64,MATCH(F7,'Fechas escolares'!$A$5:$A$64,0)),"") | G8: =IFERROR(INDEX('Fechas escolares'!$B$5:$B$64,MATCH(G7,'Fechas escolares'!$A$5:$A$64,0)),"")
A9: 46397 | B9: 46398 | C9: 46399 | D9: 46400 | E9: 46401 | F9: 46402 | G9: 46403
A10: =IFERROR(INDEX('Fechas escolares'!$B$5:$B$64,MATCH(A9,'Fechas escolares'!$A$5:$A$64,0)),"") | B10: =IFERROR(INDEX('Fechas escolares'!$B$5:$B$64,MATCH(B9,'Fechas escolares'!$A$5:$A$64,0)),"") | C10: =IFERROR(INDEX('Fechas escolares'!$B$5:$B$64,MATCH(C9,'Fechas escolares'!$A$5:$A$64,0)),"") | D10: =IFERROR(INDEX('Fechas escolares'!$B$5:$B$64,MATCH(D9,'Fechas escolares'!$A$5:$A$64,0)),"") | E10: =IFERROR(INDEX('Fechas escolares'!$B$5:$B$64,MATCH(E9,'Fechas escolares'!$A$5:$A$64,0)),"") | F10: =IFERROR(INDEX('Fechas escolares'!$B$5:$B$64,MATCH(F9,'Fechas escolares'!$A$5:$A$64,0)),"") | G10: =IFERROR(INDEX('Fechas escolares'!$B$5:$B$64,MATCH(G9,'Fechas escolares'!$A$5:$A$64,0)),"")
A11: 46404 | B11: 46405 | C11: 46406 | D11: 46407 | E11: 46408 | F11: 46409 | G11: 46410
A12: =IFERROR(INDEX('Fechas escolares'!$B$5:$B$64,MATCH(A11,'Fechas escolares'!$A$5:$A$64,0)),"") | B12: =IFERROR(INDEX('Fechas escolares'!$B$5:$B$64,MATCH(B11,'Fechas escolares'!$A$5:$A$64,0)),"") | C12: =IFERROR(INDEX('Fechas escolares'!$B$5:$B$64,MATCH(C11,'Fechas escolares'!$A$5:$A$64,0)),"") | D12: =IFERROR(INDEX('Fechas escolares'!$B$5:$B$64,MATCH(D11,'Fechas escolares'!$A$5:$A$64,0)),"") | E12: =IFERROR(INDEX('Fechas escolares'!$B$5:$B$64,MATCH(E11,'Fechas escolares'!$A$5:$A$64,0)),"") | F12: =IFERROR(INDEX('Fechas escolares'!$B$5:$B$64,MATCH(F11,'Fechas escolares'!$A$5:$A$64,0)),"") | G12: =IFERROR(INDEX('Fechas escolares'!$B$5:$B$64,MATCH(G11,'Fechas escolares'!$A$5:$A$64,0)),"")
A13: 46411 | B13: 46412 | C13: 46413 | D13: 46414 | E13: 46415 | F13: 46416 | G13: 46417
A14: =IFERROR(INDEX('Fechas escolares'!$B$5:$B$64,MATCH(A13,'Fechas escolares'!$A$5:$A$64,0)),"") | B14: =IFERROR(INDEX('Fechas escolares'!$B$5:$B$64,MATCH(B13,'Fechas escolares'!$A$5:$A$64,0)),"") | C14: =IFERROR(INDEX('Fechas escolares'!$B$5:$B$64,MATCH(C13,'Fechas escolares'!$A$5:$A$64,0)),"") | D14: =IFERROR(INDEX('Fechas escolares'!$B$5:$B$64,MATCH(D13,'Fechas escolares'!$A$5:$A$64,0)),"") | E14: =IFERROR(INDEX('Fechas escolares'!$B$5:$B$64,MATCH(E13,'Fechas escolares'!$A$5:$A$64,0)),"") | F14: =IFERROR(INDEX('Fechas escolares'!$B$5:$B$64,MATCH(F13,'Fechas escolares'!$A$5:$A$64,0)),"") -> CTE: sin clases | G14: =IFERROR(INDEX('Fechas escolares'!$B$5:$B$64,MATCH(G13,'Fechas escolares'!$A$5:$A$64,0)),"")
A15: 46418
A16: =IFERROR(INDEX('Fechas escolares'!$B$5:$B$64,MATCH(A15,'Fechas escolares'!$A$5:$A$64,0)),"")

Sheet Febrero 2027
A1: Febrero 2027
A2: México · educación básica SEP
A4: Domingo | B4: Lunes | C4: Martes | D4: Miércoles | E4: Jueves | F4: Viernes | G4: Sábado
B5: 46419 | C5: 46420 | D5: 46421 | E5: 46422 | F5: 46423 | G5: 46424
B6: =IFERROR(INDEX('Fechas escolares'!$B$5:$B$64,MATCH(B5,'Fechas escolares'!$A$5:$A$64,0)),"") -> Suspensión de clases | C6: =IFERROR(INDEX('Fechas escolares'!$B$5:$B$64,MATCH(C5,'Fechas escolares'!$A$5:$A$64,0)),"") | D6: =IFERROR(INDEX('Fechas escolares'!$B$5:$B$64,MATCH(D5,'Fechas escolares'!$A$5:$A$64,0)),"") | E6: =IFERROR(INDEX('Fechas escolares'!$B$5:$B$64,MATCH(E5,'Fechas escolares'!$A$5:$A$64,0)),"") | F6: =IFERROR(INDEX('Fechas escolares'!$B$5:$B$64,MATCH(F5,'Fechas escolares'!$A$5:$A$64,0)),"") | G6: =IFERROR(INDEX('Fechas escolares'!$B$5:$B$64,MATCH(G5,'Fechas escolares'!$A$5:$A$64,0)),"")
A7: 46425 | B7: 46426 | C7: 46427 | D7: 46428 | E7: 46429 | F7: 46430 | G7: 46431
A8: =IFERROR(INDEX('Fechas escolares'!$B$5:$B$64,MATCH(A7,'Fechas escolares'!$A$5:$A$64,0)),"") | B8: =IFERROR(INDEX('Fechas escolares'!$B$5:$B$64,MATCH(B7,'Fechas escolares'!$A$5:$A$64,0)),"") | C8: =IFERROR(INDEX('Fechas escolares'!$B$5:$B$64,MATCH(C7,'Fechas escolares'!$A$5:$A$64,0)),"") | D8: =IFERROR(INDEX('Fechas escolares'!$B$5:$B$64,MATCH(D7,'Fechas escolares'!$A$5:$A$64,0)),"") | E8: =IFERROR(INDEX('Fechas escolares'!$B$5:$B$64,MATCH(E7,'Fechas escolares'!$A$5:$A$64,0)),"") | F8: =IFERROR(INDEX('Fechas escolares'!$B$5:$B$64,MATCH(F7,'Fechas escolares'!$A$5:$A$64,0)),"") | G8: =IFERROR(INDEX('Fechas escolares'!$B$5:$B$64,MATCH(G7,'Fechas escolares'!$A$5:$A$64,0)),"")
A9: 46432 | B9: 46433 | C9: 46434 | D9: 46435 | E9: 46436 | F9: 46437 | G9: 46438
A10: =IFERROR(INDEX('Fechas escolares'!$B$5:$B$64,MATCH(A9,'Fechas escolares'!$A$5:$A$64,0)),"") | B10: =IFERROR(INDEX('Fechas escolares'!$B$5:$B$64,MATCH(B9,'Fechas escolares'!$A$5:$A$64,0)),"") | C10: =IFERROR(INDEX('Fechas escolares'!$B$5:$B$64,MATCH(C9,'Fechas escolares'!$A$5:$A$64,0)),"") | D10: =IFERROR(INDEX('Fechas escolares'!$B$5:$B$64,MATCH(D9,'Fechas escolares'!$A$5:$A$64,0)),"") | E10: =IFERROR(INDEX('Fechas escolares'!$B$5:$B$64,MATCH(E9,'Fechas escolares'!$A$5:$A$64,0)),"") | F10: =IFERROR(INDEX('Fechas escolares'!$B$5:$B$64,MATCH(F9,'Fechas escolares'!$A$5:$A$64,0)),"") | G10: =IFERROR(INDEX('Fechas escolares'!$B$5:$B$64,MATCH(G9,'Fechas escolares'!$A$5:$A$64,0)),"")
A11: 46439 | B11: 46440 | C11: 46441 | D11: 46442 | E11: 46443 | F11: 46444 | G11: 46445
A12: =IFERROR(INDEX('Fechas escolares'!$B$5:$B$64,MATCH(A11,'Fechas escolares'!$A$5:$A$64,0)),"") | B12: =IFERROR(INDEX('Fechas escolares'!$B$5:$B$64,MATCH(B11,'Fechas escolares'!$A$5:$A$64,0)),"") | C12: =IFERROR(INDEX('Fechas escolares'!$B$5:$B$64,MATCH(C11,'Fechas escolares'!$A$5:$A$64,0)),"") | D12: =IFERROR(INDEX('Fechas escolares'!$B$5:$B$64,MATCH(D11,'Fechas escolares'!$A$5:$A$64,0)),"") | E12: =IFERROR(INDEX('Fechas escolares'!$B$5:$B$64,MATCH(E11,'Fechas escolares'!$A$5:$A$64,0)),"") | F12: =IFERROR(INDEX('Fechas escolares'!$B$5:$B$64,MATCH(F11,'Fechas escolares'!$A$5:$A$64,0)),"") -> CTE: sin clases | G12: =IFERROR(INDEX('Fechas escolares'!$B$5:$B$64,MATCH(G11,'Fechas escolares'!$A$5:$A$64,0)),"")
A13: 46446
A14: =IFERROR(INDEX('Fechas escolares'!$B$5:$B$64,MATCH(A13,'Fechas escolares'!$A$5:$A$64,0)),"")

Sheet Marzo 2027
A1: Marzo 2027
A2: México · educación básica SEP
A4: Domingo | B4: Lunes | C4: Martes | D4: Miércoles | E4: Jueves | F4: Viernes | G4: Sábado
B5: 46447 | C5: 46448 | D5: 46449 | E5: 46450 | F5: 46451 | G5: 46452
B6: =IFERROR(INDEX('Fechas escolares'!$B$5:$B$64,MATCH(B5,'Fechas escolares'!$A$5:$A$64,0)),"") | C6: =IFERROR(INDEX('Fechas escolares'!$B$5:$B$64,MATCH(C5,'Fechas escolares'!$A$5:$A$64,0)),"") | D6: =IFERROR(INDEX('Fechas escolares'!$B$5:$B$64,MATCH(D5,'Fechas escolares'!$A$5:$A$64,0)),"") | E6: =IFERROR(INDEX('Fechas escolares'!$B$5:$B$64,MATCH(E5,'Fechas escolares'!$A$5:$A$64,0)),"") | F6: =IFERROR(INDEX('Fechas escolares'!$B$5:$B$64,MATCH(F5,'Fechas escolares'!$A$5:$A$64,0)),"") | G6: =IFERROR(INDEX('Fechas escolares'!$B$5:$B$64,MATCH(G5,'Fechas escolares'!$A$5:$A$64,0)),"")
A7: 46453 | B7: 46454 | C7: 46455 | D7: 46456 | E7: 46457 | F7: 46458 | G7: 46459
A8: =IFERROR(INDEX('Fechas escolares'!$B$5:$B$64,MATCH(A7,'Fechas escolares'!$A$5:$A$64,0)),"") | B8: =IFERROR(INDEX('Fechas escolares'!$B$5:$B$64,MATCH(B7,'Fechas escolares'!$A$5:$A$64,0)),"") | C8: =IFERROR(INDEX('Fechas escolares'!$B$5:$B$64,MATCH(C7,'Fechas escolares'!$A$5:$A$64,0)),"") | D8: =IFERROR(INDEX('Fechas escolares'!$B$5:$B$64,MATCH(D7,'Fechas escolares'!$A$5:$A$64,0)),"") | E8: =IFERROR(INDEX('Fechas escolares'!$B$5:$B$64,MATCH(E7,'Fechas escolares'!$A$5:$A$64,0)),"") | F8: =IFERROR(INDEX('Fechas escolares'!$B$5:$B$64,MATCH(F7,'Fechas escolares'!$A$5:$A$64,0)),"") | G8: =IFERROR(INDEX('Fechas escolares'!$B$5:$B$64,MATCH(G7,'Fechas escolares'!$A$5:$A$64,0)),"")
A9: 46460 | B9: 46461 | C9: 46462 | D9: 46463 | E9: 46464 | F9: 46465 | G9: 46466
A10: =IFERROR(INDEX('Fechas escolares'!$B$5:$B$64,MATCH(A9,'Fechas escolares'!$A$5:$A$64,0)),"") | B10: =IFERROR(INDEX('Fechas escolares'!$B$5:$B$64,MATCH(B9,'Fechas escolares'!$A$5:$A$64,0)),"") -> Suspensión de clases | C10: =IFERROR(INDEX('Fechas escolares'!$B$5:$B$64,MATCH(C9,'Fechas escolares'!$A$5:$A$64,0)),"") | D10: =IFERROR(INDEX('Fechas escolares'!$B$5:$B$64,MATCH(D9,'Fechas escolares'!$A$5:$A$64,0)),"") | E10: =IFERROR(INDEX('Fechas escolares'!$B$5:$B$64,MATCH(E9,'Fechas escolares'!$A$5:$A$64,0)),"") | F10: =IFERROR(INDEX('Fechas escolares'!$B$5:$B$64,MATCH(F9,'Fechas escolares'!$A$5:$A$64,0)),"") | G10: =IFERROR(INDEX('Fechas escolares'!$B$5:$B$64,MATCH(G9,'Fechas escolares'!$A$5:$A$64,0)),"")
A11: 46467 | B11: 46468 | C11: 46469 | D11: 46470 | E11: 46471 | F11: 46472 | G11: 46473
A12: =IFERROR(INDEX('Fechas escolares'!$B$5:$B$64,MATCH(A11,'Fechas escolares'!$A$5:$A$64,0)),"") | B12: =IFERROR(INDEX('Fechas escolares'!$B$5:$B$64,MATCH(B11,'Fechas escolares'!$A$5:$A$64,0)),"") -> Inicio de vacaciones | C12: =IFERROR(INDEX('Fechas escolares'!$B$5:$B$64,MATCH(C11,'Fechas escolares'!$A$5:$A$64,0)),"") | D12: =IFERROR(INDEX('Fechas escolares'!$B$5:$B$64,MATCH(D11,'Fechas escolares'!$A$5:$A$64,0)),"") | E12: =IFERROR(INDEX('Fechas escolares'!$B$5:$B$64,MATCH(E11,'Fechas escolares'!$A$5:$A$64,0)),"") | F12: =IFERROR(INDEX('Fechas escolares'!$B$5:$B$64,MATCH(F11,'Fechas escolares'!$A$5:$A$64,0)),"") | G12: =IFERROR(INDEX('Fechas escolares'!$B$5:$B$64,MATCH(G11,'Fechas escolares'!$A$5:$A$64,0)),"")
A13: 46474 | B13: 46475 | C13: 46476 | D13: 46477
A14: =IFERROR(INDEX('Fechas escolares'!$B$5:$B$64,MATCH(A13,'Fechas escolares'!$A$5:$A$64,0)),"") | B14: =IFERROR(INDEX('Fechas escolares'!$B$5:$B$64,MATCH(B13,'Fechas escolares'!$A$5:$A$64,0)),"") | C14: =IFERROR(INDEX('Fechas escolares'!$B$5:$B$64,MATCH(C13,'Fechas escolares'!$A$5:$A$64,0)),"") | D14: =IFERROR(INDEX('Fechas escolares'!$B$5:$B$64,MATCH(D13,'Fechas escolares'!$A$5:$A$64,0)),"")

Sheet Abril 2027
A1: Abril 2027
A2: México · educación básica SEP
A4: Domingo | B4: Lunes | C4: Martes | D4: Miércoles | E4: Jueves | F4: Viernes | G4: Sábado
E5: 46478 | F5: 46479 | G5: 46480
E6: =IFERROR(INDEX('Fechas escolares'!$B$5:$B$64,MATCH(E5,'Fechas escolares'!$A$5:$A$64,0)),"") | F6: =IFERROR(INDEX('Fechas escolares'!$B$5:$B$64,MATCH(F5,'Fechas escolares'!$A$5:$A$64,0)),"") | G6: =IFERROR(INDEX('Fechas escolares'!$B$5:$B$64,MATCH(G5,'Fechas escolares'!$A$5:$A$64,0)),"") -> Último día de vacaciones
A7: 46481 | B7: 46482 | C7: 46483 | D7: 46484 | E7: 46485 | F7: 46486 | G7: 46487
A8: =IFERROR(INDEX('Fechas escolares'!$B$5:$B$64,MATCH(A7,'Fechas escolares'!$A$5:$A$64,0)),"") | B8: =IFERROR(INDEX('Fechas escolares'!$B$5:$B$64,MATCH(B7,'Fechas escolares'!$A$5:$A$64,0)),"") | C8: =IFERROR(INDEX('Fechas escolares'!$B$5:$B$64,MATCH(C7,'Fechas escolares'!$A$5:$A$64,0)),"") | D8: =IFERROR(INDEX('Fechas escolares'!$B$5:$B$64,MATCH(D7,'Fechas escolares'!$A$5:$A$64,0)),"") | E8: =IFERROR(INDEX('Fechas escolares'!$B$5:$B$64,MATCH(E7,'Fechas escolares'!$A$5:$A$64,0)),"") | F8: =IFERROR(INDEX('Fechas escolares'!$B$5:$B$64,MATCH(F7,'Fechas escolares'!$A$5:$A$64,0)),"") | G8: =IFERROR(INDEX('Fechas escolares'!$B$5:$B$64,MATCH(G7,'Fechas escolares'!$A$5:$A$64,0)),"")
A9: 46488 | B9: 46489 | C9: 46490 | D9: 46491 | E9: 46492 | F9: 46493 | G9: 46494
A10: =IFERROR(INDEX('Fechas escolares'!$B$5:$B$64,MATCH(A9,'Fechas escolares'!$A$5:$A$64,0)),"") | B10: =IFERROR(INDEX('Fechas escolares'!$B$5:$B$64,MATCH(B9,'Fechas escolares'!$A$5:$A$64,0)),"") | C10: =IFERROR(INDEX('Fechas escolares'!$B$5:$B$64,MATCH(C9,'Fechas escolares'!$A$5:$A$64,0)),"") | D10: =IFERROR(INDEX('Fechas escolares'!$B$5:$B$64,MATCH(D9,'Fechas escolares'!$A$5:$A$64,0)),"") | E10: =IFERROR(INDEX('Fechas escolares'!$B$5:$B$64,MATCH(E9,'Fechas escolares'!$A$5:$A$64,0)),"") | F10: =IFERROR(INDEX('Fechas escolares'!$B$5:$B$64,MATCH(F9,'Fechas escolares'!$A$5:$A$64,0)),"") | G10: =IFERROR(INDEX('Fechas escolares'!$B$5:$B$64,MATCH(G9,'Fechas escolares'!$A$5:$A$64,0)),"")
A11: 46495 | B11: 46496 | C11: 46497 | D11: 46498 | E11: 46499 | F11: 46500 | G11: 46501
A12: =IFERROR(INDEX('Fechas escolares'!$B$5:$B$64,MATCH(A11,'Fechas escolares'!$A$5:$A$64,0)),"") | B12: =IFERROR(INDEX('Fechas escolares'!$B$5:$B$64,MATCH(B11,'Fechas escolares'!$A$5:$A$64,0)),"") | C12: =IFERROR(INDEX('Fechas escolares'!$B$5:$B$64,MATCH(C11,'Fechas escolares'!$A$5:$A$64,0)),"") | D12: =IFERROR(INDEX('Fechas escolares'!$B$5:$B$64,MATCH(D11,'Fechas escolares'!$A$5:$A$64,0)),"") | E12: =IFERROR(INDEX('Fechas escolares'!$B$5:$B$64,MATCH(E11,'Fechas escolares'!$A$5:$A$64,0)),"") | F12: =IFERROR(INDEX('Fechas escolares'!$B$5:$B$64,MATCH(F11,'Fechas escolares'!$A$5:$A$64,0)),"") | G12: =IFERROR(INDEX('Fechas escolares'!$B$5:$B$64,MATCH(G11,'Fechas escolares'!$A$5:$A$64,0)),"")
A13: 46502 | B13: 46503 | C13: 46504 | D13: 46505 | E13: 46506 | F13: 46507
A14: =IFERROR(INDEX('Fechas escolares'!$B$5:$B$64,MATCH(A13,'Fechas escolares'!$A$5:$A$64,0)),"") | B14: =IFERROR(INDEX('Fechas escolares'!$B$5:$B$64,MATCH(B13,'Fechas escolares'!$A$5:$A$64,0)),"") | C14: =IFERROR(INDEX('Fechas escolares'!$B$5:$B$64,MATCH(C13,'Fechas escolares'!$A$5:$A$64,0)),"") | D14: =IFERROR(INDEX('Fechas escolares'!$B$5:$B$64,MATCH(D13,'Fechas escolares'!$A$5:$A$64,0)),"") | E14: =IFERROR(INDEX('Fechas escolares'!$B$5:$B$64,MATCH(E13,'Fechas escolares'!$A$5:$A$64,0)),"") | F14: =IFERROR(INDEX('Fechas escolares'!$B$5:$B$64,MATCH(F13,'Fechas escolares'!$A$5:$A$64,0)),"") -> CTE: sin clases

Sheet Mayo 2027
A1: Mayo 2027
A2: México · educación básica SEP
A4: Domingo | B4: Lunes | C4: Martes | D4: Miércoles | E4: Jueves | F4: Viernes | G4: Sábado
G5: 46508
G6: =IFERROR(INDEX('Fechas escolares'!$B$5:$B$64,MATCH(G5,'Fechas escolares'!$A$5:$A$64,0)),"")
A7: 46509 | B7: 46510 | C7: 46511 | D7: 46512 | E7: 46513 | F7: 46514 | G7: 46515
A8: =IFERROR(INDEX('Fechas escolares'!$B$5:$B$64,MATCH(A7,'Fechas escolares'!$A$5:$A$64,0)),"") | B8: =IFERROR(INDEX('Fechas escolares'!$B$5:$B$64,MATCH(B7,'Fechas escolares'!$A$5:$A$64,0)),"") | C8: =IFERROR(INDEX('Fechas escolares'!$B$5:$B$64,MATCH(C7,'Fechas escolares'!$A$5:$A$64,0)),"") | D8: =IFERROR(INDEX('Fechas escolares'!$B$5:$B$64,MATCH(D7,'Fechas escolares'!$A$5:$A$64,0)),"") -> Suspensión de clases | E8: =IFERROR(INDEX('Fechas escolares'!$B$5:$B$64,MATCH(E7,'Fechas escolares'!$A$5:$A$64,0)),"") | F8: =IFERROR(INDEX('Fechas escolares'!$B$5:$B$64,MATCH(F7,'Fechas escolares'!$A$5:$A$64,0)),"") | G8: =IFERROR(INDEX('Fechas escolares'!$B$5:$B$64,MATCH(G7,'Fechas escolares'!$A$5:$A$64,0)),"")
A9: 46516 | B9: 46517 | C9: 46518 | D9: 46519 | E9: 46520 | F9: 46521 | G9: 46522
A10: =IFERROR(INDEX('Fechas escolares'!$B$5:$B$64,MATCH(A9,'Fechas escolares'!$A$5:$A$64,0)),"") | B10: =IFERROR(INDEX('Fechas escolares'!$B$5:$B$64,MATCH(B9,'Fechas escolares'!$A$5:$A$64,0)),"") | C10: =IFERROR(INDEX('Fechas escolares'!$B$5:$B$64,MATCH(C9,'Fechas escolares'!$A$5:$A$64,0)),"") | D10: =IFERROR(INDEX('Fechas escolares'!$B$5:$B$64,MATCH(D9,'Fechas escolares'!$A$5:$A$64,0)),"") | E10: =IFERROR(INDEX('Fechas escolares'!$B$5:$B$64,MATCH(E9,'Fechas escolares'!$A$5:$A$64,0)),"") | F10: =IFERROR(INDEX('Fechas escolares'!$B$5:$B$64,MATCH(F9,'Fechas escolares'!$A$5:$A$64,0)),"") | G10: =IFERROR(INDEX('Fechas escolares'!$B$5:$B$64,MATCH(G9,'Fechas escolares'!$A$5:$A$64,0)),"")
A11: 46523 | B11: 46524 | C11: 46525 | D11: 46526 | E11: 46527 | F11: 46528 | G11: 46529
A12: =IFERROR(INDEX('Fechas escolares'!$B$5:$B$64,MATCH(A11,'Fechas escolares'!$A$5:$A$64,0)),"") | B12: =IFERROR(INDEX('Fechas escolares'!$B$5:$B$64,MATCH(B11,'Fechas escolares'!$A$5:$A$64,0)),"") | C12: =IFERROR(INDEX('Fechas escolares'!$B$5:$B$64,MATCH(C11,'Fechas escolares'!$A$5:$A$64,0)),"") | D12: =IFERROR(INDEX('Fechas escolares'!$B$5:$B$64,MATCH(D11,'Fechas escolares'!$A$5:$A$64,0)),"") | E12: =IFERROR(INDEX('Fechas escolares'!$B$5:$B$64,MATCH(E11,'Fechas escolares'!$A$5:$A$64,0)),"") | F12: =IFERROR(INDEX('Fechas escolares'!$B$5:$B$64,MATCH(F11,'Fechas escolares'!$A$5:$A$64,0)),"") | G12: =IFERROR(INDEX('Fechas escolares'!$B$5:$B$64,MATCH(G11,'Fechas escolares'!$A$5:$A$64,0)),"")
A13: 46530 | B13: 46531 | C13: 46532 | D13: 46533 | E13: 46534 | F13: 46535 | G13: 46536
A14: =IFERROR(INDEX('Fechas escolares'!$B$5:$B$64,MATCH(A13,'Fechas escolares'!$A$5:$A$64,0)),"") | B14: =IFERROR(INDEX('Fechas escolares'!$B$5:$B$64,MATCH(B13,'Fechas escolares'!$A$5:$A$64,0)),"") | C14: =IFERROR(INDEX('Fechas escolares'!$B$5:$B$64,MATCH(C13,'Fechas escolares'!$A$5:$A$64,0)),"") | D14: =IFERROR(INDEX('Fechas escolares'!$B$5:$B$64,MATCH(D13,'Fechas escolares'!$A$5:$A$64,0)),"") | E14: =IFERROR(INDEX('Fechas escolares'!$B$5:$B$64,MATCH(E13,'Fechas escolares'!$A$5:$A$64,0)),"") | F14: =IFERROR(INDEX('Fechas escolares'!$B$5:$B$64,MATCH(F13,'Fechas escolares'!$A$5:$A$64,0)),"") -> CTE: sin clases | G14: =IFERROR(INDEX('Fechas escolares'!$B$5:$B$64,MATCH(G13,'Fechas escolares'!$A$5:$A$64,0)),"")
A15: 46537 | B15: 46538
A16: =IFERROR(INDEX('Fechas escolares'!$B$5:$B$64,MATCH(A15,'Fechas escolares'!$A$5:$A$64,0)),"") | B16: =IFERROR(INDEX('Fechas escolares'!$B$5:$B$64,MATCH(B15,'Fechas escolares'!$A$5:$A$64,0)),"")

Sheet Junio 2027
A1: Junio 2027
A2: México · educación básica SEP
A4: Domingo | B4: Lunes | C4: Martes | D4: Miércoles | E4: Jueves | F4: Viernes | G4: Sábado
C5: 46539 | D5: 46540 | E5: 46541 | F5: 46542 | G5: 46543
C6: =IFERROR(INDEX('Fechas escolares'!$B$5:$B$64,MATCH(C5,'Fechas escolares'!$A$5:$A$64,0)),"") | D6: =IFERROR(INDEX('Fechas escolares'!$B$5:$B$64,MATCH(D5,'Fechas escolares'!$A$5:$A$64,0)),"") | E6: =IFERROR(INDEX('Fechas escolares'!$B$5:$B$64,MATCH(E5,'Fechas escolares'!$A$5:$A$64,0)),"") | F6: =IFERROR(INDEX('Fechas escolares'!$B$5:$B$64,MATCH(F5,'Fechas escolares'!$A$5:$A$64,0)),"") | G6: =IFERROR(INDEX('Fechas escolares'!$B$5:$B$64,MATCH(G5,'Fechas escolares'!$A$5:$A$64,0)),"")
A7: 46544 | B7: 46545 | C7: 46546 | D7: 46547 | E7: 46548 | F7: 46549 | G7: 46550
A8: =IFERROR(INDEX('Fechas escolares'!$B$5:$B$64,MATCH(A7,'Fechas escolares'!$A$5:$A$64,0)),"") | B8: =IFERROR(INDEX('Fechas escolares'!$B$5:$B$64,MATCH(B7,'Fechas escolares'!$A$5:$A$64,0)),"") | C8: =IFERROR(INDEX('Fechas escolares'!$B$5:$B$64,MATCH(C7,'Fechas escolares'!$A$5:$A$64,0)),"") | D8: =IFERROR(INDEX('Fechas escolares'!$B$5:$B$64,MATCH(D7,'Fechas escolares'!$A$5:$A$64,0)),"") | E8: =IFERROR(INDEX('Fechas escolares'!$B$5:$B$64,MATCH(E7,'Fechas escolares'!$A$5:$A$64,0)),"") | F8: =IFERROR(INDEX('Fechas escolares'!$B$5:$B$64,MATCH(F7,'Fechas escolares'!$A$5:$A$64,0)),"") | G8: =IFERROR(INDEX('Fechas escolares'!$B$5:$B$64,MATCH(G7,'Fechas escolares'!$A$5:$A$64,0)),"")
A9: 46551 | B9: 46552 | C9: 46553 | D9: 46554 | E9: 46555 | F9: 46556 | G9: 46557
A10: =IFERROR(INDEX('Fechas escolares'!$B$5:$B$64,MATCH(A9,'Fechas escolares'!$A$5:$A$64,0)),"") | B10: =IFERROR(INDEX('Fechas escolares'!$B$5:$B$64,MATCH(B9,'Fechas escolares'!$A$5:$A$64,0)),"") | C10: =IFERROR(INDEX('Fechas escolares'!$B$5:$B$64,MATCH(C9,'Fechas escolares'!$A$5:$A$64,0)),"") | D10: =IFERROR(INDEX('Fechas escolares'!$B$5:$B$64,MATCH(D9,'Fechas escolares'!$A$5:$A$64,0)),"") | E10: =IFERROR(INDEX('Fechas escolares'!$B$5:$B$64,MATCH(E9,'Fechas escolares'!$A$5:$A$64,0)),"") | F10: =IFERROR(INDEX('Fechas escolares'!$B$5:$B$64,MATCH(F9,'Fechas escolares'!$A$5:$A$64,0)),"") | G10: =IFERROR(INDEX('Fechas escolares'!$B$5:$B$64,MATCH(G9,'Fechas escolares'!$A$5:$A$64,0)),"")
A11: 46558 | B11: 46559 | C11: 46560 | D11: 46561 | E11: 46562 | F11: 46563 | G11: 46564
A12: =IFERROR(INDEX('Fechas escolares'!$B$5:$B$64,MATCH(A11,'Fechas escolares'!$A$5:$A$64,0)),"") | B12: =IFERROR(INDEX('Fechas escolares'!$B$5:$B$64,MATCH(B11,'Fechas escolares'!$A$5:$A$64,0)),"") | C12: =IFERROR(INDEX('Fechas escolares'!$B$5:$B$64,MATCH(C11,'Fechas escolares'!$A$5:$A$64,0)),"") | D12: =IFERROR(INDEX('Fechas escolares'!$B$5:$B$64,MATCH(D11,'Fechas escolares'!$A$5:$A$64,0)),"") | E12: =IFERROR(INDEX('Fechas escolares'!$B$5:$B$64,MATCH(E11,'Fechas escolares'!$A$5:$A$64,0)),"") | F12: =IFERROR(INDEX('Fechas escolares'!$B$5:$B$64,MATCH(F11,'Fechas escolares'!$A$5:$A$64,0)),"") -> CTE: sin clases | G12: =IFERROR(INDEX('Fechas escolares'!$B$5:$B$64,MATCH(G11,'Fechas escolares'!$A$5:$A$64,0)),"")
A13: 46565 | B13: 46566 | C13: 46567 | D13: 46568
A14: =IFERROR(INDEX('Fechas escolares'!$B$5:$B$64,MATCH(A13,'Fechas escolares'!$A$5:$A$64,0)),"") | B14: =IFERROR(INDEX('Fechas escolares'!$B$5:$B$64,MATCH(B13,'Fechas escolares'!$A$5:$A$64,0)),"") | C14: =IFERROR(INDEX('Fechas escolares'!$B$5:$B$64,MATCH(C13,'Fechas escolares'!$A$5:$A$64,0)),"") | D14: =IFERROR(INDEX('Fechas escolares'!$B$5:$B$64,MATCH(D13,'Fechas escolares'!$A$5:$A$64,0)),"")

Sheet Julio 2027
A1: Julio 2027
A2: México · educación básica SEP
A4: Domingo | B4: Lunes | C4: Martes | D4: Miércoles | E4: Jueves | F4: Viernes | G4: Sábado
E5: 46569 | F5: 46570 | G5: 46571
E6: =IFERROR(INDEX('Fechas escolares'!$B$5:$B$64,MATCH(E5,'Fechas escolares'!$A$5:$A$64,0)),"") | F6: =IFERROR(INDEX('Fechas escolares'!$B$5:$B$64,MATCH(F5,'Fechas escolares'!$A$5:$A$64,0)),"") | G6: =IFERROR(INDEX('Fechas escolares'!$B$5:$B$64,MATCH(G5,'Fechas escolares'!$A$5:$A$64,0)),"")
A7: 46572 | B7: 46573 | C7: 46574 | D7: 46575 | E7: 46576 | F7: 46577 | G7: 46578
A8: =IFERROR(INDEX('Fechas escolares'!$B$5:$B$64,MATCH(A7,'Fechas escolares'!$A$5:$A$64,0)),"") | B8: =IFERROR(INDEX('Fechas escolares'!$B$5:$B$64,MATCH(B7,'Fechas escolares'!$A$5:$A$64,0)),"") | C8: =IFERROR(INDEX('Fechas escolares'!$B$5:$B$64,MATCH(C7,'Fechas escolares'!$A$5:$A$64,0)),"") | D8: =IFERROR(INDEX('Fechas escolares'!$B$5:$B$64,MATCH(D7,'Fechas escolares'!$A$5:$A$64,0)),"") | E8: =IFERROR(INDEX('Fechas escolares'!$B$5:$B$64,MATCH(E7,'Fechas escolares'!$A$5:$A$64,0)),"") | F8: =IFERROR(INDEX('Fechas escolares'!$B$5:$B$64,MATCH(F7,'Fechas escolares'!$A$5:$A$64,0)),"") -> Fin de clases | G8: =IFERROR(INDEX('Fechas escolares'!$B$5:$B$64,MATCH(G7,'Fechas escolares'!$A$5:$A$64,0)),"")
A9: 46579 | B9: 46580 | C9: 46581 | D9: 46582 | E9: 46583 | F9: 46584 | G9: 46585
A10: =IFERROR(INDEX('Fechas escolares'!$B$5:$B$64,MATCH(A9,'Fechas escolares'!$A$5:$A$64,0)),"") | B10: =IFERROR(INDEX('Fechas escolares'!$B$5:$B$64,MATCH(B9,'Fechas escolares'!$A$5:$A$64,0)),"") | C10: =IFERROR(INDEX('Fechas escolares'!$B$5:$B$64,MATCH(C9,'Fechas escolares'!$A$5:$A$64,0)),"") | D10: =IFERROR(INDEX('Fechas escolares'!$B$5:$B$64,MATCH(D9,'Fechas escolares'!$A$5:$A$64,0)),"") | E10: =IFERROR(INDEX('Fechas escolares'!$B$5:$B$64,MATCH(E9,'Fechas escolares'!$A$5:$A$64,0)),"") | F10: =IFERROR(INDEX('Fechas escolares'!$B$5:$B$64,MATCH(F9,'Fechas escolares'!$A$5:$A$64,0)),"") | G10: =IFERROR(INDEX('Fechas escolares'!$B$5:$B$64,MATCH(G9,'Fechas escolares'!$A$5:$A$64,0)),"")
A11: 46586 | B11: 46587 | C11: 46588 | D11: 46589 | E11: 46590 | F11: 46591 | G11: 46592
A12: =IFERROR(INDEX('Fechas escolares'!$B$5:$B$64,MATCH(A11,'Fechas escolares'!$A$5:$A$64,0)),"") | B12: =IFERROR(INDEX('Fechas escolares'!$B$5:$B$64,MATCH(B11,'Fechas escolares'!$A$5:$A$64,0)),"") | C12: =IFERROR(INDEX('Fechas escolares'!$B$5:$B$64,MATCH(C11,'Fechas escolares'!$A$5:$A$64,0)),"") | D12: =IFERROR(INDEX('Fechas escolares'!$B$5:$B$64,MATCH(D11,'Fechas escolares'!$A$5:$A$64,0)),"") | E12: =IFERROR(INDEX('Fechas escolares'!$B$5:$B$64,MATCH(E11,'Fechas escolares'!$A$5:$A$64,0)),"") | F12: =IFERROR(INDEX('Fechas escolares'!$B$5:$B$64,MATCH(F11,'Fechas escolares'!$A$5:$A$64,0)),"") | G12: =IFERROR(INDEX('Fechas escolares'!$B$5:$B$64,MATCH(G11,'Fechas escolares'!$A$5:$A$64,0)),"")
A13: 46593 | B13: 46594 | C13: 46595 | D13: 46596 | E13: 46597 | F13: 46598 | G13: 46599
A14: =IFERROR(INDEX('Fechas escolares'!$B$5:$B$64,MATCH(A13,'Fechas escolares'!$A$5:$A$64,0)),"") | B14: =IFERROR(INDEX('Fechas escolares'!$B$5:$B$64,MATCH(B13,'Fechas escolares'!$A$5:$A$64,0)),"") | C14: =IFERROR(INDEX('Fechas escolares'!$B$5:$B$64,MATCH(C13,'Fechas escolares'!$A$5:$A$64,0)),"") | D14: =IFERROR(INDEX('Fechas escolares'!$B$5:$B$64,MATCH(D13,'Fechas escolares'!$A$5:$A$64,0)),"") | E14: =IFERROR(INDEX('Fechas escolares'!$B$5:$B$64,MATCH(E13,'Fechas escolares'!$A$5:$A$64,0)),"") | F14: =IFERROR(INDEX('Fechas escolares'!$B$5:$B$64,MATCH(F13,'Fechas escolares'!$A$5:$A$64,0)),"") | G14: =IFERROR(INDEX('Fechas escolares'!$B$5:$B$64,MATCH(G13,'Fechas escolares'!$A$5:$A$64,0)),"")

Sheet Fechas escolares
A1: México · educación básica SEP
A2: México · educación básica SEP
A4: Fecha | B4: Fecha escolar
A5: 46265 | B5: Inicio de clases
A6: 46281 | B6: Suspensión de clases
A7: 46290 | B7: CTE: sin clases
A8: 46325 | B8: CTE: sin clases
A9: 46328 | B9: Suspensión de clases
A10: 46342 | B10: Suspensión de clases
A11: 46353 | B11: CTE: sin clases
A12: 46377 | B12: Inicio de vacaciones
A13: 46381 | B13: Suspensión de clases
A14: 46388 | B14: Suspensión de clases
A15: 46392 | B15: Último día de vacaciones
A16: 46393 | B16: Suspensión de clases
... A27: 46577 | B27: Fin de clases

Sheet Info
A1: Curso 2026–2027: México: educación básica
A3: Fechas para preescolar, primaria y secundaria del calendario SEP 2026-2027.
A4: Las vacaciones abarcan desde la fecha de inicio hasta el último día señalado, ambos incluidos.
A5: El receso de invierno termina el 5 de enero; el 6 no hay clases y el regreso es el 7. Consulta también los avisos de tu centro.
A6: https://educacionbasica.sep.gob.mx/publica-sep-calendario-escolar-2026-2027-para-educacion-basica-y-normal/
