Workbook

Sheet Abril 2027
A1: Abril 2027
A2: Calendario
A4: Lunes | B4: Martes | C4: Miércoles | D4: Jueves | E4: Viernes | F4: Sábado | G4: Domingo
D5: 46478 | E5: 46479 | F5: 46480 | G5: 46481
D6: =IFERROR(INDEX('Festivos'!$B$5:$B$64,MATCH(D5,'Festivos'!$A$5:$A$64,0)),"") | E6: =IFERROR(INDEX('Festivos'!$B$5:$B$64,MATCH(E5,'Festivos'!$A$5:$A$64,0)),"") | F6: =IFERROR(INDEX('Festivos'!$B$5:$B$64,MATCH(F5,'Festivos'!$A$5:$A$64,0)),"") | G6: =IFERROR(INDEX('Festivos'!$B$5:$B$64,MATCH(G5,'Festivos'!$A$5:$A$64,0)),"")
A7: 46482 | B7: 46483 | C7: 46484 | D7: 46485 | E7: 46486 | F7: 46487 | G7: 46488
A8: =IFERROR(INDEX('Festivos'!$B$5:$B$64,MATCH(A7,'Festivos'!$A$5:$A$64,0)),"") | B8: =IFERROR(INDEX('Festivos'!$B$5:$B$64,MATCH(B7,'Festivos'!$A$5:$A$64,0)),"") | C8: =IFERROR(INDEX('Festivos'!$B$5:$B$64,MATCH(C7,'Festivos'!$A$5:$A$64,0)),"") | D8: =IFERROR(INDEX('Festivos'!$B$5:$B$64,MATCH(D7,'Festivos'!$A$5:$A$64,0)),"") | E8: =IFERROR(INDEX('Festivos'!$B$5:$B$64,MATCH(E7,'Festivos'!$A$5:$A$64,0)),"") | F8: =IFERROR(INDEX('Festivos'!$B$5:$B$64,MATCH(F7,'Festivos'!$A$5:$A$64,0)),"") | G8: =IFERROR(INDEX('Festivos'!$B$5:$B$64,MATCH(G7,'Festivos'!$A$5:$A$64,0)),"")
A9: 46489 | B9: 46490 | C9: 46491 | D9: 46492 | E9: 46493 | F9: 46494 | G9: 46495
A10: =IFERROR(INDEX('Festivos'!$B$5:$B$64,MATCH(A9,'Festivos'!$A$5:$A$64,0)),"") | B10: =IFERROR(INDEX('Festivos'!$B$5:$B$64,MATCH(B9,'Festivos'!$A$5:$A$64,0)),"") | C10: =IFERROR(INDEX('Festivos'!$B$5:$B$64,MATCH(C9,'Festivos'!$A$5:$A$64,0)),"") | D10: =IFERROR(INDEX('Festivos'!$B$5:$B$64,MATCH(D9,'Festivos'!$A$5:$A$64,0)),"") | E10: =IFERROR(INDEX('Festivos'!$B$5:$B$64,MATCH(E9,'Festivos'!$A$5:$A$64,0)),"") | F10: =IFERROR(INDEX('Festivos'!$B$5:$B$64,MATCH(F9,'Festivos'!$A$5:$A$64,0)),"") | G10: =IFERROR(INDEX('Festivos'!$B$5:$B$64,MATCH(G9,'Festivos'!$A$5:$A$64,0)),"")
A11: 46496 | B11: 46497 | C11: 46498 | D11: 46499 | E11: 46500 | F11: 46501 | G11: 46502
A12: =IFERROR(INDEX('Festivos'!$B$5:$B$64,MATCH(A11,'Festivos'!$A$5:$A$64,0)),"") | B12: =IFERROR(INDEX('Festivos'!$B$5:$B$64,MATCH(B11,'Festivos'!$A$5:$A$64,0)),"") | C12: =IFERROR(INDEX('Festivos'!$B$5:$B$64,MATCH(C11,'Festivos'!$A$5:$A$64,0)),"") | D12: =IFERROR(INDEX('Festivos'!$B$5:$B$64,MATCH(D11,'Festivos'!$A$5:$A$64,0)),"") | E12: =IFERROR(INDEX('Festivos'!$B$5:$B$64,MATCH(E11,'Festivos'!$A$5:$A$64,0)),"") | F12: =IFERROR(INDEX('Festivos'!$B$5:$B$64,MATCH(F11,'Festivos'!$A$5:$A$64,0)),"") | G12: =IFERROR(INDEX('Festivos'!$B$5:$B$64,MATCH(G11,'Festivos'!$A$5:$A$64,0)),"")
A13: 46503 | B13: 46504 | C13: 46505 | D13: 46506 | E13: 46507
A14: =IFERROR(INDEX('Festivos'!$B$5:$B$64,MATCH(A13,'Festivos'!$A$5:$A$64,0)),"") | B14: =IFERROR(INDEX('Festivos'!$B$5:$B$64,MATCH(B13,'Festivos'!$A$5:$A$64,0)),"") | C14: =IFERROR(INDEX('Festivos'!$B$5:$B$64,MATCH(C13,'Festivos'!$A$5:$A$64,0)),"") | D14: =IFERROR(INDEX('Festivos'!$B$5:$B$64,MATCH(D13,'Festivos'!$A$5:$A$64,0)),"") | E14: =IFERROR(INDEX('Festivos'!$B$5:$B$64,MATCH(E13,'Festivos'!$A$5:$A$64,0)),"")

Sheet Festivos
A1: Festivos
A2: Calendario
A4: Fecha | B4: Festivo
