Workbook

Sheet Enero 2027
A1: Enero 2027
A2: Calendario
A4: Lunes | B4: Martes | C4: Miércoles | D4: Jueves | E4: Viernes | F4: Sábado | G4: Domingo
E5: 46388 | F5: 46389 | G5: 46390
E6: =IFERROR(INDEX('Festivos'!$B$5:$B$64,MATCH(E5,'Festivos'!$A$5:$A$64,0)),"") | F6: =IFERROR(INDEX('Festivos'!$B$5:$B$64,MATCH(F5,'Festivos'!$A$5:$A$64,0)),"") | G6: =IFERROR(INDEX('Festivos'!$B$5:$B$64,MATCH(G5,'Festivos'!$A$5:$A$64,0)),"")
A7: 46391 | B7: 46392 | C7: 46393 | D7: 46394 | E7: 46395 | F7: 46396 | G7: 46397
A8: =IFERROR(INDEX('Festivos'!$B$5:$B$64,MATCH(A7,'Festivos'!$A$5:$A$64,0)),"") | B8: =IFERROR(INDEX('Festivos'!$B$5:$B$64,MATCH(B7,'Festivos'!$A$5:$A$64,0)),"") | C8: =IFERROR(INDEX('Festivos'!$B$5:$B$64,MATCH(C7,'Festivos'!$A$5:$A$64,0)),"") | D8: =IFERROR(INDEX('Festivos'!$B$5:$B$64,MATCH(D7,'Festivos'!$A$5:$A$64,0)),"") | E8: =IFERROR(INDEX('Festivos'!$B$5:$B$64,MATCH(E7,'Festivos'!$A$5:$A$64,0)),"") | F8: =IFERROR(INDEX('Festivos'!$B$5:$B$64,MATCH(F7,'Festivos'!$A$5:$A$64,0)),"") | G8: =IFERROR(INDEX('Festivos'!$B$5:$B$64,MATCH(G7,'Festivos'!$A$5:$A$64,0)),"")
A9: 46398 | B9: 46399 | C9: 46400 | D9: 46401 | E9: 46402 | F9: 46403 | G9: 46404
A10: =IFERROR(INDEX('Festivos'!$B$5:$B$64,MATCH(A9,'Festivos'!$A$5:$A$64,0)),"") | B10: =IFERROR(INDEX('Festivos'!$B$5:$B$64,MATCH(B9,'Festivos'!$A$5:$A$64,0)),"") | C10: =IFERROR(INDEX('Festivos'!$B$5:$B$64,MATCH(C9,'Festivos'!$A$5:$A$64,0)),"") | D10: =IFERROR(INDEX('Festivos'!$B$5:$B$64,MATCH(D9,'Festivos'!$A$5:$A$64,0)),"") | E10: =IFERROR(INDEX('Festivos'!$B$5:$B$64,MATCH(E9,'Festivos'!$A$5:$A$64,0)),"") | F10: =IFERROR(INDEX('Festivos'!$B$5:$B$64,MATCH(F9,'Festivos'!$A$5:$A$64,0)),"") | G10: =IFERROR(INDEX('Festivos'!$B$5:$B$64,MATCH(G9,'Festivos'!$A$5:$A$64,0)),"")
A11: 46405 | B11: 46406 | C11: 46407 | D11: 46408 | E11: 46409 | F11: 46410 | G11: 46411
A12: =IFERROR(INDEX('Festivos'!$B$5:$B$64,MATCH(A11,'Festivos'!$A$5:$A$64,0)),"") | B12: =IFERROR(INDEX('Festivos'!$B$5:$B$64,MATCH(B11,'Festivos'!$A$5:$A$64,0)),"") | C12: =IFERROR(INDEX('Festivos'!$B$5:$B$64,MATCH(C11,'Festivos'!$A$5:$A$64,0)),"") | D12: =IFERROR(INDEX('Festivos'!$B$5:$B$64,MATCH(D11,'Festivos'!$A$5:$A$64,0)),"") | E12: =IFERROR(INDEX('Festivos'!$B$5:$B$64,MATCH(E11,'Festivos'!$A$5:$A$64,0)),"") | F12: =IFERROR(INDEX('Festivos'!$B$5:$B$64,MATCH(F11,'Festivos'!$A$5:$A$64,0)),"") | G12: =IFERROR(INDEX('Festivos'!$B$5:$B$64,MATCH(G11,'Festivos'!$A$5:$A$64,0)),"")
A13: 46412 | B13: 46413 | C13: 46414 | D13: 46415 | E13: 46416 | F13: 46417 | G13: 46418
A14: =IFERROR(INDEX('Festivos'!$B$5:$B$64,MATCH(A13,'Festivos'!$A$5:$A$64,0)),"") | B14: =IFERROR(INDEX('Festivos'!$B$5:$B$64,MATCH(B13,'Festivos'!$A$5:$A$64,0)),"") | C14: =IFERROR(INDEX('Festivos'!$B$5:$B$64,MATCH(C13,'Festivos'!$A$5:$A$64,0)),"") | D14: =IFERROR(INDEX('Festivos'!$B$5:$B$64,MATCH(D13,'Festivos'!$A$5:$A$64,0)),"") | E14: =IFERROR(INDEX('Festivos'!$B$5:$B$64,MATCH(E13,'Festivos'!$A$5:$A$64,0)),"") | F14: =IFERROR(INDEX('Festivos'!$B$5:$B$64,MATCH(F13,'Festivos'!$A$5:$A$64,0)),"") | G14: =IFERROR(INDEX('Festivos'!$B$5:$B$64,MATCH(G13,'Festivos'!$A$5:$A$64,0)),"")

Sheet Festivos
A1: Festivos
A2: Calendario
A4: Fecha | B4: Festivo
