Workbook

Sheet Enero 2027
A1: Enero 2027
A2: Calendario · Festivos de Colombia
A4: Lunes | B4: Martes | C4: Miércoles | D4: Jueves | E4: Viernes | F4: Sábado | G4: Domingo
E5: 46388 | F5: 46389 | G5: 46390
E6: =IFERROR(INDEX('Festivos'!$B$5:$B$64,MATCH(E5,'Festivos'!$A$5:$A$64,0)),"") -> Año Nuevo | F6: =IFERROR(INDEX('Festivos'!$B$5:$B$64,MATCH(F5,'Festivos'!$A$5:$A$64,0)),"") | G6: =IFERROR(INDEX('Festivos'!$B$5:$B$64,MATCH(G5,'Festivos'!$A$5:$A$64,0)),"")
A7: 46391 | B7: 46392 | C7: 46393 | D7: 46394 | E7: 46395 | F7: 46396 | G7: 46397
A8: =IFERROR(INDEX('Festivos'!$B$5:$B$64,MATCH(A7,'Festivos'!$A$5:$A$64,0)),"") | B8: =IFERROR(INDEX('Festivos'!$B$5:$B$64,MATCH(B7,'Festivos'!$A$5:$A$64,0)),"") | C8: =IFERROR(INDEX('Festivos'!$B$5:$B$64,MATCH(C7,'Festivos'!$A$5:$A$64,0)),"") | D8: =IFERROR(INDEX('Festivos'!$B$5:$B$64,MATCH(D7,'Festivos'!$A$5:$A$64,0)),"") | E8: =IFERROR(INDEX('Festivos'!$B$5:$B$64,MATCH(E7,'Festivos'!$A$5:$A$64,0)),"") | F8: =IFERROR(INDEX('Festivos'!$B$5:$B$64,MATCH(F7,'Festivos'!$A$5:$A$64,0)),"") | G8: =IFERROR(INDEX('Festivos'!$B$5:$B$64,MATCH(G7,'Festivos'!$A$5:$A$64,0)),"")
A9: 46398 | B9: 46399 | C9: 46400 | D9: 46401 | E9: 46402 | F9: 46403 | G9: 46404
A10: =IFERROR(INDEX('Festivos'!$B$5:$B$64,MATCH(A9,'Festivos'!$A$5:$A$64,0)),"") -> Día de los Reyes Magos | B10: =IFERROR(INDEX('Festivos'!$B$5:$B$64,MATCH(B9,'Festivos'!$A$5:$A$64,0)),"") | C10: =IFERROR(INDEX('Festivos'!$B$5:$B$64,MATCH(C9,'Festivos'!$A$5:$A$64,0)),"") | D10: =IFERROR(INDEX('Festivos'!$B$5:$B$64,MATCH(D9,'Festivos'!$A$5:$A$64,0)),"") | E10: =IFERROR(INDEX('Festivos'!$B$5:$B$64,MATCH(E9,'Festivos'!$A$5:$A$64,0)),"") | F10: =IFERROR(INDEX('Festivos'!$B$5:$B$64,MATCH(F9,'Festivos'!$A$5:$A$64,0)),"") | G10: =IFERROR(INDEX('Festivos'!$B$5:$B$64,MATCH(G9,'Festivos'!$A$5:$A$64,0)),"")
A11: 46405 | B11: 46406 | C11: 46407 | D11: 46408 | E11: 46409 | F11: 46410 | G11: 46411
A12: =IFERROR(INDEX('Festivos'!$B$5:$B$64,MATCH(A11,'Festivos'!$A$5:$A$64,0)),"") | B12: =IFERROR(INDEX('Festivos'!$B$5:$B$64,MATCH(B11,'Festivos'!$A$5:$A$64,0)),"") | C12: =IFERROR(INDEX('Festivos'!$B$5:$B$64,MATCH(C11,'Festivos'!$A$5:$A$64,0)),"") | D12: =IFERROR(INDEX('Festivos'!$B$5:$B$64,MATCH(D11,'Festivos'!$A$5:$A$64,0)),"") | E12: =IFERROR(INDEX('Festivos'!$B$5:$B$64,MATCH(E11,'Festivos'!$A$5:$A$64,0)),"") | F12: =IFERROR(INDEX('Festivos'!$B$5:$B$64,MATCH(F11,'Festivos'!$A$5:$A$64,0)),"") | G12: =IFERROR(INDEX('Festivos'!$B$5:$B$64,MATCH(G11,'Festivos'!$A$5:$A$64,0)),"")
A13: 46412 | B13: 46413 | C13: 46414 | D13: 46415 | E13: 46416 | F13: 46417 | G13: 46418
A14: =IFERROR(INDEX('Festivos'!$B$5:$B$64,MATCH(A13,'Festivos'!$A$5:$A$64,0)),"") | B14: =IFERROR(INDEX('Festivos'!$B$5:$B$64,MATCH(B13,'Festivos'!$A$5:$A$64,0)),"") | C14: =IFERROR(INDEX('Festivos'!$B$5:$B$64,MATCH(C13,'Festivos'!$A$5:$A$64,0)),"") | D14: =IFERROR(INDEX('Festivos'!$B$5:$B$64,MATCH(D13,'Festivos'!$A$5:$A$64,0)),"") | E14: =IFERROR(INDEX('Festivos'!$B$5:$B$64,MATCH(E13,'Festivos'!$A$5:$A$64,0)),"") | F14: =IFERROR(INDEX('Festivos'!$B$5:$B$64,MATCH(F13,'Festivos'!$A$5:$A$64,0)),"") | G14: =IFERROR(INDEX('Festivos'!$B$5:$B$64,MATCH(G13,'Festivos'!$A$5:$A$64,0)),"")

Sheet Febrero 2027
A1: Febrero 2027
A2: Calendario · Festivos de Colombia
A4: Lunes | B4: Martes | C4: Miércoles | D4: Jueves | E4: Viernes | F4: Sábado | G4: Domingo
A5: 46419 | B5: 46420 | C5: 46421 | D5: 46422 | E5: 46423 | F5: 46424 | G5: 46425
A6: =IFERROR(INDEX('Festivos'!$B$5:$B$64,MATCH(A5,'Festivos'!$A$5:$A$64,0)),"") | B6: =IFERROR(INDEX('Festivos'!$B$5:$B$64,MATCH(B5,'Festivos'!$A$5:$A$64,0)),"") | C6: =IFERROR(INDEX('Festivos'!$B$5:$B$64,MATCH(C5,'Festivos'!$A$5:$A$64,0)),"") | D6: =IFERROR(INDEX('Festivos'!$B$5:$B$64,MATCH(D5,'Festivos'!$A$5:$A$64,0)),"") | E6: =IFERROR(INDEX('Festivos'!$B$5:$B$64,MATCH(E5,'Festivos'!$A$5:$A$64,0)),"") | F6: =IFERROR(INDEX('Festivos'!$B$5:$B$64,MATCH(F5,'Festivos'!$A$5:$A$64,0)),"") | G6: =IFERROR(INDEX('Festivos'!$B$5:$B$64,MATCH(G5,'Festivos'!$A$5:$A$64,0)),"")
A7: 46426 | B7: 46427 | C7: 46428 | D7: 46429 | E7: 46430 | F7: 46431 | G7: 46432
A8: =IFERROR(INDEX('Festivos'!$B$5:$B$64,MATCH(A7,'Festivos'!$A$5:$A$64,0)),"") | B8: =IFERROR(INDEX('Festivos'!$B$5:$B$64,MATCH(B7,'Festivos'!$A$5:$A$64,0)),"") | C8: =IFERROR(INDEX('Festivos'!$B$5:$B$64,MATCH(C7,'Festivos'!$A$5:$A$64,0)),"") | D8: =IFERROR(INDEX('Festivos'!$B$5:$B$64,MATCH(D7,'Festivos'!$A$5:$A$64,0)),"") | E8: =IFERROR(INDEX('Festivos'!$B$5:$B$64,MATCH(E7,'Festivos'!$A$5:$A$64,0)),"") | F8: =IFERROR(INDEX('Festivos'!$B$5:$B$64,MATCH(F7,'Festivos'!$A$5:$A$64,0)),"") | G8: =IFERROR(INDEX('Festivos'!$B$5:$B$64,MATCH(G7,'Festivos'!$A$5:$A$64,0)),"")
A9: 46433 | B9: 46434 | C9: 46435 | D9: 46436 | E9: 46437 | F9: 46438 | G9: 46439
A10: =IFERROR(INDEX('Festivos'!$B$5:$B$64,MATCH(A9,'Festivos'!$A$5:$A$64,0)),"") | B10: =IFERROR(INDEX('Festivos'!$B$5:$B$64,MATCH(B9,'Festivos'!$A$5:$A$64,0)),"") | C10: =IFERROR(INDEX('Festivos'!$B$5:$B$64,MATCH(C9,'Festivos'!$A$5:$A$64,0)),"") | D10: =IFERROR(INDEX('Festivos'!$B$5:$B$64,MATCH(D9,'Festivos'!$A$5:$A$64,0)),"") | E10: =IFERROR(INDEX('Festivos'!$B$5:$B$64,MATCH(E9,'Festivos'!$A$5:$A$64,0)),"") | F10: =IFERROR(INDEX('Festivos'!$B$5:$B$64,MATCH(F9,'Festivos'!$A$5:$A$64,0)),"") | G10: =IFERROR(INDEX('Festivos'!$B$5:$B$64,MATCH(G9,'Festivos'!$A$5:$A$64,0)),"")
A11: 46440 | B11: 46441 | C11: 46442 | D11: 46443 | E11: 46444 | F11: 46445 | G11: 46446
A12: =IFERROR(INDEX('Festivos'!$B$5:$B$64,MATCH(A11,'Festivos'!$A$5:$A$64,0)),"") | B12: =IFERROR(INDEX('Festivos'!$B$5:$B$64,MATCH(B11,'Festivos'!$A$5:$A$64,0)),"") | C12: =IFERROR(INDEX('Festivos'!$B$5:$B$64,MATCH(C11,'Festivos'!$A$5:$A$64,0)),"") | D12: =IFERROR(INDEX('Festivos'!$B$5:$B$64,MATCH(D11,'Festivos'!$A$5:$A$64,0)),"") | E12: =IFERROR(INDEX('Festivos'!$B$5:$B$64,MATCH(E11,'Festivos'!$A$5:$A$64,0)),"") | F12: =IFERROR(INDEX('Festivos'!$B$5:$B$64,MATCH(F11,'Festivos'!$A$5:$A$64,0)),"") | G12: =IFERROR(INDEX('Festivos'!$B$5:$B$64,MATCH(G11,'Festivos'!$A$5:$A$64,0)),"")

Sheet Marzo 2027
A1: Marzo 2027
A2: Calendario · Festivos de Colombia
A4: Lunes | B4: Martes | C4: Miércoles | D4: Jueves | E4: Viernes | F4: Sábado | G4: Domingo
A5: 46447 | B5: 46448 | C5: 46449 | D5: 46450 | E5: 46451 | F5: 46452 | G5: 46453
A6: =IFERROR(INDEX('Festivos'!$B$5:$B$64,MATCH(A5,'Festivos'!$A$5:$A$64,0)),"") | B6: =IFERROR(INDEX('Festivos'!$B$5:$B$64,MATCH(B5,'Festivos'!$A$5:$A$64,0)),"") | C6: =IFERROR(INDEX('Festivos'!$B$5:$B$64,MATCH(C5,'Festivos'!$A$5:$A$64,0)),"") | D6: =IFERROR(INDEX('Festivos'!$B$5:$B$64,MATCH(D5,'Festivos'!$A$5:$A$64,0)),"") | E6: =IFERROR(INDEX('Festivos'!$B$5:$B$64,MATCH(E5,'Festivos'!$A$5:$A$64,0)),"") | F6: =IFERROR(INDEX('Festivos'!$B$5:$B$64,MATCH(F5,'Festivos'!$A$5:$A$64,0)),"") | G6: =IFERROR(INDEX('Festivos'!$B$5:$B$64,MATCH(G5,'Festivos'!$A$5:$A$64,0)),"")
A7: 46454 | B7: 46455 | C7: 46456 | D7: 46457 | E7: 46458 | F7: 46459 | G7: 46460
A8: =IFERROR(INDEX('Festivos'!$B$5:$B$64,MATCH(A7,'Festivos'!$A$5:$A$64,0)),"") | B8: =IFERROR(INDEX('Festivos'!$B$5:$B$64,MATCH(B7,'Festivos'!$A$5:$A$64,0)),"") | C8: =IFERROR(INDEX('Festivos'!$B$5:$B$64,MATCH(C7,'Festivos'!$A$5:$A$64,0)),"") | D8: =IFERROR(INDEX('Festivos'!$B$5:$B$64,MATCH(D7,'Festivos'!$A$5:$A$64,0)),"") | E8: =IFERROR(INDEX('Festivos'!$B$5:$B$64,MATCH(E7,'Festivos'!$A$5:$A$64,0)),"") | F8: =IFERROR(INDEX('Festivos'!$B$5:$B$64,MATCH(F7,'Festivos'!$A$5:$A$64,0)),"") | G8: =IFERROR(INDEX('Festivos'!$B$5:$B$64,MATCH(G7,'Festivos'!$A$5:$A$64,0)),"")
A9: 46461 | B9: 46462 | C9: 46463 | D9: 46464 | E9: 46465 | F9: 46466 | G9: 46467
A10: =IFERROR(INDEX('Festivos'!$B$5:$B$64,MATCH(A9,'Festivos'!$A$5:$A$64,0)),"") | B10: =IFERROR(INDEX('Festivos'!$B$5:$B$64,MATCH(B9,'Festivos'!$A$5:$A$64,0)),"") | C10: =IFERROR(INDEX('Festivos'!$B$5:$B$64,MATCH(C9,'Festivos'!$A$5:$A$64,0)),"") | D10: =IFERROR(INDEX('Festivos'!$B$5:$B$64,MATCH(D9,'Festivos'!$A$5:$A$64,0)),"") | E10: =IFERROR(INDEX('Festivos'!$B$5:$B$64,MATCH(E9,'Festivos'!$A$5:$A$64,0)),"") | F10: =IFERROR(INDEX('Festivos'!$B$5:$B$64,MATCH(F9,'Festivos'!$A$5:$A$64,0)),"") | G10: =IFERROR(INDEX('Festivos'!$B$5:$B$64,MATCH(G9,'Festivos'!$A$5:$A$64,0)),"")
A11: 46468 | B11: 46469 | C11: 46470 | D11: 46471 | E11: 46472 | F11: 46473 | G11: 46474
A12: =IFERROR(INDEX('Festivos'!$B$5:$B$64,MATCH(A11,'Festivos'!$A$5:$A$64,0)),"") -> Día de San José | B12: =IFERROR(INDEX('Festivos'!$B$5:$B$64,MATCH(B11,'Festivos'!$A$5:$A$64,0)),"") | C12: =IFERROR(INDEX('Festivos'!$B$5:$B$64,MATCH(C11,'Festivos'!$A$5:$A$64,0)),"") | D12: =IFERROR(INDEX('Festivos'!$B$5:$B$64,MATCH(D11,'Festivos'!$A$5:$A$64,0)),"") -> Jueves Santo | E12: =IFERROR(INDEX('Festivos'!$B$5:$B$64,MATCH(E11,'Festivos'!$A$5:$A$64,0)),"") -> Viernes Santo | F12: =IFERROR(INDEX('Festivos'!$B$5:$B$64,MATCH(F11,'Festivos'!$A$5:$A$64,0)),"") | G12: =IFERROR(INDEX('Festivos'!$B$5:$B$64,MATCH(G11,'Festivos'!$A$5:$A$64,0)),"")
A13: 46475 | B13: 46476 | C13: 46477
A14: =IFERROR(INDEX('Festivos'!$B$5:$B$64,MATCH(A13,'Festivos'!$A$5:$A$64,0)),"") | B14: =IFERROR(INDEX('Festivos'!$B$5:$B$64,MATCH(B13,'Festivos'!$A$5:$A$64,0)),"") | C14: =IFERROR(INDEX('Festivos'!$B$5:$B$64,MATCH(C13,'Festivos'!$A$5:$A$64,0)),"")

Sheet Abril 2027
A1: Abril 2027
A2: Calendario · Festivos de Colombia
A4: Lunes | B4: Martes | C4: Miércoles | D4: Jueves | E4: Viernes | F4: Sábado | G4: Domingo
D5: 46478 | E5: 46479 | F5: 46480 | G5: 46481
D6: =IFERROR(INDEX('Festivos'!$B$5:$B$64,MATCH(D5,'Festivos'!$A$5:$A$64,0)),"") | E6: =IFERROR(INDEX('Festivos'!$B$5:$B$64,MATCH(E5,'Festivos'!$A$5:$A$64,0)),"") | F6: =IFERROR(INDEX('Festivos'!$B$5:$B$64,MATCH(F5,'Festivos'!$A$5:$A$64,0)),"") | G6: =IFERROR(INDEX('Festivos'!$B$5:$B$64,MATCH(G5,'Festivos'!$A$5:$A$64,0)),"")
A7: 46482 | B7: 46483 | C7: 46484 | D7: 46485 | E7: 46486 | F7: 46487 | G7: 46488
A8: =IFERROR(INDEX('Festivos'!$B$5:$B$64,MATCH(A7,'Festivos'!$A$5:$A$64,0)),"") | B8: =IFERROR(INDEX('Festivos'!$B$5:$B$64,MATCH(B7,'Festivos'!$A$5:$A$64,0)),"") | C8: =IFERROR(INDEX('Festivos'!$B$5:$B$64,MATCH(C7,'Festivos'!$A$5:$A$64,0)),"") | D8: =IFERROR(INDEX('Festivos'!$B$5:$B$64,MATCH(D7,'Festivos'!$A$5:$A$64,0)),"") | E8: =IFERROR(INDEX('Festivos'!$B$5:$B$64,MATCH(E7,'Festivos'!$A$5:$A$64,0)),"") | F8: =IFERROR(INDEX('Festivos'!$B$5:$B$64,MATCH(F7,'Festivos'!$A$5:$A$64,0)),"") | G8: =IFERROR(INDEX('Festivos'!$B$5:$B$64,MATCH(G7,'Festivos'!$A$5:$A$64,0)),"")
A9: 46489 | B9: 46490 | C9: 46491 | D9: 46492 | E9: 46493 | F9: 46494 | G9: 46495
A10: =IFERROR(INDEX('Festivos'!$B$5:$B$64,MATCH(A9,'Festivos'!$A$5:$A$64,0)),"") | B10: =IFERROR(INDEX('Festivos'!$B$5:$B$64,MATCH(B9,'Festivos'!$A$5:$A$64,0)),"") | C10: =IFERROR(INDEX('Festivos'!$B$5:$B$64,MATCH(C9,'Festivos'!$A$5:$A$64,0)),"") | D10: =IFERROR(INDEX('Festivos'!$B$5:$B$64,MATCH(D9,'Festivos'!$A$5:$A$64,0)),"") | E10: =IFERROR(INDEX('Festivos'!$B$5:$B$64,MATCH(E9,'Festivos'!$A$5:$A$64,0)),"") | F10: =IFERROR(INDEX('Festivos'!$B$5:$B$64,MATCH(F9,'Festivos'!$A$5:$A$64,0)),"") | G10: =IFERROR(INDEX('Festivos'!$B$5:$B$64,MATCH(G9,'Festivos'!$A$5:$A$64,0)),"")
A11: 46496 | B11: 46497 | C11: 46498 | D11: 46499 | E11: 46500 | F11: 46501 | G11: 46502
A12: =IFERROR(INDEX('Festivos'!$B$5:$B$64,MATCH(A11,'Festivos'!$A$5:$A$64,0)),"") | B12: =IFERROR(INDEX('Festivos'!$B$5:$B$64,MATCH(B11,'Festivos'!$A$5:$A$64,0)),"") | C12: =IFERROR(INDEX('Festivos'!$B$5:$B$64,MATCH(C11,'Festivos'!$A$5:$A$64,0)),"") | D12: =IFERROR(INDEX('Festivos'!$B$5:$B$64,MATCH(D11,'Festivos'!$A$5:$A$64,0)),"") | E12: =IFERROR(INDEX('Festivos'!$B$5:$B$64,MATCH(E11,'Festivos'!$A$5:$A$64,0)),"") | F12: =IFERROR(INDEX('Festivos'!$B$5:$B$64,MATCH(F11,'Festivos'!$A$5:$A$64,0)),"") | G12: =IFERROR(INDEX('Festivos'!$B$5:$B$64,MATCH(G11,'Festivos'!$A$5:$A$64,0)),"")
A13: 46503 | B13: 46504 | C13: 46505 | D13: 46506 | E13: 46507
A14: =IFERROR(INDEX('Festivos'!$B$5:$B$64,MATCH(A13,'Festivos'!$A$5:$A$64,0)),"") | B14: =IFERROR(INDEX('Festivos'!$B$5:$B$64,MATCH(B13,'Festivos'!$A$5:$A$64,0)),"") | C14: =IFERROR(INDEX('Festivos'!$B$5:$B$64,MATCH(C13,'Festivos'!$A$5:$A$64,0)),"") | D14: =IFERROR(INDEX('Festivos'!$B$5:$B$64,MATCH(D13,'Festivos'!$A$5:$A$64,0)),"") | E14: =IFERROR(INDEX('Festivos'!$B$5:$B$64,MATCH(E13,'Festivos'!$A$5:$A$64,0)),"")

Sheet Mayo 2027
A1: Mayo 2027
A2: Calendario · Festivos de Colombia
A4: Lunes | B4: Martes | C4: Miércoles | D4: Jueves | E4: Viernes | F4: Sábado | G4: Domingo
F5: 46508 | G5: 46509
F6: =IFERROR(INDEX('Festivos'!$B$5:$B$64,MATCH(F5,'Festivos'!$A$5:$A$64,0)),"") -> Día del Trabajo | G6: =IFERROR(INDEX('Festivos'!$B$5:$B$64,MATCH(G5,'Festivos'!$A$5:$A$64,0)),"")
A7: 46510 | B7: 46511 | C7: 46512 | D7: 46513 | E7: 46514 | F7: 46515 | G7: 46516
A8: =IFERROR(INDEX('Festivos'!$B$5:$B$64,MATCH(A7,'Festivos'!$A$5:$A$64,0)),"") | B8: =IFERROR(INDEX('Festivos'!$B$5:$B$64,MATCH(B7,'Festivos'!$A$5:$A$64,0)),"") | C8: =IFERROR(INDEX('Festivos'!$B$5:$B$64,MATCH(C7,'Festivos'!$A$5:$A$64,0)),"") | D8: =IFERROR(INDEX('Festivos'!$B$5:$B$64,MATCH(D7,'Festivos'!$A$5:$A$64,0)),"") | E8: =IFERROR(INDEX('Festivos'!$B$5:$B$64,MATCH(E7,'Festivos'!$A$5:$A$64,0)),"") | F8: =IFERROR(INDEX('Festivos'!$B$5:$B$64,MATCH(F7,'Festivos'!$A$5:$A$64,0)),"") | G8: =IFERROR(INDEX('Festivos'!$B$5:$B$64,MATCH(G7,'Festivos'!$A$5:$A$64,0)),"")
A9: 46517 | B9: 46518 | C9: 46519 | D9: 46520 | E9: 46521 | F9: 46522 | G9: 46523
A10: =IFERROR(INDEX('Festivos'!$B$5:$B$64,MATCH(A9,'Festivos'!$A$5:$A$64,0)),"") -> Ascensión del Señor | B10: =IFERROR(INDEX('Festivos'!$B$5:$B$64,MATCH(B9,'Festivos'!$A$5:$A$64,0)),"") | C10: =IFERROR(INDEX('Festivos'!$B$5:$B$64,MATCH(C9,'Festivos'!$A$5:$A$64,0)),"") | D10: =IFERROR(INDEX('Festivos'!$B$5:$B$64,MATCH(D9,'Festivos'!$A$5:$A$64,0)),"") | E10: =IFERROR(INDEX('Festivos'!$B$5:$B$64,MATCH(E9,'Festivos'!$A$5:$A$64,0)),"") | F10: =IFERROR(INDEX('Festivos'!$B$5:$B$64,MATCH(F9,'Festivos'!$A$5:$A$64,0)),"") | G10: =IFERROR(INDEX('Festivos'!$B$5:$B$64,MATCH(G9,'Festivos'!$A$5:$A$64,0)),"")
A11: 46524 | B11: 46525 | C11: 46526 | D11: 46527 | E11: 46528 | F11: 46529 | G11: 46530
A12: =IFERROR(INDEX('Festivos'!$B$5:$B$64,MATCH(A11,'Festivos'!$A$5:$A$64,0)),"") | B12: =IFERROR(INDEX('Festivos'!$B$5:$B$64,MATCH(B11,'Festivos'!$A$5:$A$64,0)),"") | C12: =IFERROR(INDEX('Festivos'!$B$5:$B$64,MATCH(C11,'Festivos'!$A$5:$A$64,0)),"") | D12: =IFERROR(INDEX('Festivos'!$B$5:$B$64,MATCH(D11,'Festivos'!$A$5:$A$64,0)),"") | E12: =IFERROR(INDEX('Festivos'!$B$5:$B$64,MATCH(E11,'Festivos'!$A$5:$A$64,0)),"") | F12: =IFERROR(INDEX('Festivos'!$B$5:$B$64,MATCH(F11,'Festivos'!$A$5:$A$64,0)),"") | G12: =IFERROR(INDEX('Festivos'!$B$5:$B$64,MATCH(G11,'Festivos'!$A$5:$A$64,0)),"")
A13: 46531 | B13: 46532 | C13: 46533 | D13: 46534 | E13: 46535 | F13: 46536 | G13: 46537
A14: =IFERROR(INDEX('Festivos'!$B$5:$B$64,MATCH(A13,'Festivos'!$A$5:$A$64,0)),"") | B14: =IFERROR(INDEX('Festivos'!$B$5:$B$64,MATCH(B13,'Festivos'!$A$5:$A$64,0)),"") | C14: =IFERROR(INDEX('Festivos'!$B$5:$B$64,MATCH(C13,'Festivos'!$A$5:$A$64,0)),"") | D14: =IFERROR(INDEX('Festivos'!$B$5:$B$64,MATCH(D13,'Festivos'!$A$5:$A$64,0)),"") | E14: =IFERROR(INDEX('Festivos'!$B$5:$B$64,MATCH(E13,'Festivos'!$A$5:$A$64,0)),"") | F14: =IFERROR(INDEX('Festivos'!$B$5:$B$64,MATCH(F13,'Festivos'!$A$5:$A$64,0)),"") | G14: =IFERROR(INDEX('Festivos'!$B$5:$B$64,MATCH(G13,'Festivos'!$A$5:$A$64,0)),"")
A15: 46538
A16: =IFERROR(INDEX('Festivos'!$B$5:$B$64,MATCH(A15,'Festivos'!$A$5:$A$64,0)),"") -> Corpus Christi

Sheet Junio 2027
A1: Junio 2027
A2: Calendario · Festivos de Colombia
A4: Lunes | B4: Martes | C4: Miércoles | D4: Jueves | E4: Viernes | F4: Sábado | G4: Domingo
B5: 46539 | C5: 46540 | D5: 46541 | E5: 46542 | F5: 46543 | G5: 46544
B6: =IFERROR(INDEX('Festivos'!$B$5:$B$64,MATCH(B5,'Festivos'!$A$5:$A$64,0)),"") | C6: =IFERROR(INDEX('Festivos'!$B$5:$B$64,MATCH(C5,'Festivos'!$A$5:$A$64,0)),"") | D6: =IFERROR(INDEX('Festivos'!$B$5:$B$64,MATCH(D5,'Festivos'!$A$5:$A$64,0)),"") | E6: =IFERROR(INDEX('Festivos'!$B$5:$B$64,MATCH(E5,'Festivos'!$A$5:$A$64,0)),"") | F6: =IFERROR(INDEX('Festivos'!$B$5:$B$64,MATCH(F5,'Festivos'!$A$5:$A$64,0)),"") | G6: =IFERROR(INDEX('Festivos'!$B$5:$B$64,MATCH(G5,'Festivos'!$A$5:$A$64,0)),"")
A7: 46545 | B7: 46546 | C7: 46547 | D7: 46548 | E7: 46549 | F7: 46550 | G7: 46551
A8: =IFERROR(INDEX('Festivos'!$B$5:$B$64,MATCH(A7,'Festivos'!$A$5:$A$64,0)),"") -> Sagrado Corazón | B8: =IFERROR(INDEX('Festivos'!$B$5:$B$64,MATCH(B7,'Festivos'!$A$5:$A$64,0)),"") | C8: =IFERROR(INDEX('Festivos'!$B$5:$B$64,MATCH(C7,'Festivos'!$A$5:$A$64,0)),"") | D8: =IFERROR(INDEX('Festivos'!$B$5:$B$64,MATCH(D7,'Festivos'!$A$5:$A$64,0)),"") | E8: =IFERROR(INDEX('Festivos'!$B$5:$B$64,MATCH(E7,'Festivos'!$A$5:$A$64,0)),"") | F8: =IFERROR(INDEX('Festivos'!$B$5:$B$64,MATCH(F7,'Festivos'!$A$5:$A$64,0)),"") | G8: =IFERROR(INDEX('Festivos'!$B$5:$B$64,MATCH(G7,'Festivos'!$A$5:$A$64,0)),"")
A9: 46552 | B9: 46553 | C9: 46554 | D9: 46555 | E9: 46556 | F9: 46557 | G9: 46558
A10: =IFERROR(INDEX('Festivos'!$B$5:$B$64,MATCH(A9,'Festivos'!$A$5:$A$64,0)),"") | B10: =IFERROR(INDEX('Festivos'!$B$5:$B$64,MATCH(B9,'Festivos'!$A$5:$A$64,0)),"") | C10: =IFERROR(INDEX('Festivos'!$B$5:$B$64,MATCH(C9,'Festivos'!$A$5:$A$64,0)),"") | D10: =IFERROR(INDEX('Festivos'!$B$5:$B$64,MATCH(D9,'Festivos'!$A$5:$A$64,0)),"") | E10: =IFERROR(INDEX('Festivos'!$B$5:$B$64,MATCH(E9,'Festivos'!$A$5:$A$64,0)),"") | F10: =IFERROR(INDEX('Festivos'!$B$5:$B$64,MATCH(F9,'Festivos'!$A$5:$A$64,0)),"") | G10: =IFERROR(INDEX('Festivos'!$B$5:$B$64,MATCH(G9,'Festivos'!$A$5:$A$64,0)),"")
A11: 46559 | B11: 46560 | C11: 46561 | D11: 46562 | E11: 46563 | F11: 46564 | G11: 46565
A12: =IFERROR(INDEX('Festivos'!$B$5:$B$64,MATCH(A11,'Festivos'!$A$5:$A$64,0)),"") | B12: =IFERROR(INDEX('Festivos'!$B$5:$B$64,MATCH(B11,'Festivos'!$A$5:$A$64,0)),"") | C12: =IFERROR(INDEX('Festivos'!$B$5:$B$64,MATCH(C11,'Festivos'!$A$5:$A$64,0)),"") | D12: =IFERROR(INDEX('Festivos'!$B$5:$B$64,MATCH(D11,'Festivos'!$A$5:$A$64,0)),"") | E12: =IFERROR(INDEX('Festivos'!$B$5:$B$64,MATCH(E11,'Festivos'!$A$5:$A$64,0)),"") | F12: =IFERROR(INDEX('Festivos'!$B$5:$B$64,MATCH(F11,'Festivos'!$A$5:$A$64,0)),"") | G12: =IFERROR(INDEX('Festivos'!$B$5:$B$64,MATCH(G11,'Festivos'!$A$5:$A$64,0)),"")
A13: 46566 | B13: 46567 | C13: 46568
A14: =IFERROR(INDEX('Festivos'!$B$5:$B$64,MATCH(A13,'Festivos'!$A$5:$A$64,0)),"") | B14: =IFERROR(INDEX('Festivos'!$B$5:$B$64,MATCH(B13,'Festivos'!$A$5:$A$64,0)),"") | C14: =IFERROR(INDEX('Festivos'!$B$5:$B$64,MATCH(C13,'Festivos'!$A$5:$A$64,0)),"")

Sheet Julio 2027
A1: Julio 2027
A2: Calendario · Festivos de Colombia
A4: Lunes | B4: Martes | C4: Miércoles | D4: Jueves | E4: Viernes | F4: Sábado | G4: Domingo
D5: 46569 | E5: 46570 | F5: 46571 | G5: 46572
D6: =IFERROR(INDEX('Festivos'!$B$5:$B$64,MATCH(D5,'Festivos'!$A$5:$A$64,0)),"") | E6: =IFERROR(INDEX('Festivos'!$B$5:$B$64,MATCH(E5,'Festivos'!$A$5:$A$64,0)),"") | F6: =IFERROR(INDEX('Festivos'!$B$5:$B$64,MATCH(F5,'Festivos'!$A$5:$A$64,0)),"") | G6: =IFERROR(INDEX('Festivos'!$B$5:$B$64,MATCH(G5,'Festivos'!$A$5:$A$64,0)),"")
A7: 46573 | B7: 46574 | C7: 46575 | D7: 46576 | E7: 46577 | F7: 46578 | G7: 46579
A8: =IFERROR(INDEX('Festivos'!$B$5:$B$64,MATCH(A7,'Festivos'!$A$5:$A$64,0)),"") -> San Pedro y San Pablo | B8: =IFERROR(INDEX('Festivos'!$B$5:$B$64,MATCH(B7,'Festivos'!$A$5:$A$64,0)),"") | C8: =IFERROR(INDEX('Festivos'!$B$5:$B$64,MATCH(C7,'Festivos'!$A$5:$A$64,0)),"") | D8: =IFERROR(INDEX('Festivos'!$B$5:$B$64,MATCH(D7,'Festivos'!$A$5:$A$64,0)),"") | E8: =IFERROR(INDEX('Festivos'!$B$5:$B$64,MATCH(E7,'Festivos'!$A$5:$A$64,0)),"") | F8: =IFERROR(INDEX('Festivos'!$B$5:$B$64,MATCH(F7,'Festivos'!$A$5:$A$64,0)),"") | G8: =IFERROR(INDEX('Festivos'!$B$5:$B$64,MATCH(G7,'Festivos'!$A$5:$A$64,0)),"")
A9: 46580 | B9: 46581 | C9: 46582 | D9: 46583 | E9: 46584 | F9: 46585 | G9: 46586
A10: =IFERROR(INDEX('Festivos'!$B$5:$B$64,MATCH(A9,'Festivos'!$A$5:$A$64,0)),"") | B10: =IFERROR(INDEX('Festivos'!$B$5:$B$64,MATCH(B9,'Festivos'!$A$5:$A$64,0)),"") | C10: =IFERROR(INDEX('Festivos'!$B$5:$B$64,MATCH(C9,'Festivos'!$A$5:$A$64,0)),"") | D10: =IFERROR(INDEX('Festivos'!$B$5:$B$64,MATCH(D9,'Festivos'!$A$5:$A$64,0)),"") | E10: =IFERROR(INDEX('Festivos'!$B$5:$B$64,MATCH(E9,'Festivos'!$A$5:$A$64,0)),"") | F10: =IFERROR(INDEX('Festivos'!$B$5:$B$64,MATCH(F9,'Festivos'!$A$5:$A$64,0)),"") | G10: =IFERROR(INDEX('Festivos'!$B$5:$B$64,MATCH(G9,'Festivos'!$A$5:$A$64,0)),"")
A11: 46587 | B11: 46588 | C11: 46589 | D11: 46590 | E11: 46591 | F11: 46592 | G11: 46593
A12: =IFERROR(INDEX('Festivos'!$B$5:$B$64,MATCH(A11,'Festivos'!$A$5:$A$64,0)),"") | B12: =IFERROR(INDEX('Festivos'!$B$5:$B$64,MATCH(B11,'Festivos'!$A$5:$A$64,0)),"") -> Día de la Independencia | C12: =IFERROR(INDEX('Festivos'!$B$5:$B$64,MATCH(C11,'Festivos'!$A$5:$A$64,0)),"") | D12: =IFERROR(INDEX('Festivos'!$B$5:$B$64,MATCH(D11,'Festivos'!$A$5:$A$64,0)),"") | E12: =IFERROR(INDEX('Festivos'!$B$5:$B$64,MATCH(E11,'Festivos'!$A$5:$A$64,0)),"") | F12: =IFERROR(INDEX('Festivos'!$B$5:$B$64,MATCH(F11,'Festivos'!$A$5:$A$64,0)),"") | G12: =IFERROR(INDEX('Festivos'!$B$5:$B$64,MATCH(G11,'Festivos'!$A$5:$A$64,0)),"")
A13: 46594 | B13: 46595 | C13: 46596 | D13: 46597 | E13: 46598 | F13: 46599
A14: =IFERROR(INDEX('Festivos'!$B$5:$B$64,MATCH(A13,'Festivos'!$A$5:$A$64,0)),"") | B14: =IFERROR(INDEX('Festivos'!$B$5:$B$64,MATCH(B13,'Festivos'!$A$5:$A$64,0)),"") | C14: =IFERROR(INDEX('Festivos'!$B$5:$B$64,MATCH(C13,'Festivos'!$A$5:$A$64,0)),"") | D14: =IFERROR(INDEX('Festivos'!$B$5:$B$64,MATCH(D13,'Festivos'!$A$5:$A$64,0)),"") | E14: =IFERROR(INDEX('Festivos'!$B$5:$B$64,MATCH(E13,'Festivos'!$A$5:$A$64,0)),"") | F14: =IFERROR(INDEX('Festivos'!$B$5:$B$64,MATCH(F13,'Festivos'!$A$5:$A$64,0)),"")

Sheet Agosto 2027
A1: Agosto 2027
A2: Calendario · Festivos de Colombia
A4: Lunes | B4: Martes | C4: Miércoles | D4: Jueves | E4: Viernes | F4: Sábado | G4: Domingo
G5: 46600
G6: =IFERROR(INDEX('Festivos'!$B$5:$B$64,MATCH(G5,'Festivos'!$A$5:$A$64,0)),"")
A7: 46601 | B7: 46602 | C7: 46603 | D7: 46604 | E7: 46605 | F7: 46606 | G7: 46607
A8: =IFERROR(INDEX('Festivos'!$B$5:$B$64,MATCH(A7,'Festivos'!$A$5:$A$64,0)),"") | B8: =IFERROR(INDEX('Festivos'!$B$5:$B$64,MATCH(B7,'Festivos'!$A$5:$A$64,0)),"") | C8: =IFERROR(INDEX('Festivos'!$B$5:$B$64,MATCH(C7,'Festivos'!$A$5:$A$64,0)),"") | D8: =IFERROR(INDEX('Festivos'!$B$5:$B$64,MATCH(D7,'Festivos'!$A$5:$A$64,0)),"") | E8: =IFERROR(INDEX('Festivos'!$B$5:$B$64,MATCH(E7,'Festivos'!$A$5:$A$64,0)),"") | F8: =IFERROR(INDEX('Festivos'!$B$5:$B$64,MATCH(F7,'Festivos'!$A$5:$A$64,0)),"") -> Batalla de Boyacá | G8: =IFERROR(INDEX('Festivos'!$B$5:$B$64,MATCH(G7,'Festivos'!$A$5:$A$64,0)),"")
A9: 46608 | B9: 46609 | C9: 46610 | D9: 46611 | E9: 46612 | F9: 46613 | G9: 46614
A10: =IFERROR(INDEX('Festivos'!$B$5:$B$64,MATCH(A9,'Festivos'!$A$5:$A$64,0)),"") | B10: =IFERROR(INDEX('Festivos'!$B$5:$B$64,MATCH(B9,'Festivos'!$A$5:$A$64,0)),"") | C10: =IFERROR(INDEX('Festivos'!$B$5:$B$64,MATCH(C9,'Festivos'!$A$5:$A$64,0)),"") | D10: =IFERROR(INDEX('Festivos'!$B$5:$B$64,MATCH(D9,'Festivos'!$A$5:$A$64,0)),"") | E10: =IFERROR(INDEX('Festivos'!$B$5:$B$64,MATCH(E9,'Festivos'!$A$5:$A$64,0)),"") | F10: =IFERROR(INDEX('Festivos'!$B$5:$B$64,MATCH(F9,'Festivos'!$A$5:$A$64,0)),"") | G10: =IFERROR(INDEX('Festivos'!$B$5:$B$64,MATCH(G9,'Festivos'!$A$5:$A$64,0)),"")
A11: 46615 | B11: 46616 | C11: 46617 | D11: 46618 | E11: 46619 | F11: 46620 | G11: 46621
A12: =IFERROR(INDEX('Festivos'!$B$5:$B$64,MATCH(A11,'Festivos'!$A$5:$A$64,0)),"") -> Asunción de la Virgen | B12: =IFERROR(INDEX('Festivos'!$B$5:$B$64,MATCH(B11,'Festivos'!$A$5:$A$64,0)),"") | C12: =IFERROR(INDEX('Festivos'!$B$5:$B$64,MATCH(C11,'Festivos'!$A$5:$A$64,0)),"") | D12: =IFERROR(INDEX('Festivos'!$B$5:$B$64,MATCH(D11,'Festivos'!$A$5:$A$64,0)),"") | E12: =IFERROR(INDEX('Festivos'!$B$5:$B$64,MATCH(E11,'Festivos'!$A$5:$A$64,0)),"") | F12: =IFERROR(INDEX('Festivos'!$B$5:$B$64,MATCH(F11,'Festivos'!$A$5:$A$64,0)),"") | G12: =IFERROR(INDEX('Festivos'!$B$5:$B$64,MATCH(G11,'Festivos'!$A$5:$A$64,0)),"")
A13: 46622 | B13: 46623 | C13: 46624 | D13: 46625 | E13: 46626 | F13: 46627 | G13: 46628
A14: =IFERROR(INDEX('Festivos'!$B$5:$B$64,MATCH(A13,'Festivos'!$A$5:$A$64,0)),"") | B14: =IFERROR(INDEX('Festivos'!$B$5:$B$64,MATCH(B13,'Festivos'!$A$5:$A$64,0)),"") | C14: =IFERROR(INDEX('Festivos'!$B$5:$B$64,MATCH(C13,'Festivos'!$A$5:$A$64,0)),"") | D14: =IFERROR(INDEX('Festivos'!$B$5:$B$64,MATCH(D13,'Festivos'!$A$5:$A$64,0)),"") | E14: =IFERROR(INDEX('Festivos'!$B$5:$B$64,MATCH(E13,'Festivos'!$A$5:$A$64,0)),"") | F14: =IFERROR(INDEX('Festivos'!$B$5:$B$64,MATCH(F13,'Festivos'!$A$5:$A$64,0)),"") | G14: =IFERROR(INDEX('Festivos'!$B$5:$B$64,MATCH(G13,'Festivos'!$A$5:$A$64,0)),"")
A15: 46629 | B15: 46630
A16: =IFERROR(INDEX('Festivos'!$B$5:$B$64,MATCH(A15,'Festivos'!$A$5:$A$64,0)),"") | B16: =IFERROR(INDEX('Festivos'!$B$5:$B$64,MATCH(B15,'Festivos'!$A$5:$A$64,0)),"")

Sheet Septiembre 2027
A1: Septiembre 2027
A2: Calendario · Festivos de Colombia
A4: Lunes | B4: Martes | C4: Miércoles | D4: Jueves | E4: Viernes | F4: Sábado | G4: Domingo
C5: 46631 | D5: 46632 | E5: 46633 | F5: 46634 | G5: 46635
C6: =IFERROR(INDEX('Festivos'!$B$5:$B$64,MATCH(C5,'Festivos'!$A$5:$A$64,0)),"") | D6: =IFERROR(INDEX('Festivos'!$B$5:$B$64,MATCH(D5,'Festivos'!$A$5:$A$64,0)),"") | E6: =IFERROR(INDEX('Festivos'!$B$5:$B$64,MATCH(E5,'Festivos'!$A$5:$A$64,0)),"") | F6: =IFERROR(INDEX('Festivos'!$B$5:$B$64,MATCH(F5,'Festivos'!$A$5:$A$64,0)),"") | G6: =IFERROR(INDEX('Festivos'!$B$5:$B$64,MATCH(G5,'Festivos'!$A$5:$A$64,0)),"")
A7: 46636 | B7: 46637 | C7: 46638 | D7: 46639 | E7: 46640 | F7: 46641 | G7: 46642
A8: =IFERROR(INDEX('Festivos'!$B$5:$B$64,MATCH(A7,'Festivos'!$A$5:$A$64,0)),"") | B8: =IFERROR(INDEX('Festivos'!$B$5:$B$64,MATCH(B7,'Festivos'!$A$5:$A$64,0)),"") | C8: =IFERROR(INDEX('Festivos'!$B$5:$B$64,MATCH(C7,'Festivos'!$A$5:$A$64,0)),"") | D8: =IFERROR(INDEX('Festivos'!$B$5:$B$64,MATCH(D7,'Festivos'!$A$5:$A$64,0)),"") | E8: =IFERROR(INDEX('Festivos'!$B$5:$B$64,MATCH(E7,'Festivos'!$A$5:$A$64,0)),"") | F8: =IFERROR(INDEX('Festivos'!$B$5:$B$64,MATCH(F7,'Festivos'!$A$5:$A$64,0)),"") | G8: =IFERROR(INDEX('Festivos'!$B$5:$B$64,MATCH(G7,'Festivos'!$A$5:$A$64,0)),"")
A9: 46643 | B9: 46644 | C9: 46645 | D9: 46646 | E9: 46647 | F9: 46648 | G9: 46649
A10: =IFERROR(INDEX('Festivos'!$B$5:$B$64,MATCH(A9,'Festivos'!$A$5:$A$64,0)),"") | B10: =IFERROR(INDEX('Festivos'!$B$5:$B$64,MATCH(B9,'Festivos'!$A$5:$A$64,0)),"") | C10: =IFERROR(INDEX('Festivos'!$B$5:$B$64,MATCH(C9,'Festivos'!$A$5:$A$64,0)),"") | D10: =IFERROR(INDEX('Festivos'!$B$5:$B$64,MATCH(D9,'Festivos'!$A$5:$A$64,0)),"") | E10: =IFERROR(INDEX('Festivos'!$B$5:$B$64,MATCH(E9,'Festivos'!$A$5:$A$64,0)),"") | F10: =IFERROR(INDEX('Festivos'!$B$5:$B$64,MATCH(F9,'Festivos'!$A$5:$A$64,0)),"") | G10: =IFERROR(INDEX('Festivos'!$B$5:$B$64,MATCH(G9,'Festivos'!$A$5:$A$64,0)),"")
A11: 46650 | B11: 46651 | C11: 46652 | D11: 46653 | E11: 46654 | F11: 46655 | G11: 46656
A12: =IFERROR(INDEX('Festivos'!$B$5:$B$64,MATCH(A11,'Festivos'!$A$5:$A$64,0)),"") | B12: =IFERROR(INDEX('Festivos'!$B$5:$B$64,MATCH(B11,'Festivos'!$A$5:$A$64,0)),"") | C12: =IFERROR(INDEX('Festivos'!$B$5:$B$64,MATCH(C11,'Festivos'!$A$5:$A$64,0)),"") | D12: =IFERROR(INDEX('Festivos'!$B$5:$B$64,MATCH(D11,'Festivos'!$A$5:$A$64,0)),"") | E12: =IFERROR(INDEX('Festivos'!$B$5:$B$64,MATCH(E11,'Festivos'!$A$5:$A$64,0)),"") | F12: =IFERROR(INDEX('Festivos'!$B$5:$B$64,MATCH(F11,'Festivos'!$A$5:$A$64,0)),"") | G12: =IFERROR(INDEX('Festivos'!$B$5:$B$64,MATCH(G11,'Festivos'!$A$5:$A$64,0)),"")
A13: 46657 | B13: 46658 | C13: 46659 | D13: 46660
A14: =IFERROR(INDEX('Festivos'!$B$5:$B$64,MATCH(A13,'Festivos'!$A$5:$A$64,0)),"") | B14: =IFERROR(INDEX('Festivos'!$B$5:$B$64,MATCH(B13,'Festivos'!$A$5:$A$64,0)),"") | C14: =IFERROR(INDEX('Festivos'!$B$5:$B$64,MATCH(C13,'Festivos'!$A$5:$A$64,0)),"") | D14: =IFERROR(INDEX('Festivos'!$B$5:$B$64,MATCH(D13,'Festivos'!$A$5:$A$64,0)),"")

Sheet Octubre 2027
A1: Octubre 2027
A2: Calendario · Festivos de Colombia
A4: Lunes | B4: Martes | C4: Miércoles | D4: Jueves | E4: Viernes | F4: Sábado | G4: Domingo
E5: 46661 | F5: 46662 | G5: 46663
E6: =IFERROR(INDEX('Festivos'!$B$5:$B$64,MATCH(E5,'Festivos'!$A$5:$A$64,0)),"") | F6: =IFERROR(INDEX('Festivos'!$B$5:$B$64,MATCH(F5,'Festivos'!$A$5:$A$64,0)),"") | G6: =IFERROR(INDEX('Festivos'!$B$5:$B$64,MATCH(G5,'Festivos'!$A$5:$A$64,0)),"")
A7: 46664 | B7: 46665 | C7: 46666 | D7: 46667 | E7: 46668 | F7: 46669 | G7: 46670
A8: =IFERROR(INDEX('Festivos'!$B$5:$B$64,MATCH(A7,'Festivos'!$A$5:$A$64,0)),"") | B8: =IFERROR(INDEX('Festivos'!$B$5:$B$64,MATCH(B7,'Festivos'!$A$5:$A$64,0)),"") | C8: =IFERROR(INDEX('Festivos'!$B$5:$B$64,MATCH(C7,'Festivos'!$A$5:$A$64,0)),"") | D8: =IFERROR(INDEX('Festivos'!$B$5:$B$64,MATCH(D7,'Festivos'!$A$5:$A$64,0)),"") | E8: =IFERROR(INDEX('Festivos'!$B$5:$B$64,MATCH(E7,'Festivos'!$A$5:$A$64,0)),"") | F8: =IFERROR(INDEX('Festivos'!$B$5:$B$64,MATCH(F7,'Festivos'!$A$5:$A$64,0)),"") | G8: =IFERROR(INDEX('Festivos'!$B$5:$B$64,MATCH(G7,'Festivos'!$A$5:$A$64,0)),"")
A9: 46671 | B9: 46672 | C9: 46673 | D9: 46674 | E9: 46675 | F9: 46676 | G9: 46677
A10: =IFERROR(INDEX('Festivos'!$B$5:$B$64,MATCH(A9,'Festivos'!$A$5:$A$64,0)),"") | B10: =IFERROR(INDEX('Festivos'!$B$5:$B$64,MATCH(B9,'Festivos'!$A$5:$A$64,0)),"") | C10: =IFERROR(INDEX('Festivos'!$B$5:$B$64,MATCH(C9,'Festivos'!$A$5:$A$64,0)),"") | D10: =IFERROR(INDEX('Festivos'!$B$5:$B$64,MATCH(D9,'Festivos'!$A$5:$A$64,0)),"") | E10: =IFERROR(INDEX('Festivos'!$B$5:$B$64,MATCH(E9,'Festivos'!$A$5:$A$64,0)),"") | F10: =IFERROR(INDEX('Festivos'!$B$5:$B$64,MATCH(F9,'Festivos'!$A$5:$A$64,0)),"") | G10: =IFERROR(INDEX('Festivos'!$B$5:$B$64,MATCH(G9,'Festivos'!$A$5:$A$64,0)),"")
A11: 46678 | B11: 46679 | C11: 46680 | D11: 46681 | E11: 46682 | F11: 46683 | G11: 46684
A12: =IFERROR(INDEX('Festivos'!$B$5:$B$64,MATCH(A11,'Festivos'!$A$5:$A$64,0)),"") -> Día de la Raza | B12: =IFERROR(INDEX('Festivos'!$B$5:$B$64,MATCH(B11,'Festivos'!$A$5:$A$64,0)),"") | C12: =IFERROR(INDEX('Festivos'!$B$5:$B$64,MATCH(C11,'Festivos'!$A$5:$A$64,0)),"") | D12: =IFERROR(INDEX('Festivos'!$B$5:$B$64,MATCH(D11,'Festivos'!$A$5:$A$64,0)),"") | E12: =IFERROR(INDEX('Festivos'!$B$5:$B$64,MATCH(E11,'Festivos'!$A$5:$A$64,0)),"") | F12: =IFERROR(INDEX('Festivos'!$B$5:$B$64,MATCH(F11,'Festivos'!$A$5:$A$64,0)),"") | G12: =IFERROR(INDEX('Festivos'!$B$5:$B$64,MATCH(G11,'Festivos'!$A$5:$A$64,0)),"")
A13: 46685 | B13: 46686 | C13: 46687 | D13: 46688 | E13: 46689 | F13: 46690 | G13: 46691
A14: =IFERROR(INDEX('Festivos'!$B$5:$B$64,MATCH(A13,'Festivos'!$A$5:$A$64,0)),"") | B14: =IFERROR(INDEX('Festivos'!$B$5:$B$64,MATCH(B13,'Festivos'!$A$5:$A$64,0)),"") | C14: =IFERROR(INDEX('Festivos'!$B$5:$B$64,MATCH(C13,'Festivos'!$A$5:$A$64,0)),"") | D14: =IFERROR(INDEX('Festivos'!$B$5:$B$64,MATCH(D13,'Festivos'!$A$5:$A$64,0)),"") | E14: =IFERROR(INDEX('Festivos'!$B$5:$B$64,MATCH(E13,'Festivos'!$A$5:$A$64,0)),"") | F14: =IFERROR(INDEX('Festivos'!$B$5:$B$64,MATCH(F13,'Festivos'!$A$5:$A$64,0)),"") | G14: =IFERROR(INDEX('Festivos'!$B$5:$B$64,MATCH(G13,'Festivos'!$A$5:$A$64,0)),"")

Sheet Noviembre 2027
A1: Noviembre 2027
A2: Calendario · Festivos de Colombia
A4: Lunes | B4: Martes | C4: Miércoles | D4: Jueves | E4: Viernes | F4: Sábado | G4: Domingo
A5: 46692 | B5: 46693 | C5: 46694 | D5: 46695 | E5: 46696 | F5: 46697 | G5: 46698
A6: =IFERROR(INDEX('Festivos'!$B$5:$B$64,MATCH(A5,'Festivos'!$A$5:$A$64,0)),"") -> Todos los Santos | B6: =IFERROR(INDEX('Festivos'!$B$5:$B$64,MATCH(B5,'Festivos'!$A$5:$A$64,0)),"") | C6: =IFERROR(INDEX('Festivos'!$B$5:$B$64,MATCH(C5,'Festivos'!$A$5:$A$64,0)),"") | D6: =IFERROR(INDEX('Festivos'!$B$5:$B$64,MATCH(D5,'Festivos'!$A$5:$A$64,0)),"") | E6: =IFERROR(INDEX('Festivos'!$B$5:$B$64,MATCH(E5,'Festivos'!$A$5:$A$64,0)),"") | F6: =IFERROR(INDEX('Festivos'!$B$5:$B$64,MATCH(F5,'Festivos'!$A$5:$A$64,0)),"") | G6: =IFERROR(INDEX('Festivos'!$B$5:$B$64,MATCH(G5,'Festivos'!$A$5:$A$64,0)),"")
A7: 46699 | B7: 46700 | C7: 46701 | D7: 46702 | E7: 46703 | F7: 46704 | G7: 46705
A8: =IFERROR(INDEX('Festivos'!$B$5:$B$64,MATCH(A7,'Festivos'!$A$5:$A$64,0)),"") | B8: =IFERROR(INDEX('Festivos'!$B$5:$B$64,MATCH(B7,'Festivos'!$A$5:$A$64,0)),"") | C8: =IFERROR(INDEX('Festivos'!$B$5:$B$64,MATCH(C7,'Festivos'!$A$5:$A$64,0)),"") | D8: =IFERROR(INDEX('Festivos'!$B$5:$B$64,MATCH(D7,'Festivos'!$A$5:$A$64,0)),"") | E8: =IFERROR(INDEX('Festivos'!$B$5:$B$64,MATCH(E7,'Festivos'!$A$5:$A$64,0)),"") | F8: =IFERROR(INDEX('Festivos'!$B$5:$B$64,MATCH(F7,'Festivos'!$A$5:$A$64,0)),"") | G8: =IFERROR(INDEX('Festivos'!$B$5:$B$64,MATCH(G7,'Festivos'!$A$5:$A$64,0)),"")
A9: 46706 | B9: 46707 | C9: 46708 | D9: 46709 | E9: 46710 | F9: 46711 | G9: 46712
A10: =IFERROR(INDEX('Festivos'!$B$5:$B$64,MATCH(A9,'Festivos'!$A$5:$A$64,0)),"") -> Independencia de Cartagena | B10: =IFERROR(INDEX('Festivos'!$B$5:$B$64,MATCH(B9,'Festivos'!$A$5:$A$64,0)),"") | C10: =IFERROR(INDEX('Festivos'!$B$5:$B$64,MATCH(C9,'Festivos'!$A$5:$A$64,0)),"") | D10: =IFERROR(INDEX('Festivos'!$B$5:$B$64,MATCH(D9,'Festivos'!$A$5:$A$64,0)),"") | E10: =IFERROR(INDEX('Festivos'!$B$5:$B$64,MATCH(E9,'Festivos'!$A$5:$A$64,0)),"") | F10: =IFERROR(INDEX('Festivos'!$B$5:$B$64,MATCH(F9,'Festivos'!$A$5:$A$64,0)),"") | G10: =IFERROR(INDEX('Festivos'!$B$5:$B$64,MATCH(G9,'Festivos'!$A$5:$A$64,0)),"")
A11: 46713 | B11: 46714 | C11: 46715 | D11: 46716 | E11: 46717 | F11: 46718 | G11: 46719
A12: =IFERROR(INDEX('Festivos'!$B$5:$B$64,MATCH(A11,'Festivos'!$A$5:$A$64,0)),"") | B12: =IFERROR(INDEX('Festivos'!$B$5:$B$64,MATCH(B11,'Festivos'!$A$5:$A$64,0)),"") | C12: =IFERROR(INDEX('Festivos'!$B$5:$B$64,MATCH(C11,'Festivos'!$A$5:$A$64,0)),"") | D12: =IFERROR(INDEX('Festivos'!$B$5:$B$64,MATCH(D11,'Festivos'!$A$5:$A$64,0)),"") | E12: =IFERROR(INDEX('Festivos'!$B$5:$B$64,MATCH(E11,'Festivos'!$A$5:$A$64,0)),"") | F12: =IFERROR(INDEX('Festivos'!$B$5:$B$64,MATCH(F11,'Festivos'!$A$5:$A$64,0)),"") | G12: =IFERROR(INDEX('Festivos'!$B$5:$B$64,MATCH(G11,'Festivos'!$A$5:$A$64,0)),"")
A13: 46720 | B13: 46721
A14: =IFERROR(INDEX('Festivos'!$B$5:$B$64,MATCH(A13,'Festivos'!$A$5:$A$64,0)),"") | B14: =IFERROR(INDEX('Festivos'!$B$5:$B$64,MATCH(B13,'Festivos'!$A$5:$A$64,0)),"")

Sheet Diciembre 2027
A1: Diciembre 2027
A2: Calendario · Festivos de Colombia
A4: Lunes | B4: Martes | C4: Miércoles | D4: Jueves | E4: Viernes | F4: Sábado | G4: Domingo
C5: 46722 | D5: 46723 | E5: 46724 | F5: 46725 | G5: 46726
C6: =IFERROR(INDEX('Festivos'!$B$5:$B$64,MATCH(C5,'Festivos'!$A$5:$A$64,0)),"") | D6: =IFERROR(INDEX('Festivos'!$B$5:$B$64,MATCH(D5,'Festivos'!$A$5:$A$64,0)),"") | E6: =IFERROR(INDEX('Festivos'!$B$5:$B$64,MATCH(E5,'Festivos'!$A$5:$A$64,0)),"") | F6: =IFERROR(INDEX('Festivos'!$B$5:$B$64,MATCH(F5,'Festivos'!$A$5:$A$64,0)),"") | G6: =IFERROR(INDEX('Festivos'!$B$5:$B$64,MATCH(G5,'Festivos'!$A$5:$A$64,0)),"")
A7: 46727 | B7: 46728 | C7: 46729 | D7: 46730 | E7: 46731 | F7: 46732 | G7: 46733
A8: =IFERROR(INDEX('Festivos'!$B$5:$B$64,MATCH(A7,'Festivos'!$A$5:$A$64,0)),"") | B8: =IFERROR(INDEX('Festivos'!$B$5:$B$64,MATCH(B7,'Festivos'!$A$5:$A$64,0)),"") | C8: =IFERROR(INDEX('Festivos'!$B$5:$B$64,MATCH(C7,'Festivos'!$A$5:$A$64,0)),"") -> Inmaculada Concepción | D8: =IFERROR(INDEX('Festivos'!$B$5:$B$64,MATCH(D7,'Festivos'!$A$5:$A$64,0)),"") | E8: =IFERROR(INDEX('Festivos'!$B$5:$B$64,MATCH(E7,'Festivos'!$A$5:$A$64,0)),"") | F8: =IFERROR(INDEX('Festivos'!$B$5:$B$64,MATCH(F7,'Festivos'!$A$5:$A$64,0)),"") | G8: =IFERROR(INDEX('Festivos'!$B$5:$B$64,MATCH(G7,'Festivos'!$A$5:$A$64,0)),"")
A9: 46734 | B9: 46735 | C9: 46736 | D9: 46737 | E9: 46738 | F9: 46739 | G9: 46740
A10: =IFERROR(INDEX('Festivos'!$B$5:$B$64,MATCH(A9,'Festivos'!$A$5:$A$64,0)),"") | B10: =IFERROR(INDEX('Festivos'!$B$5:$B$64,MATCH(B9,'Festivos'!$A$5:$A$64,0)),"") | C10: =IFERROR(INDEX('Festivos'!$B$5:$B$64,MATCH(C9,'Festivos'!$A$5:$A$64,0)),"") | D10: =IFERROR(INDEX('Festivos'!$B$5:$B$64,MATCH(D9,'Festivos'!$A$5:$A$64,0)),"") | E10: =IFERROR(INDEX('Festivos'!$B$5:$B$64,MATCH(E9,'Festivos'!$A$5:$A$64,0)),"") | F10: =IFERROR(INDEX('Festivos'!$B$5:$B$64,MATCH(F9,'Festivos'!$A$5:$A$64,0)),"") | G10: =IFERROR(INDEX('Festivos'!$B$5:$B$64,MATCH(G9,'Festivos'!$A$5:$A$64,0)),"")
A11: 46741 | B11: 46742 | C11: 46743 | D11: 46744 | E11: 46745 | F11: 46746 | G11: 46747
A12: =IFERROR(INDEX('Festivos'!$B$5:$B$64,MATCH(A11,'Festivos'!$A$5:$A$64,0)),"") | B12: =IFERROR(INDEX('Festivos'!$B$5:$B$64,MATCH(B11,'Festivos'!$A$5:$A$64,0)),"") | C12: =IFERROR(INDEX('Festivos'!$B$5:$B$64,MATCH(C11,'Festivos'!$A$5:$A$64,0)),"") | D12: =IFERROR(INDEX('Festivos'!$B$5:$B$64,MATCH(D11,'Festivos'!$A$5:$A$64,0)),"") | E12: =IFERROR(INDEX('Festivos'!$B$5:$B$64,MATCH(E11,'Festivos'!$A$5:$A$64,0)),"") | F12: =IFERROR(INDEX('Festivos'!$B$5:$B$64,MATCH(F11,'Festivos'!$A$5:$A$64,0)),"") -> Navidad | G12: =IFERROR(INDEX('Festivos'!$B$5:$B$64,MATCH(G11,'Festivos'!$A$5:$A$64,0)),"")
A13: 46748 | B13: 46749 | C13: 46750 | D13: 46751 | E13: 46752
A14: =IFERROR(INDEX('Festivos'!$B$5:$B$64,MATCH(A13,'Festivos'!$A$5:$A$64,0)),"") | B14: =IFERROR(INDEX('Festivos'!$B$5:$B$64,MATCH(B13,'Festivos'!$A$5:$A$64,0)),"") | C14: =IFERROR(INDEX('Festivos'!$B$5:$B$64,MATCH(C13,'Festivos'!$A$5:$A$64,0)),"") | D14: =IFERROR(INDEX('Festivos'!$B$5:$B$64,MATCH(D13,'Festivos'!$A$5:$A$64,0)),"") | E14: =IFERROR(INDEX('Festivos'!$B$5:$B$64,MATCH(E13,'Festivos'!$A$5:$A$64,0)),"")

Sheet Festivos
A1: Festivos de Colombia
A2: Calendario · Festivos de Colombia
A4: Fecha | B4: Festivo
A5: 46388 | B5: Año Nuevo
A6: 46398 | B6: Día de los Reyes Magos
A7: 46468 | B7: Día de San José
A8: 46471 | B8: Jueves Santo
A9: 46472 | B9: Viernes Santo
A10: 46508 | B10: Día del Trabajo
A11: 46517 | B11: Ascensión del Señor
A12: 46538 | B12: Corpus Christi
A13: 46545 | B13: Sagrado Corazón
A14: 46573 | B14: San Pedro y San Pablo
A15: 46588 | B15: Día de la Independencia
A16: 46606 | B16: Batalla de Boyacá
... A22: 46746 | B22: Navidad
