Workbook

Sheet January 2027
A1: January 2027
A2: Calendar · US federal holidays
A4: Sunday | B4: Monday | C4: Tuesday | D4: Wednesday | E4: Thursday | F4: Friday | G4: Saturday
F5: 46388 | G5: 46389
F6: =IFERROR(INDEX('Holidays'!$B$5:$B$64,MATCH(F5,'Holidays'!$A$5:$A$64,0)),"") -> New Year’s Day | G6: =IFERROR(INDEX('Holidays'!$B$5:$B$64,MATCH(G5,'Holidays'!$A$5:$A$64,0)),"")
A7: 46390 | B7: 46391 | C7: 46392 | D7: 46393 | E7: 46394 | F7: 46395 | G7: 46396
A8: =IFERROR(INDEX('Holidays'!$B$5:$B$64,MATCH(A7,'Holidays'!$A$5:$A$64,0)),"") | B8: =IFERROR(INDEX('Holidays'!$B$5:$B$64,MATCH(B7,'Holidays'!$A$5:$A$64,0)),"") | C8: =IFERROR(INDEX('Holidays'!$B$5:$B$64,MATCH(C7,'Holidays'!$A$5:$A$64,0)),"") | D8: =IFERROR(INDEX('Holidays'!$B$5:$B$64,MATCH(D7,'Holidays'!$A$5:$A$64,0)),"") | E8: =IFERROR(INDEX('Holidays'!$B$5:$B$64,MATCH(E7,'Holidays'!$A$5:$A$64,0)),"") | F8: =IFERROR(INDEX('Holidays'!$B$5:$B$64,MATCH(F7,'Holidays'!$A$5:$A$64,0)),"") | G8: =IFERROR(INDEX('Holidays'!$B$5:$B$64,MATCH(G7,'Holidays'!$A$5:$A$64,0)),"")
A9: 46397 | B9: 46398 | C9: 46399 | D9: 46400 | E9: 46401 | F9: 46402 | G9: 46403
A10: =IFERROR(INDEX('Holidays'!$B$5:$B$64,MATCH(A9,'Holidays'!$A$5:$A$64,0)),"") | B10: =IFERROR(INDEX('Holidays'!$B$5:$B$64,MATCH(B9,'Holidays'!$A$5:$A$64,0)),"") | C10: =IFERROR(INDEX('Holidays'!$B$5:$B$64,MATCH(C9,'Holidays'!$A$5:$A$64,0)),"") | D10: =IFERROR(INDEX('Holidays'!$B$5:$B$64,MATCH(D9,'Holidays'!$A$5:$A$64,0)),"") | E10: =IFERROR(INDEX('Holidays'!$B$5:$B$64,MATCH(E9,'Holidays'!$A$5:$A$64,0)),"") | F10: =IFERROR(INDEX('Holidays'!$B$5:$B$64,MATCH(F9,'Holidays'!$A$5:$A$64,0)),"") | G10: =IFERROR(INDEX('Holidays'!$B$5:$B$64,MATCH(G9,'Holidays'!$A$5:$A$64,0)),"")
A11: 46404 | B11: 46405 | C11: 46406 | D11: 46407 | E11: 46408 | F11: 46409 | G11: 46410
A12: =IFERROR(INDEX('Holidays'!$B$5:$B$64,MATCH(A11,'Holidays'!$A$5:$A$64,0)),"") | B12: =IFERROR(INDEX('Holidays'!$B$5:$B$64,MATCH(B11,'Holidays'!$A$5:$A$64,0)),"") -> Martin Luther King Jr. Day | C12: =IFERROR(INDEX('Holidays'!$B$5:$B$64,MATCH(C11,'Holidays'!$A$5:$A$64,0)),"") | D12: =IFERROR(INDEX('Holidays'!$B$5:$B$64,MATCH(D11,'Holidays'!$A$5:$A$64,0)),"") | E12: =IFERROR(INDEX('Holidays'!$B$5:$B$64,MATCH(E11,'Holidays'!$A$5:$A$64,0)),"") | F12: =IFERROR(INDEX('Holidays'!$B$5:$B$64,MATCH(F11,'Holidays'!$A$5:$A$64,0)),"") | G12: =IFERROR(INDEX('Holidays'!$B$5:$B$64,MATCH(G11,'Holidays'!$A$5:$A$64,0)),"")
A13: 46411 | B13: 46412 | C13: 46413 | D13: 46414 | E13: 46415 | F13: 46416 | G13: 46417
A14: =IFERROR(INDEX('Holidays'!$B$5:$B$64,MATCH(A13,'Holidays'!$A$5:$A$64,0)),"") | B14: =IFERROR(INDEX('Holidays'!$B$5:$B$64,MATCH(B13,'Holidays'!$A$5:$A$64,0)),"") | C14: =IFERROR(INDEX('Holidays'!$B$5:$B$64,MATCH(C13,'Holidays'!$A$5:$A$64,0)),"") | D14: =IFERROR(INDEX('Holidays'!$B$5:$B$64,MATCH(D13,'Holidays'!$A$5:$A$64,0)),"") | E14: =IFERROR(INDEX('Holidays'!$B$5:$B$64,MATCH(E13,'Holidays'!$A$5:$A$64,0)),"") | F14: =IFERROR(INDEX('Holidays'!$B$5:$B$64,MATCH(F13,'Holidays'!$A$5:$A$64,0)),"") | G14: =IFERROR(INDEX('Holidays'!$B$5:$B$64,MATCH(G13,'Holidays'!$A$5:$A$64,0)),"")
A15: 46418
A16: =IFERROR(INDEX('Holidays'!$B$5:$B$64,MATCH(A15,'Holidays'!$A$5:$A$64,0)),"")

Sheet February 2027
A1: February 2027
A2: Calendar · US federal holidays
A4: Sunday | B4: Monday | C4: Tuesday | D4: Wednesday | E4: Thursday | F4: Friday | G4: Saturday
B5: 46419 | C5: 46420 | D5: 46421 | E5: 46422 | F5: 46423 | G5: 46424
B6: =IFERROR(INDEX('Holidays'!$B$5:$B$64,MATCH(B5,'Holidays'!$A$5:$A$64,0)),"") | C6: =IFERROR(INDEX('Holidays'!$B$5:$B$64,MATCH(C5,'Holidays'!$A$5:$A$64,0)),"") | D6: =IFERROR(INDEX('Holidays'!$B$5:$B$64,MATCH(D5,'Holidays'!$A$5:$A$64,0)),"") | E6: =IFERROR(INDEX('Holidays'!$B$5:$B$64,MATCH(E5,'Holidays'!$A$5:$A$64,0)),"") | F6: =IFERROR(INDEX('Holidays'!$B$5:$B$64,MATCH(F5,'Holidays'!$A$5:$A$64,0)),"") | G6: =IFERROR(INDEX('Holidays'!$B$5:$B$64,MATCH(G5,'Holidays'!$A$5:$A$64,0)),"")
A7: 46425 | B7: 46426 | C7: 46427 | D7: 46428 | E7: 46429 | F7: 46430 | G7: 46431
A8: =IFERROR(INDEX('Holidays'!$B$5:$B$64,MATCH(A7,'Holidays'!$A$5:$A$64,0)),"") | B8: =IFERROR(INDEX('Holidays'!$B$5:$B$64,MATCH(B7,'Holidays'!$A$5:$A$64,0)),"") | C8: =IFERROR(INDEX('Holidays'!$B$5:$B$64,MATCH(C7,'Holidays'!$A$5:$A$64,0)),"") | D8: =IFERROR(INDEX('Holidays'!$B$5:$B$64,MATCH(D7,'Holidays'!$A$5:$A$64,0)),"") | E8: =IFERROR(INDEX('Holidays'!$B$5:$B$64,MATCH(E7,'Holidays'!$A$5:$A$64,0)),"") | F8: =IFERROR(INDEX('Holidays'!$B$5:$B$64,MATCH(F7,'Holidays'!$A$5:$A$64,0)),"") | G8: =IFERROR(INDEX('Holidays'!$B$5:$B$64,MATCH(G7,'Holidays'!$A$5:$A$64,0)),"")
A9: 46432 | B9: 46433 | C9: 46434 | D9: 46435 | E9: 46436 | F9: 46437 | G9: 46438
A10: =IFERROR(INDEX('Holidays'!$B$5:$B$64,MATCH(A9,'Holidays'!$A$5:$A$64,0)),"") | B10: =IFERROR(INDEX('Holidays'!$B$5:$B$64,MATCH(B9,'Holidays'!$A$5:$A$64,0)),"") -> Presidents’ Day | C10: =IFERROR(INDEX('Holidays'!$B$5:$B$64,MATCH(C9,'Holidays'!$A$5:$A$64,0)),"") | D10: =IFERROR(INDEX('Holidays'!$B$5:$B$64,MATCH(D9,'Holidays'!$A$5:$A$64,0)),"") | E10: =IFERROR(INDEX('Holidays'!$B$5:$B$64,MATCH(E9,'Holidays'!$A$5:$A$64,0)),"") | F10: =IFERROR(INDEX('Holidays'!$B$5:$B$64,MATCH(F9,'Holidays'!$A$5:$A$64,0)),"") | G10: =IFERROR(INDEX('Holidays'!$B$5:$B$64,MATCH(G9,'Holidays'!$A$5:$A$64,0)),"")
A11: 46439 | B11: 46440 | C11: 46441 | D11: 46442 | E11: 46443 | F11: 46444 | G11: 46445
A12: =IFERROR(INDEX('Holidays'!$B$5:$B$64,MATCH(A11,'Holidays'!$A$5:$A$64,0)),"") | B12: =IFERROR(INDEX('Holidays'!$B$5:$B$64,MATCH(B11,'Holidays'!$A$5:$A$64,0)),"") | C12: =IFERROR(INDEX('Holidays'!$B$5:$B$64,MATCH(C11,'Holidays'!$A$5:$A$64,0)),"") | D12: =IFERROR(INDEX('Holidays'!$B$5:$B$64,MATCH(D11,'Holidays'!$A$5:$A$64,0)),"") | E12: =IFERROR(INDEX('Holidays'!$B$5:$B$64,MATCH(E11,'Holidays'!$A$5:$A$64,0)),"") | F12: =IFERROR(INDEX('Holidays'!$B$5:$B$64,MATCH(F11,'Holidays'!$A$5:$A$64,0)),"") | G12: =IFERROR(INDEX('Holidays'!$B$5:$B$64,MATCH(G11,'Holidays'!$A$5:$A$64,0)),"")
A13: 46446
A14: =IFERROR(INDEX('Holidays'!$B$5:$B$64,MATCH(A13,'Holidays'!$A$5:$A$64,0)),"")

Sheet March 2027
A1: March 2027
A2: Calendar · US federal holidays
A4: Sunday | B4: Monday | C4: Tuesday | D4: Wednesday | E4: Thursday | F4: Friday | G4: Saturday
B5: 46447 | C5: 46448 | D5: 46449 | E5: 46450 | F5: 46451 | G5: 46452
B6: =IFERROR(INDEX('Holidays'!$B$5:$B$64,MATCH(B5,'Holidays'!$A$5:$A$64,0)),"") | C6: =IFERROR(INDEX('Holidays'!$B$5:$B$64,MATCH(C5,'Holidays'!$A$5:$A$64,0)),"") | D6: =IFERROR(INDEX('Holidays'!$B$5:$B$64,MATCH(D5,'Holidays'!$A$5:$A$64,0)),"") | E6: =IFERROR(INDEX('Holidays'!$B$5:$B$64,MATCH(E5,'Holidays'!$A$5:$A$64,0)),"") | F6: =IFERROR(INDEX('Holidays'!$B$5:$B$64,MATCH(F5,'Holidays'!$A$5:$A$64,0)),"") | G6: =IFERROR(INDEX('Holidays'!$B$5:$B$64,MATCH(G5,'Holidays'!$A$5:$A$64,0)),"")
A7: 46453 | B7: 46454 | C7: 46455 | D7: 46456 | E7: 46457 | F7: 46458 | G7: 46459
A8: =IFERROR(INDEX('Holidays'!$B$5:$B$64,MATCH(A7,'Holidays'!$A$5:$A$64,0)),"") | B8: =IFERROR(INDEX('Holidays'!$B$5:$B$64,MATCH(B7,'Holidays'!$A$5:$A$64,0)),"") | C8: =IFERROR(INDEX('Holidays'!$B$5:$B$64,MATCH(C7,'Holidays'!$A$5:$A$64,0)),"") | D8: =IFERROR(INDEX('Holidays'!$B$5:$B$64,MATCH(D7,'Holidays'!$A$5:$A$64,0)),"") | E8: =IFERROR(INDEX('Holidays'!$B$5:$B$64,MATCH(E7,'Holidays'!$A$5:$A$64,0)),"") | F8: =IFERROR(INDEX('Holidays'!$B$5:$B$64,MATCH(F7,'Holidays'!$A$5:$A$64,0)),"") | G8: =IFERROR(INDEX('Holidays'!$B$5:$B$64,MATCH(G7,'Holidays'!$A$5:$A$64,0)),"")
A9: 46460 | B9: 46461 | C9: 46462 | D9: 46463 | E9: 46464 | F9: 46465 | G9: 46466
A10: =IFERROR(INDEX('Holidays'!$B$5:$B$64,MATCH(A9,'Holidays'!$A$5:$A$64,0)),"") | B10: =IFERROR(INDEX('Holidays'!$B$5:$B$64,MATCH(B9,'Holidays'!$A$5:$A$64,0)),"") | C10: =IFERROR(INDEX('Holidays'!$B$5:$B$64,MATCH(C9,'Holidays'!$A$5:$A$64,0)),"") | D10: =IFERROR(INDEX('Holidays'!$B$5:$B$64,MATCH(D9,'Holidays'!$A$5:$A$64,0)),"") | E10: =IFERROR(INDEX('Holidays'!$B$5:$B$64,MATCH(E9,'Holidays'!$A$5:$A$64,0)),"") | F10: =IFERROR(INDEX('Holidays'!$B$5:$B$64,MATCH(F9,'Holidays'!$A$5:$A$64,0)),"") | G10: =IFERROR(INDEX('Holidays'!$B$5:$B$64,MATCH(G9,'Holidays'!$A$5:$A$64,0)),"")
A11: 46467 | B11: 46468 | C11: 46469 | D11: 46470 | E11: 46471 | F11: 46472 | G11: 46473
A12: =IFERROR(INDEX('Holidays'!$B$5:$B$64,MATCH(A11,'Holidays'!$A$5:$A$64,0)),"") | B12: =IFERROR(INDEX('Holidays'!$B$5:$B$64,MATCH(B11,'Holidays'!$A$5:$A$64,0)),"") | C12: =IFERROR(INDEX('Holidays'!$B$5:$B$64,MATCH(C11,'Holidays'!$A$5:$A$64,0)),"") | D12: =IFERROR(INDEX('Holidays'!$B$5:$B$64,MATCH(D11,'Holidays'!$A$5:$A$64,0)),"") | E12: =IFERROR(INDEX('Holidays'!$B$5:$B$64,MATCH(E11,'Holidays'!$A$5:$A$64,0)),"") | F12: =IFERROR(INDEX('Holidays'!$B$5:$B$64,MATCH(F11,'Holidays'!$A$5:$A$64,0)),"") | G12: =IFERROR(INDEX('Holidays'!$B$5:$B$64,MATCH(G11,'Holidays'!$A$5:$A$64,0)),"")
A13: 46474 | B13: 46475 | C13: 46476 | D13: 46477
A14: =IFERROR(INDEX('Holidays'!$B$5:$B$64,MATCH(A13,'Holidays'!$A$5:$A$64,0)),"") | B14: =IFERROR(INDEX('Holidays'!$B$5:$B$64,MATCH(B13,'Holidays'!$A$5:$A$64,0)),"") | C14: =IFERROR(INDEX('Holidays'!$B$5:$B$64,MATCH(C13,'Holidays'!$A$5:$A$64,0)),"") | D14: =IFERROR(INDEX('Holidays'!$B$5:$B$64,MATCH(D13,'Holidays'!$A$5:$A$64,0)),"")

Sheet April 2027
A1: April 2027
A2: Calendar · US federal holidays
A4: Sunday | B4: Monday | C4: Tuesday | D4: Wednesday | E4: Thursday | F4: Friday | G4: Saturday
E5: 46478 | F5: 46479 | G5: 46480
E6: =IFERROR(INDEX('Holidays'!$B$5:$B$64,MATCH(E5,'Holidays'!$A$5:$A$64,0)),"") | F6: =IFERROR(INDEX('Holidays'!$B$5:$B$64,MATCH(F5,'Holidays'!$A$5:$A$64,0)),"") | G6: =IFERROR(INDEX('Holidays'!$B$5:$B$64,MATCH(G5,'Holidays'!$A$5:$A$64,0)),"")
A7: 46481 | B7: 46482 | C7: 46483 | D7: 46484 | E7: 46485 | F7: 46486 | G7: 46487
A8: =IFERROR(INDEX('Holidays'!$B$5:$B$64,MATCH(A7,'Holidays'!$A$5:$A$64,0)),"") | B8: =IFERROR(INDEX('Holidays'!$B$5:$B$64,MATCH(B7,'Holidays'!$A$5:$A$64,0)),"") | C8: =IFERROR(INDEX('Holidays'!$B$5:$B$64,MATCH(C7,'Holidays'!$A$5:$A$64,0)),"") | D8: =IFERROR(INDEX('Holidays'!$B$5:$B$64,MATCH(D7,'Holidays'!$A$5:$A$64,0)),"") | E8: =IFERROR(INDEX('Holidays'!$B$5:$B$64,MATCH(E7,'Holidays'!$A$5:$A$64,0)),"") | F8: =IFERROR(INDEX('Holidays'!$B$5:$B$64,MATCH(F7,'Holidays'!$A$5:$A$64,0)),"") | G8: =IFERROR(INDEX('Holidays'!$B$5:$B$64,MATCH(G7,'Holidays'!$A$5:$A$64,0)),"")
A9: 46488 | B9: 46489 | C9: 46490 | D9: 46491 | E9: 46492 | F9: 46493 | G9: 46494
A10: =IFERROR(INDEX('Holidays'!$B$5:$B$64,MATCH(A9,'Holidays'!$A$5:$A$64,0)),"") | B10: =IFERROR(INDEX('Holidays'!$B$5:$B$64,MATCH(B9,'Holidays'!$A$5:$A$64,0)),"") | C10: =IFERROR(INDEX('Holidays'!$B$5:$B$64,MATCH(C9,'Holidays'!$A$5:$A$64,0)),"") | D10: =IFERROR(INDEX('Holidays'!$B$5:$B$64,MATCH(D9,'Holidays'!$A$5:$A$64,0)),"") | E10: =IFERROR(INDEX('Holidays'!$B$5:$B$64,MATCH(E9,'Holidays'!$A$5:$A$64,0)),"") | F10: =IFERROR(INDEX('Holidays'!$B$5:$B$64,MATCH(F9,'Holidays'!$A$5:$A$64,0)),"") | G10: =IFERROR(INDEX('Holidays'!$B$5:$B$64,MATCH(G9,'Holidays'!$A$5:$A$64,0)),"")
A11: 46495 | B11: 46496 | C11: 46497 | D11: 46498 | E11: 46499 | F11: 46500 | G11: 46501
A12: =IFERROR(INDEX('Holidays'!$B$5:$B$64,MATCH(A11,'Holidays'!$A$5:$A$64,0)),"") | B12: =IFERROR(INDEX('Holidays'!$B$5:$B$64,MATCH(B11,'Holidays'!$A$5:$A$64,0)),"") | C12: =IFERROR(INDEX('Holidays'!$B$5:$B$64,MATCH(C11,'Holidays'!$A$5:$A$64,0)),"") | D12: =IFERROR(INDEX('Holidays'!$B$5:$B$64,MATCH(D11,'Holidays'!$A$5:$A$64,0)),"") | E12: =IFERROR(INDEX('Holidays'!$B$5:$B$64,MATCH(E11,'Holidays'!$A$5:$A$64,0)),"") | F12: =IFERROR(INDEX('Holidays'!$B$5:$B$64,MATCH(F11,'Holidays'!$A$5:$A$64,0)),"") | G12: =IFERROR(INDEX('Holidays'!$B$5:$B$64,MATCH(G11,'Holidays'!$A$5:$A$64,0)),"")
A13: 46502 | B13: 46503 | C13: 46504 | D13: 46505 | E13: 46506 | F13: 46507
A14: =IFERROR(INDEX('Holidays'!$B$5:$B$64,MATCH(A13,'Holidays'!$A$5:$A$64,0)),"") | B14: =IFERROR(INDEX('Holidays'!$B$5:$B$64,MATCH(B13,'Holidays'!$A$5:$A$64,0)),"") | C14: =IFERROR(INDEX('Holidays'!$B$5:$B$64,MATCH(C13,'Holidays'!$A$5:$A$64,0)),"") | D14: =IFERROR(INDEX('Holidays'!$B$5:$B$64,MATCH(D13,'Holidays'!$A$5:$A$64,0)),"") | E14: =IFERROR(INDEX('Holidays'!$B$5:$B$64,MATCH(E13,'Holidays'!$A$5:$A$64,0)),"") | F14: =IFERROR(INDEX('Holidays'!$B$5:$B$64,MATCH(F13,'Holidays'!$A$5:$A$64,0)),"")

Sheet May 2027
A1: May 2027
A2: Calendar · US federal holidays
A4: Sunday | B4: Monday | C4: Tuesday | D4: Wednesday | E4: Thursday | F4: Friday | G4: Saturday
G5: 46508
G6: =IFERROR(INDEX('Holidays'!$B$5:$B$64,MATCH(G5,'Holidays'!$A$5:$A$64,0)),"")
A7: 46509 | B7: 46510 | C7: 46511 | D7: 46512 | E7: 46513 | F7: 46514 | G7: 46515
A8: =IFERROR(INDEX('Holidays'!$B$5:$B$64,MATCH(A7,'Holidays'!$A$5:$A$64,0)),"") | B8: =IFERROR(INDEX('Holidays'!$B$5:$B$64,MATCH(B7,'Holidays'!$A$5:$A$64,0)),"") | C8: =IFERROR(INDEX('Holidays'!$B$5:$B$64,MATCH(C7,'Holidays'!$A$5:$A$64,0)),"") | D8: =IFERROR(INDEX('Holidays'!$B$5:$B$64,MATCH(D7,'Holidays'!$A$5:$A$64,0)),"") | E8: =IFERROR(INDEX('Holidays'!$B$5:$B$64,MATCH(E7,'Holidays'!$A$5:$A$64,0)),"") | F8: =IFERROR(INDEX('Holidays'!$B$5:$B$64,MATCH(F7,'Holidays'!$A$5:$A$64,0)),"") | G8: =IFERROR(INDEX('Holidays'!$B$5:$B$64,MATCH(G7,'Holidays'!$A$5:$A$64,0)),"")
A9: 46516 | B9: 46517 | C9: 46518 | D9: 46519 | E9: 46520 | F9: 46521 | G9: 46522
A10: =IFERROR(INDEX('Holidays'!$B$5:$B$64,MATCH(A9,'Holidays'!$A$5:$A$64,0)),"") | B10: =IFERROR(INDEX('Holidays'!$B$5:$B$64,MATCH(B9,'Holidays'!$A$5:$A$64,0)),"") | C10: =IFERROR(INDEX('Holidays'!$B$5:$B$64,MATCH(C9,'Holidays'!$A$5:$A$64,0)),"") | D10: =IFERROR(INDEX('Holidays'!$B$5:$B$64,MATCH(D9,'Holidays'!$A$5:$A$64,0)),"") | E10: =IFERROR(INDEX('Holidays'!$B$5:$B$64,MATCH(E9,'Holidays'!$A$5:$A$64,0)),"") | F10: =IFERROR(INDEX('Holidays'!$B$5:$B$64,MATCH(F9,'Holidays'!$A$5:$A$64,0)),"") | G10: =IFERROR(INDEX('Holidays'!$B$5:$B$64,MATCH(G9,'Holidays'!$A$5:$A$64,0)),"")
A11: 46523 | B11: 46524 | C11: 46525 | D11: 46526 | E11: 46527 | F11: 46528 | G11: 46529
A12: =IFERROR(INDEX('Holidays'!$B$5:$B$64,MATCH(A11,'Holidays'!$A$5:$A$64,0)),"") | B12: =IFERROR(INDEX('Holidays'!$B$5:$B$64,MATCH(B11,'Holidays'!$A$5:$A$64,0)),"") | C12: =IFERROR(INDEX('Holidays'!$B$5:$B$64,MATCH(C11,'Holidays'!$A$5:$A$64,0)),"") | D12: =IFERROR(INDEX('Holidays'!$B$5:$B$64,MATCH(D11,'Holidays'!$A$5:$A$64,0)),"") | E12: =IFERROR(INDEX('Holidays'!$B$5:$B$64,MATCH(E11,'Holidays'!$A$5:$A$64,0)),"") | F12: =IFERROR(INDEX('Holidays'!$B$5:$B$64,MATCH(F11,'Holidays'!$A$5:$A$64,0)),"") | G12: =IFERROR(INDEX('Holidays'!$B$5:$B$64,MATCH(G11,'Holidays'!$A$5:$A$64,0)),"")
A13: 46530 | B13: 46531 | C13: 46532 | D13: 46533 | E13: 46534 | F13: 46535 | G13: 46536
A14: =IFERROR(INDEX('Holidays'!$B$5:$B$64,MATCH(A13,'Holidays'!$A$5:$A$64,0)),"") | B14: =IFERROR(INDEX('Holidays'!$B$5:$B$64,MATCH(B13,'Holidays'!$A$5:$A$64,0)),"") | C14: =IFERROR(INDEX('Holidays'!$B$5:$B$64,MATCH(C13,'Holidays'!$A$5:$A$64,0)),"") | D14: =IFERROR(INDEX('Holidays'!$B$5:$B$64,MATCH(D13,'Holidays'!$A$5:$A$64,0)),"") | E14: =IFERROR(INDEX('Holidays'!$B$5:$B$64,MATCH(E13,'Holidays'!$A$5:$A$64,0)),"") | F14: =IFERROR(INDEX('Holidays'!$B$5:$B$64,MATCH(F13,'Holidays'!$A$5:$A$64,0)),"") | G14: =IFERROR(INDEX('Holidays'!$B$5:$B$64,MATCH(G13,'Holidays'!$A$5:$A$64,0)),"")
A15: 46537 | B15: 46538
A16: =IFERROR(INDEX('Holidays'!$B$5:$B$64,MATCH(A15,'Holidays'!$A$5:$A$64,0)),"") | B16: =IFERROR(INDEX('Holidays'!$B$5:$B$64,MATCH(B15,'Holidays'!$A$5:$A$64,0)),"") -> Memorial Day

Sheet June 2027
A1: June 2027
A2: Calendar · US federal holidays
A4: Sunday | B4: Monday | C4: Tuesday | D4: Wednesday | E4: Thursday | F4: Friday | G4: Saturday
C5: 46539 | D5: 46540 | E5: 46541 | F5: 46542 | G5: 46543
C6: =IFERROR(INDEX('Holidays'!$B$5:$B$64,MATCH(C5,'Holidays'!$A$5:$A$64,0)),"") | D6: =IFERROR(INDEX('Holidays'!$B$5:$B$64,MATCH(D5,'Holidays'!$A$5:$A$64,0)),"") | E6: =IFERROR(INDEX('Holidays'!$B$5:$B$64,MATCH(E5,'Holidays'!$A$5:$A$64,0)),"") | F6: =IFERROR(INDEX('Holidays'!$B$5:$B$64,MATCH(F5,'Holidays'!$A$5:$A$64,0)),"") | G6: =IFERROR(INDEX('Holidays'!$B$5:$B$64,MATCH(G5,'Holidays'!$A$5:$A$64,0)),"")
A7: 46544 | B7: 46545 | C7: 46546 | D7: 46547 | E7: 46548 | F7: 46549 | G7: 46550
A8: =IFERROR(INDEX('Holidays'!$B$5:$B$64,MATCH(A7,'Holidays'!$A$5:$A$64,0)),"") | B8: =IFERROR(INDEX('Holidays'!$B$5:$B$64,MATCH(B7,'Holidays'!$A$5:$A$64,0)),"") | C8: =IFERROR(INDEX('Holidays'!$B$5:$B$64,MATCH(C7,'Holidays'!$A$5:$A$64,0)),"") | D8: =IFERROR(INDEX('Holidays'!$B$5:$B$64,MATCH(D7,'Holidays'!$A$5:$A$64,0)),"") | E8: =IFERROR(INDEX('Holidays'!$B$5:$B$64,MATCH(E7,'Holidays'!$A$5:$A$64,0)),"") | F8: =IFERROR(INDEX('Holidays'!$B$5:$B$64,MATCH(F7,'Holidays'!$A$5:$A$64,0)),"") | G8: =IFERROR(INDEX('Holidays'!$B$5:$B$64,MATCH(G7,'Holidays'!$A$5:$A$64,0)),"")
A9: 46551 | B9: 46552 | C9: 46553 | D9: 46554 | E9: 46555 | F9: 46556 | G9: 46557
A10: =IFERROR(INDEX('Holidays'!$B$5:$B$64,MATCH(A9,'Holidays'!$A$5:$A$64,0)),"") | B10: =IFERROR(INDEX('Holidays'!$B$5:$B$64,MATCH(B9,'Holidays'!$A$5:$A$64,0)),"") | C10: =IFERROR(INDEX('Holidays'!$B$5:$B$64,MATCH(C9,'Holidays'!$A$5:$A$64,0)),"") | D10: =IFERROR(INDEX('Holidays'!$B$5:$B$64,MATCH(D9,'Holidays'!$A$5:$A$64,0)),"") | E10: =IFERROR(INDEX('Holidays'!$B$5:$B$64,MATCH(E9,'Holidays'!$A$5:$A$64,0)),"") | F10: =IFERROR(INDEX('Holidays'!$B$5:$B$64,MATCH(F9,'Holidays'!$A$5:$A$64,0)),"") -> Juneteenth (observed) | G10: =IFERROR(INDEX('Holidays'!$B$5:$B$64,MATCH(G9,'Holidays'!$A$5:$A$64,0)),"") -> Juneteenth
A11: 46558 | B11: 46559 | C11: 46560 | D11: 46561 | E11: 46562 | F11: 46563 | G11: 46564
A12: =IFERROR(INDEX('Holidays'!$B$5:$B$64,MATCH(A11,'Holidays'!$A$5:$A$64,0)),"") | B12: =IFERROR(INDEX('Holidays'!$B$5:$B$64,MATCH(B11,'Holidays'!$A$5:$A$64,0)),"") | C12: =IFERROR(INDEX('Holidays'!$B$5:$B$64,MATCH(C11,'Holidays'!$A$5:$A$64,0)),"") | D12: =IFERROR(INDEX('Holidays'!$B$5:$B$64,MATCH(D11,'Holidays'!$A$5:$A$64,0)),"") | E12: =IFERROR(INDEX('Holidays'!$B$5:$B$64,MATCH(E11,'Holidays'!$A$5:$A$64,0)),"") | F12: =IFERROR(INDEX('Holidays'!$B$5:$B$64,MATCH(F11,'Holidays'!$A$5:$A$64,0)),"") | G12: =IFERROR(INDEX('Holidays'!$B$5:$B$64,MATCH(G11,'Holidays'!$A$5:$A$64,0)),"")
A13: 46565 | B13: 46566 | C13: 46567 | D13: 46568
A14: =IFERROR(INDEX('Holidays'!$B$5:$B$64,MATCH(A13,'Holidays'!$A$5:$A$64,0)),"") | B14: =IFERROR(INDEX('Holidays'!$B$5:$B$64,MATCH(B13,'Holidays'!$A$5:$A$64,0)),"") | C14: =IFERROR(INDEX('Holidays'!$B$5:$B$64,MATCH(C13,'Holidays'!$A$5:$A$64,0)),"") | D14: =IFERROR(INDEX('Holidays'!$B$5:$B$64,MATCH(D13,'Holidays'!$A$5:$A$64,0)),"")

Sheet July 2027
A1: July 2027
A2: Calendar · US federal holidays
A4: Sunday | B4: Monday | C4: Tuesday | D4: Wednesday | E4: Thursday | F4: Friday | G4: Saturday
E5: 46569 | F5: 46570 | G5: 46571
E6: =IFERROR(INDEX('Holidays'!$B$5:$B$64,MATCH(E5,'Holidays'!$A$5:$A$64,0)),"") | F6: =IFERROR(INDEX('Holidays'!$B$5:$B$64,MATCH(F5,'Holidays'!$A$5:$A$64,0)),"") | G6: =IFERROR(INDEX('Holidays'!$B$5:$B$64,MATCH(G5,'Holidays'!$A$5:$A$64,0)),"")
A7: 46572 | B7: 46573 | C7: 46574 | D7: 46575 | E7: 46576 | F7: 46577 | G7: 46578
A8: =IFERROR(INDEX('Holidays'!$B$5:$B$64,MATCH(A7,'Holidays'!$A$5:$A$64,0)),"") -> Independence Day | B8: =IFERROR(INDEX('Holidays'!$B$5:$B$64,MATCH(B7,'Holidays'!$A$5:$A$64,0)),"") -> Independence Day (observed) | C8: =IFERROR(INDEX('Holidays'!$B$5:$B$64,MATCH(C7,'Holidays'!$A$5:$A$64,0)),"") | D8: =IFERROR(INDEX('Holidays'!$B$5:$B$64,MATCH(D7,'Holidays'!$A$5:$A$64,0)),"") | E8: =IFERROR(INDEX('Holidays'!$B$5:$B$64,MATCH(E7,'Holidays'!$A$5:$A$64,0)),"") | F8: =IFERROR(INDEX('Holidays'!$B$5:$B$64,MATCH(F7,'Holidays'!$A$5:$A$64,0)),"") | G8: =IFERROR(INDEX('Holidays'!$B$5:$B$64,MATCH(G7,'Holidays'!$A$5:$A$64,0)),"")
A9: 46579 | B9: 46580 | C9: 46581 | D9: 46582 | E9: 46583 | F9: 46584 | G9: 46585
A10: =IFERROR(INDEX('Holidays'!$B$5:$B$64,MATCH(A9,'Holidays'!$A$5:$A$64,0)),"") | B10: =IFERROR(INDEX('Holidays'!$B$5:$B$64,MATCH(B9,'Holidays'!$A$5:$A$64,0)),"") | C10: =IFERROR(INDEX('Holidays'!$B$5:$B$64,MATCH(C9,'Holidays'!$A$5:$A$64,0)),"") | D10: =IFERROR(INDEX('Holidays'!$B$5:$B$64,MATCH(D9,'Holidays'!$A$5:$A$64,0)),"") | E10: =IFERROR(INDEX('Holidays'!$B$5:$B$64,MATCH(E9,'Holidays'!$A$5:$A$64,0)),"") | F10: =IFERROR(INDEX('Holidays'!$B$5:$B$64,MATCH(F9,'Holidays'!$A$5:$A$64,0)),"") | G10: =IFERROR(INDEX('Holidays'!$B$5:$B$64,MATCH(G9,'Holidays'!$A$5:$A$64,0)),"")
A11: 46586 | B11: 46587 | C11: 46588 | D11: 46589 | E11: 46590 | F11: 46591 | G11: 46592
A12: =IFERROR(INDEX('Holidays'!$B$5:$B$64,MATCH(A11,'Holidays'!$A$5:$A$64,0)),"") | B12: =IFERROR(INDEX('Holidays'!$B$5:$B$64,MATCH(B11,'Holidays'!$A$5:$A$64,0)),"") | C12: =IFERROR(INDEX('Holidays'!$B$5:$B$64,MATCH(C11,'Holidays'!$A$5:$A$64,0)),"") | D12: =IFERROR(INDEX('Holidays'!$B$5:$B$64,MATCH(D11,'Holidays'!$A$5:$A$64,0)),"") | E12: =IFERROR(INDEX('Holidays'!$B$5:$B$64,MATCH(E11,'Holidays'!$A$5:$A$64,0)),"") | F12: =IFERROR(INDEX('Holidays'!$B$5:$B$64,MATCH(F11,'Holidays'!$A$5:$A$64,0)),"") | G12: =IFERROR(INDEX('Holidays'!$B$5:$B$64,MATCH(G11,'Holidays'!$A$5:$A$64,0)),"")
A13: 46593 | B13: 46594 | C13: 46595 | D13: 46596 | E13: 46597 | F13: 46598 | G13: 46599
A14: =IFERROR(INDEX('Holidays'!$B$5:$B$64,MATCH(A13,'Holidays'!$A$5:$A$64,0)),"") | B14: =IFERROR(INDEX('Holidays'!$B$5:$B$64,MATCH(B13,'Holidays'!$A$5:$A$64,0)),"") | C14: =IFERROR(INDEX('Holidays'!$B$5:$B$64,MATCH(C13,'Holidays'!$A$5:$A$64,0)),"") | D14: =IFERROR(INDEX('Holidays'!$B$5:$B$64,MATCH(D13,'Holidays'!$A$5:$A$64,0)),"") | E14: =IFERROR(INDEX('Holidays'!$B$5:$B$64,MATCH(E13,'Holidays'!$A$5:$A$64,0)),"") | F14: =IFERROR(INDEX('Holidays'!$B$5:$B$64,MATCH(F13,'Holidays'!$A$5:$A$64,0)),"") | G14: =IFERROR(INDEX('Holidays'!$B$5:$B$64,MATCH(G13,'Holidays'!$A$5:$A$64,0)),"")

Sheet August 2027
A1: August 2027
A2: Calendar · US federal holidays
A4: Sunday | B4: Monday | C4: Tuesday | D4: Wednesday | E4: Thursday | F4: Friday | G4: Saturday
A5: 46600 | B5: 46601 | C5: 46602 | D5: 46603 | E5: 46604 | F5: 46605 | G5: 46606
A6: =IFERROR(INDEX('Holidays'!$B$5:$B$64,MATCH(A5,'Holidays'!$A$5:$A$64,0)),"") | B6: =IFERROR(INDEX('Holidays'!$B$5:$B$64,MATCH(B5,'Holidays'!$A$5:$A$64,0)),"") | C6: =IFERROR(INDEX('Holidays'!$B$5:$B$64,MATCH(C5,'Holidays'!$A$5:$A$64,0)),"") | D6: =IFERROR(INDEX('Holidays'!$B$5:$B$64,MATCH(D5,'Holidays'!$A$5:$A$64,0)),"") | E6: =IFERROR(INDEX('Holidays'!$B$5:$B$64,MATCH(E5,'Holidays'!$A$5:$A$64,0)),"") | F6: =IFERROR(INDEX('Holidays'!$B$5:$B$64,MATCH(F5,'Holidays'!$A$5:$A$64,0)),"") | G6: =IFERROR(INDEX('Holidays'!$B$5:$B$64,MATCH(G5,'Holidays'!$A$5:$A$64,0)),"")
A7: 46607 | B7: 46608 | C7: 46609 | D7: 46610 | E7: 46611 | F7: 46612 | G7: 46613
A8: =IFERROR(INDEX('Holidays'!$B$5:$B$64,MATCH(A7,'Holidays'!$A$5:$A$64,0)),"") | B8: =IFERROR(INDEX('Holidays'!$B$5:$B$64,MATCH(B7,'Holidays'!$A$5:$A$64,0)),"") | C8: =IFERROR(INDEX('Holidays'!$B$5:$B$64,MATCH(C7,'Holidays'!$A$5:$A$64,0)),"") | D8: =IFERROR(INDEX('Holidays'!$B$5:$B$64,MATCH(D7,'Holidays'!$A$5:$A$64,0)),"") | E8: =IFERROR(INDEX('Holidays'!$B$5:$B$64,MATCH(E7,'Holidays'!$A$5:$A$64,0)),"") | F8: =IFERROR(INDEX('Holidays'!$B$5:$B$64,MATCH(F7,'Holidays'!$A$5:$A$64,0)),"") | G8: =IFERROR(INDEX('Holidays'!$B$5:$B$64,MATCH(G7,'Holidays'!$A$5:$A$64,0)),"")
A9: 46614 | B9: 46615 | C9: 46616 | D9: 46617 | E9: 46618 | F9: 46619 | G9: 46620
A10: =IFERROR(INDEX('Holidays'!$B$5:$B$64,MATCH(A9,'Holidays'!$A$5:$A$64,0)),"") | B10: =IFERROR(INDEX('Holidays'!$B$5:$B$64,MATCH(B9,'Holidays'!$A$5:$A$64,0)),"") | C10: =IFERROR(INDEX('Holidays'!$B$5:$B$64,MATCH(C9,'Holidays'!$A$5:$A$64,0)),"") | D10: =IFERROR(INDEX('Holidays'!$B$5:$B$64,MATCH(D9,'Holidays'!$A$5:$A$64,0)),"") | E10: =IFERROR(INDEX('Holidays'!$B$5:$B$64,MATCH(E9,'Holidays'!$A$5:$A$64,0)),"") | F10: =IFERROR(INDEX('Holidays'!$B$5:$B$64,MATCH(F9,'Holidays'!$A$5:$A$64,0)),"") | G10: =IFERROR(INDEX('Holidays'!$B$5:$B$64,MATCH(G9,'Holidays'!$A$5:$A$64,0)),"")
A11: 46621 | B11: 46622 | C11: 46623 | D11: 46624 | E11: 46625 | F11: 46626 | G11: 46627
A12: =IFERROR(INDEX('Holidays'!$B$5:$B$64,MATCH(A11,'Holidays'!$A$5:$A$64,0)),"") | B12: =IFERROR(INDEX('Holidays'!$B$5:$B$64,MATCH(B11,'Holidays'!$A$5:$A$64,0)),"") | C12: =IFERROR(INDEX('Holidays'!$B$5:$B$64,MATCH(C11,'Holidays'!$A$5:$A$64,0)),"") | D12: =IFERROR(INDEX('Holidays'!$B$5:$B$64,MATCH(D11,'Holidays'!$A$5:$A$64,0)),"") | E12: =IFERROR(INDEX('Holidays'!$B$5:$B$64,MATCH(E11,'Holidays'!$A$5:$A$64,0)),"") | F12: =IFERROR(INDEX('Holidays'!$B$5:$B$64,MATCH(F11,'Holidays'!$A$5:$A$64,0)),"") | G12: =IFERROR(INDEX('Holidays'!$B$5:$B$64,MATCH(G11,'Holidays'!$A$5:$A$64,0)),"")
A13: 46628 | B13: 46629 | C13: 46630
A14: =IFERROR(INDEX('Holidays'!$B$5:$B$64,MATCH(A13,'Holidays'!$A$5:$A$64,0)),"") | B14: =IFERROR(INDEX('Holidays'!$B$5:$B$64,MATCH(B13,'Holidays'!$A$5:$A$64,0)),"") | C14: =IFERROR(INDEX('Holidays'!$B$5:$B$64,MATCH(C13,'Holidays'!$A$5:$A$64,0)),"")

Sheet September 2027
A1: September 2027
A2: Calendar · US federal holidays
A4: Sunday | B4: Monday | C4: Tuesday | D4: Wednesday | E4: Thursday | F4: Friday | G4: Saturday
D5: 46631 | E5: 46632 | F5: 46633 | G5: 46634
D6: =IFERROR(INDEX('Holidays'!$B$5:$B$64,MATCH(D5,'Holidays'!$A$5:$A$64,0)),"") | E6: =IFERROR(INDEX('Holidays'!$B$5:$B$64,MATCH(E5,'Holidays'!$A$5:$A$64,0)),"") | F6: =IFERROR(INDEX('Holidays'!$B$5:$B$64,MATCH(F5,'Holidays'!$A$5:$A$64,0)),"") | G6: =IFERROR(INDEX('Holidays'!$B$5:$B$64,MATCH(G5,'Holidays'!$A$5:$A$64,0)),"")
A7: 46635 | B7: 46636 | C7: 46637 | D7: 46638 | E7: 46639 | F7: 46640 | G7: 46641
A8: =IFERROR(INDEX('Holidays'!$B$5:$B$64,MATCH(A7,'Holidays'!$A$5:$A$64,0)),"") | B8: =IFERROR(INDEX('Holidays'!$B$5:$B$64,MATCH(B7,'Holidays'!$A$5:$A$64,0)),"") -> Labor Day | C8: =IFERROR(INDEX('Holidays'!$B$5:$B$64,MATCH(C7,'Holidays'!$A$5:$A$64,0)),"") | D8: =IFERROR(INDEX('Holidays'!$B$5:$B$64,MATCH(D7,'Holidays'!$A$5:$A$64,0)),"") | E8: =IFERROR(INDEX('Holidays'!$B$5:$B$64,MATCH(E7,'Holidays'!$A$5:$A$64,0)),"") | F8: =IFERROR(INDEX('Holidays'!$B$5:$B$64,MATCH(F7,'Holidays'!$A$5:$A$64,0)),"") | G8: =IFERROR(INDEX('Holidays'!$B$5:$B$64,MATCH(G7,'Holidays'!$A$5:$A$64,0)),"")
A9: 46642 | B9: 46643 | C9: 46644 | D9: 46645 | E9: 46646 | F9: 46647 | G9: 46648
A10: =IFERROR(INDEX('Holidays'!$B$5:$B$64,MATCH(A9,'Holidays'!$A$5:$A$64,0)),"") | B10: =IFERROR(INDEX('Holidays'!$B$5:$B$64,MATCH(B9,'Holidays'!$A$5:$A$64,0)),"") | C10: =IFERROR(INDEX('Holidays'!$B$5:$B$64,MATCH(C9,'Holidays'!$A$5:$A$64,0)),"") | D10: =IFERROR(INDEX('Holidays'!$B$5:$B$64,MATCH(D9,'Holidays'!$A$5:$A$64,0)),"") | E10: =IFERROR(INDEX('Holidays'!$B$5:$B$64,MATCH(E9,'Holidays'!$A$5:$A$64,0)),"") | F10: =IFERROR(INDEX('Holidays'!$B$5:$B$64,MATCH(F9,'Holidays'!$A$5:$A$64,0)),"") | G10: =IFERROR(INDEX('Holidays'!$B$5:$B$64,MATCH(G9,'Holidays'!$A$5:$A$64,0)),"")
A11: 46649 | B11: 46650 | C11: 46651 | D11: 46652 | E11: 46653 | F11: 46654 | G11: 46655
A12: =IFERROR(INDEX('Holidays'!$B$5:$B$64,MATCH(A11,'Holidays'!$A$5:$A$64,0)),"") | B12: =IFERROR(INDEX('Holidays'!$B$5:$B$64,MATCH(B11,'Holidays'!$A$5:$A$64,0)),"") | C12: =IFERROR(INDEX('Holidays'!$B$5:$B$64,MATCH(C11,'Holidays'!$A$5:$A$64,0)),"") | D12: =IFERROR(INDEX('Holidays'!$B$5:$B$64,MATCH(D11,'Holidays'!$A$5:$A$64,0)),"") | E12: =IFERROR(INDEX('Holidays'!$B$5:$B$64,MATCH(E11,'Holidays'!$A$5:$A$64,0)),"") | F12: =IFERROR(INDEX('Holidays'!$B$5:$B$64,MATCH(F11,'Holidays'!$A$5:$A$64,0)),"") | G12: =IFERROR(INDEX('Holidays'!$B$5:$B$64,MATCH(G11,'Holidays'!$A$5:$A$64,0)),"")
A13: 46656 | B13: 46657 | C13: 46658 | D13: 46659 | E13: 46660
A14: =IFERROR(INDEX('Holidays'!$B$5:$B$64,MATCH(A13,'Holidays'!$A$5:$A$64,0)),"") | B14: =IFERROR(INDEX('Holidays'!$B$5:$B$64,MATCH(B13,'Holidays'!$A$5:$A$64,0)),"") | C14: =IFERROR(INDEX('Holidays'!$B$5:$B$64,MATCH(C13,'Holidays'!$A$5:$A$64,0)),"") | D14: =IFERROR(INDEX('Holidays'!$B$5:$B$64,MATCH(D13,'Holidays'!$A$5:$A$64,0)),"") | E14: =IFERROR(INDEX('Holidays'!$B$5:$B$64,MATCH(E13,'Holidays'!$A$5:$A$64,0)),"")

Sheet October 2027
A1: October 2027
A2: Calendar · US federal holidays
A4: Sunday | B4: Monday | C4: Tuesday | D4: Wednesday | E4: Thursday | F4: Friday | G4: Saturday
F5: 46661 | G5: 46662
F6: =IFERROR(INDEX('Holidays'!$B$5:$B$64,MATCH(F5,'Holidays'!$A$5:$A$64,0)),"") | G6: =IFERROR(INDEX('Holidays'!$B$5:$B$64,MATCH(G5,'Holidays'!$A$5:$A$64,0)),"")
A7: 46663 | B7: 46664 | C7: 46665 | D7: 46666 | E7: 46667 | F7: 46668 | G7: 46669
A8: =IFERROR(INDEX('Holidays'!$B$5:$B$64,MATCH(A7,'Holidays'!$A$5:$A$64,0)),"") | B8: =IFERROR(INDEX('Holidays'!$B$5:$B$64,MATCH(B7,'Holidays'!$A$5:$A$64,0)),"") | C8: =IFERROR(INDEX('Holidays'!$B$5:$B$64,MATCH(C7,'Holidays'!$A$5:$A$64,0)),"") | D8: =IFERROR(INDEX('Holidays'!$B$5:$B$64,MATCH(D7,'Holidays'!$A$5:$A$64,0)),"") | E8: =IFERROR(INDEX('Holidays'!$B$5:$B$64,MATCH(E7,'Holidays'!$A$5:$A$64,0)),"") | F8: =IFERROR(INDEX('Holidays'!$B$5:$B$64,MATCH(F7,'Holidays'!$A$5:$A$64,0)),"") | G8: =IFERROR(INDEX('Holidays'!$B$5:$B$64,MATCH(G7,'Holidays'!$A$5:$A$64,0)),"")
A9: 46670 | B9: 46671 | C9: 46672 | D9: 46673 | E9: 46674 | F9: 46675 | G9: 46676
A10: =IFERROR(INDEX('Holidays'!$B$5:$B$64,MATCH(A9,'Holidays'!$A$5:$A$64,0)),"") | B10: =IFERROR(INDEX('Holidays'!$B$5:$B$64,MATCH(B9,'Holidays'!$A$5:$A$64,0)),"") -> Columbus Day | C10: =IFERROR(INDEX('Holidays'!$B$5:$B$64,MATCH(C9,'Holidays'!$A$5:$A$64,0)),"") | D10: =IFERROR(INDEX('Holidays'!$B$5:$B$64,MATCH(D9,'Holidays'!$A$5:$A$64,0)),"") | E10: =IFERROR(INDEX('Holidays'!$B$5:$B$64,MATCH(E9,'Holidays'!$A$5:$A$64,0)),"") | F10: =IFERROR(INDEX('Holidays'!$B$5:$B$64,MATCH(F9,'Holidays'!$A$5:$A$64,0)),"") | G10: =IFERROR(INDEX('Holidays'!$B$5:$B$64,MATCH(G9,'Holidays'!$A$5:$A$64,0)),"")
A11: 46677 | B11: 46678 | C11: 46679 | D11: 46680 | E11: 46681 | F11: 46682 | G11: 46683
A12: =IFERROR(INDEX('Holidays'!$B$5:$B$64,MATCH(A11,'Holidays'!$A$5:$A$64,0)),"") | B12: =IFERROR(INDEX('Holidays'!$B$5:$B$64,MATCH(B11,'Holidays'!$A$5:$A$64,0)),"") | C12: =IFERROR(INDEX('Holidays'!$B$5:$B$64,MATCH(C11,'Holidays'!$A$5:$A$64,0)),"") | D12: =IFERROR(INDEX('Holidays'!$B$5:$B$64,MATCH(D11,'Holidays'!$A$5:$A$64,0)),"") | E12: =IFERROR(INDEX('Holidays'!$B$5:$B$64,MATCH(E11,'Holidays'!$A$5:$A$64,0)),"") | F12: =IFERROR(INDEX('Holidays'!$B$5:$B$64,MATCH(F11,'Holidays'!$A$5:$A$64,0)),"") | G12: =IFERROR(INDEX('Holidays'!$B$5:$B$64,MATCH(G11,'Holidays'!$A$5:$A$64,0)),"")
A13: 46684 | B13: 46685 | C13: 46686 | D13: 46687 | E13: 46688 | F13: 46689 | G13: 46690
A14: =IFERROR(INDEX('Holidays'!$B$5:$B$64,MATCH(A13,'Holidays'!$A$5:$A$64,0)),"") | B14: =IFERROR(INDEX('Holidays'!$B$5:$B$64,MATCH(B13,'Holidays'!$A$5:$A$64,0)),"") | C14: =IFERROR(INDEX('Holidays'!$B$5:$B$64,MATCH(C13,'Holidays'!$A$5:$A$64,0)),"") | D14: =IFERROR(INDEX('Holidays'!$B$5:$B$64,MATCH(D13,'Holidays'!$A$5:$A$64,0)),"") | E14: =IFERROR(INDEX('Holidays'!$B$5:$B$64,MATCH(E13,'Holidays'!$A$5:$A$64,0)),"") | F14: =IFERROR(INDEX('Holidays'!$B$5:$B$64,MATCH(F13,'Holidays'!$A$5:$A$64,0)),"") | G14: =IFERROR(INDEX('Holidays'!$B$5:$B$64,MATCH(G13,'Holidays'!$A$5:$A$64,0)),"")
A15: 46691
A16: =IFERROR(INDEX('Holidays'!$B$5:$B$64,MATCH(A15,'Holidays'!$A$5:$A$64,0)),"")

Sheet November 2027
A1: November 2027
A2: Calendar · US federal holidays
A4: Sunday | B4: Monday | C4: Tuesday | D4: Wednesday | E4: Thursday | F4: Friday | G4: Saturday
B5: 46692 | C5: 46693 | D5: 46694 | E5: 46695 | F5: 46696 | G5: 46697
B6: =IFERROR(INDEX('Holidays'!$B$5:$B$64,MATCH(B5,'Holidays'!$A$5:$A$64,0)),"") | C6: =IFERROR(INDEX('Holidays'!$B$5:$B$64,MATCH(C5,'Holidays'!$A$5:$A$64,0)),"") | D6: =IFERROR(INDEX('Holidays'!$B$5:$B$64,MATCH(D5,'Holidays'!$A$5:$A$64,0)),"") | E6: =IFERROR(INDEX('Holidays'!$B$5:$B$64,MATCH(E5,'Holidays'!$A$5:$A$64,0)),"") | F6: =IFERROR(INDEX('Holidays'!$B$5:$B$64,MATCH(F5,'Holidays'!$A$5:$A$64,0)),"") | G6: =IFERROR(INDEX('Holidays'!$B$5:$B$64,MATCH(G5,'Holidays'!$A$5:$A$64,0)),"")
A7: 46698 | B7: 46699 | C7: 46700 | D7: 46701 | E7: 46702 | F7: 46703 | G7: 46704
A8: =IFERROR(INDEX('Holidays'!$B$5:$B$64,MATCH(A7,'Holidays'!$A$5:$A$64,0)),"") | B8: =IFERROR(INDEX('Holidays'!$B$5:$B$64,MATCH(B7,'Holidays'!$A$5:$A$64,0)),"") | C8: =IFERROR(INDEX('Holidays'!$B$5:$B$64,MATCH(C7,'Holidays'!$A$5:$A$64,0)),"") | D8: =IFERROR(INDEX('Holidays'!$B$5:$B$64,MATCH(D7,'Holidays'!$A$5:$A$64,0)),"") | E8: =IFERROR(INDEX('Holidays'!$B$5:$B$64,MATCH(E7,'Holidays'!$A$5:$A$64,0)),"") -> Veterans Day | F8: =IFERROR(INDEX('Holidays'!$B$5:$B$64,MATCH(F7,'Holidays'!$A$5:$A$64,0)),"") | G8: =IFERROR(INDEX('Holidays'!$B$5:$B$64,MATCH(G7,'Holidays'!$A$5:$A$64,0)),"")
A9: 46705 | B9: 46706 | C9: 46707 | D9: 46708 | E9: 46709 | F9: 46710 | G9: 46711
A10: =IFERROR(INDEX('Holidays'!$B$5:$B$64,MATCH(A9,'Holidays'!$A$5:$A$64,0)),"") | B10: =IFERROR(INDEX('Holidays'!$B$5:$B$64,MATCH(B9,'Holidays'!$A$5:$A$64,0)),"") | C10: =IFERROR(INDEX('Holidays'!$B$5:$B$64,MATCH(C9,'Holidays'!$A$5:$A$64,0)),"") | D10: =IFERROR(INDEX('Holidays'!$B$5:$B$64,MATCH(D9,'Holidays'!$A$5:$A$64,0)),"") | E10: =IFERROR(INDEX('Holidays'!$B$5:$B$64,MATCH(E9,'Holidays'!$A$5:$A$64,0)),"") | F10: =IFERROR(INDEX('Holidays'!$B$5:$B$64,MATCH(F9,'Holidays'!$A$5:$A$64,0)),"") | G10: =IFERROR(INDEX('Holidays'!$B$5:$B$64,MATCH(G9,'Holidays'!$A$5:$A$64,0)),"")
A11: 46712 | B11: 46713 | C11: 46714 | D11: 46715 | E11: 46716 | F11: 46717 | G11: 46718
A12: =IFERROR(INDEX('Holidays'!$B$5:$B$64,MATCH(A11,'Holidays'!$A$5:$A$64,0)),"") | B12: =IFERROR(INDEX('Holidays'!$B$5:$B$64,MATCH(B11,'Holidays'!$A$5:$A$64,0)),"") | C12: =IFERROR(INDEX('Holidays'!$B$5:$B$64,MATCH(C11,'Holidays'!$A$5:$A$64,0)),"") | D12: =IFERROR(INDEX('Holidays'!$B$5:$B$64,MATCH(D11,'Holidays'!$A$5:$A$64,0)),"") | E12: =IFERROR(INDEX('Holidays'!$B$5:$B$64,MATCH(E11,'Holidays'!$A$5:$A$64,0)),"") -> Thanksgiving Day | F12: =IFERROR(INDEX('Holidays'!$B$5:$B$64,MATCH(F11,'Holidays'!$A$5:$A$64,0)),"") | G12: =IFERROR(INDEX('Holidays'!$B$5:$B$64,MATCH(G11,'Holidays'!$A$5:$A$64,0)),"")
A13: 46719 | B13: 46720 | C13: 46721
A14: =IFERROR(INDEX('Holidays'!$B$5:$B$64,MATCH(A13,'Holidays'!$A$5:$A$64,0)),"") | B14: =IFERROR(INDEX('Holidays'!$B$5:$B$64,MATCH(B13,'Holidays'!$A$5:$A$64,0)),"") | C14: =IFERROR(INDEX('Holidays'!$B$5:$B$64,MATCH(C13,'Holidays'!$A$5:$A$64,0)),"")

Sheet December 2027
A1: December 2027
A2: Calendar · US federal holidays
A4: Sunday | B4: Monday | C4: Tuesday | D4: Wednesday | E4: Thursday | F4: Friday | G4: Saturday
D5: 46722 | E5: 46723 | F5: 46724 | G5: 46725
D6: =IFERROR(INDEX('Holidays'!$B$5:$B$64,MATCH(D5,'Holidays'!$A$5:$A$64,0)),"") | E6: =IFERROR(INDEX('Holidays'!$B$5:$B$64,MATCH(E5,'Holidays'!$A$5:$A$64,0)),"") | F6: =IFERROR(INDEX('Holidays'!$B$5:$B$64,MATCH(F5,'Holidays'!$A$5:$A$64,0)),"") | G6: =IFERROR(INDEX('Holidays'!$B$5:$B$64,MATCH(G5,'Holidays'!$A$5:$A$64,0)),"")
A7: 46726 | B7: 46727 | C7: 46728 | D7: 46729 | E7: 46730 | F7: 46731 | G7: 46732
A8: =IFERROR(INDEX('Holidays'!$B$5:$B$64,MATCH(A7,'Holidays'!$A$5:$A$64,0)),"") | B8: =IFERROR(INDEX('Holidays'!$B$5:$B$64,MATCH(B7,'Holidays'!$A$5:$A$64,0)),"") | C8: =IFERROR(INDEX('Holidays'!$B$5:$B$64,MATCH(C7,'Holidays'!$A$5:$A$64,0)),"") | D8: =IFERROR(INDEX('Holidays'!$B$5:$B$64,MATCH(D7,'Holidays'!$A$5:$A$64,0)),"") | E8: =IFERROR(INDEX('Holidays'!$B$5:$B$64,MATCH(E7,'Holidays'!$A$5:$A$64,0)),"") | F8: =IFERROR(INDEX('Holidays'!$B$5:$B$64,MATCH(F7,'Holidays'!$A$5:$A$64,0)),"") | G8: =IFERROR(INDEX('Holidays'!$B$5:$B$64,MATCH(G7,'Holidays'!$A$5:$A$64,0)),"")
A9: 46733 | B9: 46734 | C9: 46735 | D9: 46736 | E9: 46737 | F9: 46738 | G9: 46739
A10: =IFERROR(INDEX('Holidays'!$B$5:$B$64,MATCH(A9,'Holidays'!$A$5:$A$64,0)),"") | B10: =IFERROR(INDEX('Holidays'!$B$5:$B$64,MATCH(B9,'Holidays'!$A$5:$A$64,0)),"") | C10: =IFERROR(INDEX('Holidays'!$B$5:$B$64,MATCH(C9,'Holidays'!$A$5:$A$64,0)),"") | D10: =IFERROR(INDEX('Holidays'!$B$5:$B$64,MATCH(D9,'Holidays'!$A$5:$A$64,0)),"") | E10: =IFERROR(INDEX('Holidays'!$B$5:$B$64,MATCH(E9,'Holidays'!$A$5:$A$64,0)),"") | F10: =IFERROR(INDEX('Holidays'!$B$5:$B$64,MATCH(F9,'Holidays'!$A$5:$A$64,0)),"") | G10: =IFERROR(INDEX('Holidays'!$B$5:$B$64,MATCH(G9,'Holidays'!$A$5:$A$64,0)),"")
A11: 46740 | B11: 46741 | C11: 46742 | D11: 46743 | E11: 46744 | F11: 46745 | G11: 46746
A12: =IFERROR(INDEX('Holidays'!$B$5:$B$64,MATCH(A11,'Holidays'!$A$5:$A$64,0)),"") | B12: =IFERROR(INDEX('Holidays'!$B$5:$B$64,MATCH(B11,'Holidays'!$A$5:$A$64,0)),"") | C12: =IFERROR(INDEX('Holidays'!$B$5:$B$64,MATCH(C11,'Holidays'!$A$5:$A$64,0)),"") | D12: =IFERROR(INDEX('Holidays'!$B$5:$B$64,MATCH(D11,'Holidays'!$A$5:$A$64,0)),"") | E12: =IFERROR(INDEX('Holidays'!$B$5:$B$64,MATCH(E11,'Holidays'!$A$5:$A$64,0)),"") | F12: =IFERROR(INDEX('Holidays'!$B$5:$B$64,MATCH(F11,'Holidays'!$A$5:$A$64,0)),"") -> Christmas Day (observed) | G12: =IFERROR(INDEX('Holidays'!$B$5:$B$64,MATCH(G11,'Holidays'!$A$5:$A$64,0)),"") -> Christmas Day
A13: 46747 | B13: 46748 | C13: 46749 | D13: 46750 | E13: 46751 | F13: 46752
A14: =IFERROR(INDEX('Holidays'!$B$5:$B$64,MATCH(A13,'Holidays'!$A$5:$A$64,0)),"") | B14: =IFERROR(INDEX('Holidays'!$B$5:$B$64,MATCH(B13,'Holidays'!$A$5:$A$64,0)),"") | C14: =IFERROR(INDEX('Holidays'!$B$5:$B$64,MATCH(C13,'Holidays'!$A$5:$A$64,0)),"") | D14: =IFERROR(INDEX('Holidays'!$B$5:$B$64,MATCH(D13,'Holidays'!$A$5:$A$64,0)),"") | E14: =IFERROR(INDEX('Holidays'!$B$5:$B$64,MATCH(E13,'Holidays'!$A$5:$A$64,0)),"") | F14: =IFERROR(INDEX('Holidays'!$B$5:$B$64,MATCH(F13,'Holidays'!$A$5:$A$64,0)),"") -> New Year’s Day (observed)

Sheet Holidays
A1: US federal holidays
A2: Calendar · US federal holidays
A4: Date | B4: Holiday
A5: 46388 | B5: New Year’s Day
A6: 46405 | B6: Martin Luther King Jr. Day
A7: 46433 | B7: Presidents’ Day
A8: 46538 | B8: Memorial Day
A9: 46556 | B9: Juneteenth (observed)
A10: 46557 | B10: Juneteenth
A11: 46572 | B11: Independence Day
A12: 46573 | B12: Independence Day (observed)
A13: 46636 | B13: Labor Day
A14: 46671 | B14: Columbus Day
A15: 46702 | B15: Veterans Day
A16: 46716 | B16: Thanksgiving Day
... A19: 46752 | B19: New Year’s Day (observed)
