Workbook
Name ExtraPayment: 'Debts'!$B$4
Name FirstPayment: 'Debts'!$B$5
Name MonthlyPayment: 'Debts'!$B$21

Sheet Debts
A1: Debt snowball and avalanche planner
A2: Excel template · Debt payoff planner · Pound sterling (£)
A4: Extra payment each month
A5: First payment month
A7: Debt | B7: Balance | C7: Interest rate (APR) | D7: Minimum payment | E7: Order · snowball | F7: Order · avalanche | G7: Months · snowball | H7: Months · avalanche
E8: =IF($Z8="","",SUMPRODUCT(($Z$8:$Z$17<$Z8)*1)+COUNTIF($Z$8:$Z8,$Z8)) | F8: =IF($AA8="","",SUMPRODUCT(($AA$8:$AA$17<$AA8)*1)+COUNTIF($AA$8:$AA8,$AA8)) | G8: =IF(E8="","",INDEX('Snowball'!$F$5:$BC$5,1,5*E8)) | H8: =IF(F8="","",INDEX('Avalanche'!$F$5:$BC$5,1,5*F8)) | Y8: =IF(AND($B8>0,$D8<=ROUND($B8*N($C8)/12,2)),1,0) -> 0 | Z8: =IF($B8>0,ROUND($B8*100,0)*10000-ROUND(N($C8)*10000,0),"") | AA8: =IF($B8>0,ROUND($B8*100,0)-ROUND(N($C8)*10000,0)*10000000000,"")
E9: =IF($Z9="","",SUMPRODUCT(($Z$8:$Z$17<$Z9)*1)+COUNTIF($Z$8:$Z9,$Z9)) | F9: =IF($AA9="","",SUMPRODUCT(($AA$8:$AA$17<$AA9)*1)+COUNTIF($AA$8:$AA9,$AA9)) | G9: =IF(E9="","",INDEX('Snowball'!$F$5:$BC$5,1,5*E9)) | H9: =IF(F9="","",INDEX('Avalanche'!$F$5:$BC$5,1,5*F9)) | Y9: =IF(AND($B9>0,$D9<=ROUND($B9*N($C9)/12,2)),1,0) -> 0 | Z9: =IF($B9>0,ROUND($B9*100,0)*10000-ROUND(N($C9)*10000,0),"") | AA9: =IF($B9>0,ROUND($B9*100,0)-ROUND(N($C9)*10000,0)*10000000000,"")
E10: =IF($Z10="","",SUMPRODUCT(($Z$8:$Z$17<$Z10)*1)+COUNTIF($Z$8:$Z10,$Z10)) | F10: =IF($AA10="","",SUMPRODUCT(($AA$8:$AA$17<$AA10)*1)+COUNTIF($AA$8:$AA10,$AA10)) | G10: =IF(E10="","",INDEX('Snowball'!$F$5:$BC$5,1,5*E10)) | H10: =IF(F10="","",INDEX('Avalanche'!$F$5:$BC$5,1,5*F10)) | Y10: =IF(AND($B10>0,$D10<=ROUND($B10*N($C10)/12,2)),1,0) -> 0 | Z10: =IF($B10>0,ROUND($B10*100,0)*10000-ROUND(N($C10)*10000,0),"") | AA10: =IF($B10>0,ROUND($B10*100,0)-ROUND(N($C10)*10000,0)*10000000000,"")
E11: =IF($Z11="","",SUMPRODUCT(($Z$8:$Z$17<$Z11)*1)+COUNTIF($Z$8:$Z11,$Z11)) | F11: =IF($AA11="","",SUMPRODUCT(($AA$8:$AA$17<$AA11)*1)+COUNTIF($AA$8:$AA11,$AA11)) | G11: =IF(E11="","",INDEX('Snowball'!$F$5:$BC$5,1,5*E11)) | H11: =IF(F11="","",INDEX('Avalanche'!$F$5:$BC$5,1,5*F11)) | Y11: =IF(AND($B11>0,$D11<=ROUND($B11*N($C11)/12,2)),1,0) -> 0 | Z11: =IF($B11>0,ROUND($B11*100,0)*10000-ROUND(N($C11)*10000,0),"") | AA11: =IF($B11>0,ROUND($B11*100,0)-ROUND(N($C11)*10000,0)*10000000000,"")
E12: =IF($Z12="","",SUMPRODUCT(($Z$8:$Z$17<$Z12)*1)+COUNTIF($Z$8:$Z12,$Z12)) | F12: =IF($AA12="","",SUMPRODUCT(($AA$8:$AA$17<$AA12)*1)+COUNTIF($AA$8:$AA12,$AA12)) | G12: =IF(E12="","",INDEX('Snowball'!$F$5:$BC$5,1,5*E12)) | H12: =IF(F12="","",INDEX('Avalanche'!$F$5:$BC$5,1,5*F12)) | Y12: =IF(AND($B12>0,$D12<=ROUND($B12*N($C12)/12,2)),1,0) -> 0 | Z12: =IF($B12>0,ROUND($B12*100,0)*10000-ROUND(N($C12)*10000,0),"") | AA12: =IF($B12>0,ROUND($B12*100,0)-ROUND(N($C12)*10000,0)*10000000000,"")
E13: =IF($Z13="","",SUMPRODUCT(($Z$8:$Z$17<$Z13)*1)+COUNTIF($Z$8:$Z13,$Z13)) | F13: =IF($AA13="","",SUMPRODUCT(($AA$8:$AA$17<$AA13)*1)+COUNTIF($AA$8:$AA13,$AA13)) | G13: =IF(E13="","",INDEX('Snowball'!$F$5:$BC$5,1,5*E13)) | H13: =IF(F13="","",INDEX('Avalanche'!$F$5:$BC$5,1,5*F13)) | Y13: =IF(AND($B13>0,$D13<=ROUND($B13*N($C13)/12,2)),1,0) -> 0 | Z13: =IF($B13>0,ROUND($B13*100,0)*10000-ROUND(N($C13)*10000,0),"") | AA13: =IF($B13>0,ROUND($B13*100,0)-ROUND(N($C13)*10000,0)*10000000000,"")
E14: =IF($Z14="","",SUMPRODUCT(($Z$8:$Z$17<$Z14)*1)+COUNTIF($Z$8:$Z14,$Z14)) | F14: =IF($AA14="","",SUMPRODUCT(($AA$8:$AA$17<$AA14)*1)+COUNTIF($AA$8:$AA14,$AA14)) | G14: =IF(E14="","",INDEX('Snowball'!$F$5:$BC$5,1,5*E14)) | H14: =IF(F14="","",INDEX('Avalanche'!$F$5:$BC$5,1,5*F14)) | Y14: =IF(AND($B14>0,$D14<=ROUND($B14*N($C14)/12,2)),1,0) -> 0 | Z14: =IF($B14>0,ROUND($B14*100,0)*10000-ROUND(N($C14)*10000,0),"") | AA14: =IF($B14>0,ROUND($B14*100,0)-ROUND(N($C14)*10000,0)*10000000000,"")
E15: =IF($Z15="","",SUMPRODUCT(($Z$8:$Z$17<$Z15)*1)+COUNTIF($Z$8:$Z15,$Z15)) | F15: =IF($AA15="","",SUMPRODUCT(($AA$8:$AA$17<$AA15)*1)+COUNTIF($AA$8:$AA15,$AA15)) | G15: =IF(E15="","",INDEX('Snowball'!$F$5:$BC$5,1,5*E15)) | H15: =IF(F15="","",INDEX('Avalanche'!$F$5:$BC$5,1,5*F15)) | Y15: =IF(AND($B15>0,$D15<=ROUND($B15*N($C15)/12,2)),1,0) -> 0 | Z15: =IF($B15>0,ROUND($B15*100,0)*10000-ROUND(N($C15)*10000,0),"") | AA15: =IF($B15>0,ROUND($B15*100,0)-ROUND(N($C15)*10000,0)*10000000000,"")
E16: =IF($Z16="","",SUMPRODUCT(($Z$8:$Z$17<$Z16)*1)+COUNTIF($Z$8:$Z16,$Z16)) | F16: =IF($AA16="","",SUMPRODUCT(($AA$8:$AA$17<$AA16)*1)+COUNTIF($AA$8:$AA16,$AA16)) | G16: =IF(E16="","",INDEX('Snowball'!$F$5:$BC$5,1,5*E16)) | H16: =IF(F16="","",INDEX('Avalanche'!$F$5:$BC$5,1,5*F16)) | Y16: =IF(AND($B16>0,$D16<=ROUND($B16*N($C16)/12,2)),1,0) -> 0 | Z16: =IF($B16>0,ROUND($B16*100,0)*10000-ROUND(N($C16)*10000,0),"") | AA16: =IF($B16>0,ROUND($B16*100,0)-ROUND(N($C16)*10000,0)*10000000000,"")
E17: =IF($Z17="","",SUMPRODUCT(($Z$8:$Z$17<$Z17)*1)+COUNTIF($Z$8:$Z17,$Z17)) | F17: =IF($AA17="","",SUMPRODUCT(($AA$8:$AA$17<$AA17)*1)+COUNTIF($AA$8:$AA17,$AA17)) | G17: =IF(E17="","",INDEX('Snowball'!$F$5:$BC$5,1,5*E17)) | H17: =IF(F17="","",INDEX('Avalanche'!$F$5:$BC$5,1,5*F17)) | Y17: =IF(AND($B17>0,$D17<=ROUND($B17*N($C17)/12,2)),1,0) -> 0 | Z17: =IF($B17>0,ROUND($B17*100,0)*10000-ROUND(N($C17)*10000,0),"") | AA17: =IF($B17>0,ROUND($B17*100,0)-ROUND(N($C17)*10000,0)*10000000000,"")
A18: Total | B18: =SUM($B$8:$B$17) -> 0 | D18: =SUM($D$8:$D$17) -> 0
A20: Result | B20: Snowball | C20: Avalanche
A21: Total paid each month | B21: =SUMIF($B$8:$B$17,">0",$D$8:$D$17)+N(ExtraPayment) -> 0 | C21: =B21 -> 0
A22: Months to debt-free | B22: =IF(COUNTIF($G$8:$G$17,"<0")>0,-1,MAX($G$8:$G$17)) -> 0 | C22: =IF(COUNTIF($H$8:$H$17,"<0")>0,-1,MAX($H$8:$H$17)) -> 0
A23: Last payment | B23: =IF(OR(B22<=0,FirstPayment=""),"",EDATE(FirstPayment,B22-1)) | C23: =IF(OR(C22<=0,FirstPayment=""),"",EDATE(FirstPayment,C22-1))
A24: Total interest | B24: =SUM('Snowball'!$E$7:$E$366) -> 0 | C24: =SUM('Avalanche'!$E$7:$E$366) -> 0
A25: =IF(SUM($Y$8:$Y$17)>0,"A minimum payment does not cover the interest, so that debt would grow.","")

Sheet Snowball
A1: Payment schedule · Snowball
A2: Excel template · Debt payoff planner · Pound sterling (£)
F4: =IF($F$5=0,"",INDEX('Debts'!$A$8:$A$17,$F$5)) | K4: =IF($K$5=0,"",INDEX('Debts'!$A$8:$A$17,$K$5)) | P4: =IF($P$5=0,"",INDEX('Debts'!$A$8:$A$17,$P$5)) | U4: =IF($U$5=0,"",INDEX('Debts'!$A$8:$A$17,$U$5)) | Z4: =IF($Z$5=0,"",INDEX('Debts'!$A$8:$A$17,$Z$5)) | AE4: =IF($AE$5=0,"",INDEX('Debts'!$A$8:$A$17,$AE$5)) | AJ4: =IF($AJ$5=0,"",INDEX('Debts'!$A$8:$A$17,$AJ$5)) | AO4: =IF($AO$5=0,"",INDEX('Debts'!$A$8:$A$17,$AO$5)) | AT4: =IF($AT$5=0,"",INDEX('Debts'!$A$8:$A$17,$AT$5)) | AY4: =IF($AY$5=0,"",INDEX('Debts'!$A$8:$A$17,$AY$5))
F5: =IFERROR(MATCH(1,'Debts'!$E$8:$E$17,0),0) -> 0 | G5: =IF($F$5=0,0,N(INDEX('Debts'!$C$8:$C$17,$F$5))) -> 0 | H5: =IF($F$5=0,0,N(INDEX('Debts'!$D$8:$D$17,$F$5))) -> 0 | I5: =IF($F$5=0,0,N(INDEX('Debts'!$B$8:$B$17,$F$5))) -> 0 | J5: =IF($I$5<=0,0,IF($J$366>0,-1,COUNTIF($J$7:$J$366,">0")+1)) -> 0 | K5: =IFERROR(MATCH(2,'Debts'!$E$8:$E$17,0),0) -> 0 | L5: =IF($K$5=0,0,N(INDEX('Debts'!$C$8:$C$17,$K$5))) -> 0 | M5: =IF($K$5=0,0,N(INDEX('Debts'!$D$8:$D$17,$K$5))) -> 0 | N5: =IF($K$5=0,0,N(INDEX('Debts'!$B$8:$B$17,$K$5))) -> 0 | O5: =IF($N$5<=0,0,IF($O$366>0,-1,COUNTIF($O$7:$O$366,">0")+1)) -> 0 | P5: =IFERROR(MATCH(3,'Debts'!$E$8:$E$17,0),0) -> 0 | Q5: =IF($P$5=0,0,N(INDEX('Debts'!$C$8:$C$17,$P$5))) -> 0 | R5: =IF($P$5=0,0,N(INDEX('Debts'!$D$8:$D$17,$P$5))) -> 0 | S5: =IF($P$5=0,0,N(INDEX('Debts'!$B$8:$B$17,$P$5))) -> 0 | T5: =IF($S$5<=0,0,IF($T$366>0,-1,COUNTIF($T$7:$T$366,">0")+1)) -> 0 | U5: =IFERROR(MATCH(4,'Debts'!$E$8:$E$17,0),0) -> 0 | V5: =IF($U$5=0,0,N(INDEX('Debts'!$C$8:$C$17,$U$5))) -> 0 | W5: =IF($U$5=0,0,N(INDEX('Debts'!$D$8:$D$17,$U$5))) -> 0 | X5: =IF($U$5=0,0,N(INDEX('Debts'!$B$8:$B$17,$U$5))) -> 0 | Y5: =IF($X$5<=0,0,IF($Y$366>0,-1,COUNTIF($Y$7:$Y$366,">0")+1)) -> 0 | Z5: =IFERROR(MATCH(5,'Debts'!$E$8:$E$17,0),0) -> 0 | AA5: =IF($Z$5=0,0,N(INDEX('Debts'!$C$8:$C$17,$Z$5))) -> 0 | AB5: =IF($Z$5=0,0,N(INDEX('Debts'!$D$8:$D$17,$Z$5))) -> 0 | AC5: =IF($Z$5=0,0,N(INDEX('Debts'!$B$8:$B$17,$Z$5))) -> 0 | AD5: =IF($AC$5<=0,0,IF($AD$366>0,-1,COUNTIF($AD$7:$AD$366,">0")+1)) -> 0 | AE5: =IFERROR(MATCH(6,'Debts'!$E$8:$E$17,0),0) -> 0 | AF5: =IF($AE$5=0,0,N(INDEX('Debts'!$C$8:$C$17,$AE$5))) -> 0 | AG5: =IF($AE$5=0,0,N(INDEX('Debts'!$D$8:$D$17,$AE$5))) -> 0 | AH5: =IF($AE$5=0,0,N(INDEX('Debts'!$B$8:$B$17,$AE$5))) -> 0 | AI5: =IF($AH$5<=0,0,IF($AI$366>0,-1,COUNTIF($AI$7:$AI$366,">0")+1)) -> 0 | AJ5: =IFERROR(MATCH(7,'Debts'!$E$8:$E$17,0),0) -> 0 | AK5: =IF($AJ$5=0,0,N(INDEX('Debts'!$C$8:$C$17,$AJ$5))) -> 0 | AL5: =IF($AJ$5=0,0,N(INDEX('Debts'!$D$8:$D$17,$AJ$5))) -> 0 | AM5: =IF($AJ$5=0,0,N(INDEX('Debts'!$B$8:$B$17,$AJ$5))) -> 0 | AN5: =IF($AM$5<=0,0,IF($AN$366>0,-1,COUNTIF($AN$7:$AN$366,">0")+1)) -> 0 | AO5: =IFERROR(MATCH(8,'Debts'!$E$8:$E$17,0),0) -> 0 | AP5: =IF($AO$5=0,0,N(INDEX('Debts'!$C$8:$C$17,$AO$5))) -> 0 | AQ5: =IF($AO$5=0,0,N(INDEX('Debts'!$D$8:$D$17,$AO$5))) -> 0 | AR5: =IF($AO$5=0,0,N(INDEX('Debts'!$B$8:$B$17,$AO$5))) -> 0 | AS5: =IF($AR$5<=0,0,IF($AS$366>0,-1,COUNTIF($AS$7:$AS$366,">0")+1)) -> 0 | AT5: =IFERROR(MATCH(9,'Debts'!$E$8:$E$17,0),0) -> 0 | AU5: =IF($AT$5=0,0,N(INDEX('Debts'!$C$8:$C$17,$AT$5))) -> 0 | AV5: =IF($AT$5=0,0,N(INDEX('Debts'!$D$8:$D$17,$AT$5))) -> 0 | AW5: =IF($AT$5=0,0,N(INDEX('Debts'!$B$8:$B$17,$AT$5))) -> 0 | AX5: =IF($AW$5<=0,0,IF($AX$366>0,-1,COUNTIF($AX$7:$AX$366,">0")+1)) -> 0 | AY5: =IFERROR(MATCH(10,'Debts'!$E$8:$E$17,0),0) -> 0 | AZ5: =IF($AY$5=0,0,N(INDEX('Debts'!$C$8:$C$17,$AY$5))) -> 0 | BA5: =IF($AY$5=0,0,N(INDEX('Debts'!$D$8:$D$17,$AY$5))) -> 0 | BB5: =IF($AY$5=0,0,N(INDEX('Debts'!$B$8:$B$17,$AY$5))) -> 0 | BC5: =IF($BB$5<=0,0,IF($BC$366>0,-1,COUNTIF($BC$7:$BC$366,">0")+1)) -> 0
A6: Month | B6: Date | C6: Paid this month | D6: Total balance | E6: Interest | F6: Starting balance | G6: Interest | H6: Minimum | I6: Extra | J6: Ending balance | K6: Starting balance | L6: Interest | M6: Minimum | N6: Extra | O6: Ending balance | P6: Starting balance | Q6: Interest | R6: Minimum | S6: Extra | T6: Ending balance | U6: Starting balance | V6: Interest | W6: Minimum | X6: Extra | Y6: Ending balance | Z6: Starting balance | AA6: Interest | AB6: Minimum | AC6: Extra | AD6: Ending balance | AE6: Starting balance | AF6: Interest | AG6: Minimum | AH6: Extra | AI6: Ending balance | AJ6: Starting balance | AK6: Interest | AL6: Minimum | AM6: Extra | AN6: Ending balance | AO6: Starting balance | AP6: Interest | AQ6: Minimum | AR6: Extra | AS6: Ending balance | AT6: Starting balance | AU6: Interest | AV6: Minimum | AW6: Extra | AX6: Ending balance | AY6: Starting balance | AZ6: Interest | BA6: Minimum | BB6: Extra | BC6: Ending balance
A7: 1 | B7: =IF(FirstPayment="","",EDATE(FirstPayment,A7-1)) | C7: =SUM(H7,M7,R7,W7,AB7,AG7,AL7,AQ7,AV7,BA7,I7,N7,S7,X7,AC7,AH7,AM7,AR7,AW7,BB7) -> 0 | D7: =SUM(J7,O7,T7,Y7,AD7,AI7,AN7,AS7,AX7,BC7) -> 0 | E7: =SUM(G7,L7,Q7,V7,AA7,AF7,AK7,AP7,AU7,AZ7) -> 0 | F7: =$I$5 -> 0 | G7: =ROUND(F7*$G$5/12,2) -> 0 | H7: =MIN($H$5,F7+G7) -> 0 | I7: =MAX(0,MIN(F7+G7-H7,MonthlyPayment-SUM(H7,M7,R7,W7,AB7,AG7,AL7,AQ7,AV7,BA7))) -> 0 | J7: =ROUND(F7+G7-H7-I7,2) -> 0 | K7: =$N$5 -> 0 | L7: =ROUND(K7*$L$5/12,2) -> 0 | M7: =MIN($M$5,K7+L7) -> 0 | N7: =MAX(0,MIN(K7+L7-M7,MonthlyPayment-SUM(H7,M7,R7,W7,AB7,AG7,AL7,AQ7,AV7,BA7)-SUM(I7))) -> 0 | O7: =ROUND(K7+L7-M7-N7,2) -> 0 | P7: =$S$5 -> 0 | Q7: =ROUND(P7*$Q$5/12,2) -> 0 | R7: =MIN($R$5,P7+Q7) -> 0 | S7: =MAX(0,MIN(P7+Q7-R7,MonthlyPayment-SUM(H7,M7,R7,W7,AB7,AG7,AL7,AQ7,AV7,BA7)-SUM(I7,N7))) -> 0 | T7: =ROUND(P7+Q7-R7-S7,2) -> 0 | U7: =$X$5 -> 0 | V7: =ROUND(U7*$V$5/12,2) -> 0 | W7: =MIN($W$5,U7+V7) -> 0 | X7: =MAX(0,MIN(U7+V7-W7,MonthlyPayment-SUM(H7,M7,R7,W7,AB7,AG7,AL7,AQ7,AV7,BA7)-SUM(I7,N7,S7))) -> 0 | Y7: =ROUND(U7+V7-W7-X7,2) -> 0 | Z7: =$AC$5 -> 0 | AA7: =ROUND(Z7*$AA$5/12,2) -> 0 | AB7: =MIN($AB$5,Z7+AA7) -> 0 | AC7: =MAX(0,MIN(Z7+AA7-AB7,MonthlyPayment-SUM(H7,M7,R7,W7,AB7,AG7,AL7,AQ7,AV7,BA7)-SUM(I7,N7,S7,X7))) -> 0 | AD7: =ROUND(Z7+AA7-AB7-AC7,2) -> 0 | AE7: =$AH$5 -> 0 | AF7: =ROUND(AE7*$AF$5/12,2) -> 0 | AG7: =MIN($AG$5,AE7+AF7) -> 0 | AH7: =MAX(0,MIN(AE7+AF7-AG7,MonthlyPayment-SUM(H7,M7,R7,W7,AB7,AG7,AL7,AQ7,AV7,BA7)-SUM(I7,N7,S7,X7,AC7))) -> 0 | AI7: =ROUND(AE7+AF7-AG7-AH7,2) -> 0 | AJ7: =$AM$5 -> 0 | AK7: =ROUND(AJ7*$AK$5/12,2) -> 0 | AL7: =MIN($AL$5,AJ7+AK7) -> 0 | AM7: =MAX(0,MIN(AJ7+AK7-AL7,MonthlyPayment-SUM(H7,M7,R7,W7,AB7,AG7,AL7,AQ7,AV7,BA7)-SUM(I7,N7,S7,X7,AC7,AH7))) -> 0 | AN7: =ROUND(AJ7+AK7-AL7-AM7,2) -> 0 | AO7: =$AR$5 -> 0 | AP7: =ROUND(AO7*$AP$5/12,2) -> 0 | AQ7: =MIN($AQ$5,AO7+AP7) -> 0 | AR7: =MAX(0,MIN(AO7+AP7-AQ7,MonthlyPayment-SUM(H7,M7,R7,W7,AB7,AG7,AL7,AQ7,AV7,BA7)-SUM(I7,N7,S7,X7,AC7,AH7,AM7))) -> 0 | AS7: =ROUND(AO7+AP7-AQ7-AR7,2) -> 0 | AT7: =$AW$5 -> 0 | AU7: =ROUND(AT7*$AU$5/12,2) -> 0 | AV7: =MIN($AV$5,AT7+AU7) -> 0 | AW7: =MAX(0,MIN(AT7+AU7-AV7,MonthlyPayment-SUM(H7,M7,R7,W7,AB7,AG7,AL7,AQ7,AV7,BA7)-SUM(I7,N7,S7,X7,AC7,AH7,AM7,AR7))) -> 0 | AX7: =ROUND(AT7+AU7-AV7-AW7,2) -> 0 | AY7: =$BB$5 -> 0 | AZ7: =ROUND(AY7*$AZ$5/12,2) -> 0 | BA7: =MIN($BA$5,AY7+AZ7) -> 0 | BB7: =MAX(0,MIN(AY7+AZ7-BA7,MonthlyPayment-SUM(H7,M7,R7,W7,AB7,AG7,AL7,AQ7,AV7,BA7)-SUM(I7,N7,S7,X7,AC7,AH7,AM7,AR7,AW7))) -> 0 | BC7: =ROUND(AY7+AZ7-BA7-BB7,2) -> 0
A8: 2 | B8: =IF(FirstPayment="","",EDATE(FirstPayment,A8-1)) | C8: =SUM(H8,M8,R8,W8,AB8,AG8,AL8,AQ8,AV8,BA8,I8,N8,S8,X8,AC8,AH8,AM8,AR8,AW8,BB8) -> 0 | D8: =SUM(J8,O8,T8,Y8,AD8,AI8,AN8,AS8,AX8,BC8) -> 0 | E8: =SUM(G8,L8,Q8,V8,AA8,AF8,AK8,AP8,AU8,AZ8) -> 0 | F8: =J7 -> 0 | G8: =ROUND(F8*$G$5/12,2) -> 0 | H8: =MIN($H$5,F8+G8) -> 0 | I8: =MAX(0,MIN(F8+G8-H8,MonthlyPayment-SUM(H8,M8,R8,W8,AB8,AG8,AL8,AQ8,AV8,BA8))) -> 0 | J8: =ROUND(F8+G8-H8-I8,2) -> 0 | K8: =O7 -> 0 | L8: =ROUND(K8*$L$5/12,2) -> 0 | M8: =MIN($M$5,K8+L8) -> 0 | N8: =MAX(0,MIN(K8+L8-M8,MonthlyPayment-SUM(H8,M8,R8,W8,AB8,AG8,AL8,AQ8,AV8,BA8)-SUM(I8))) -> 0 | O8: =ROUND(K8+L8-M8-N8,2) -> 0 | P8: =T7 -> 0 | Q8: =ROUND(P8*$Q$5/12,2) -> 0 | R8: =MIN($R$5,P8+Q8) -> 0 | S8: =MAX(0,MIN(P8+Q8-R8,MonthlyPayment-SUM(H8,M8,R8,W8,AB8,AG8,AL8,AQ8,AV8,BA8)-SUM(I8,N8))) -> 0 | T8: =ROUND(P8+Q8-R8-S8,2) -> 0 | U8: =Y7 -> 0 | V8: =ROUND(U8*$V$5/12,2) -> 0 | W8: =MIN($W$5,U8+V8) -> 0 | X8: =MAX(0,MIN(U8+V8-W8,MonthlyPayment-SUM(H8,M8,R8,W8,AB8,AG8,AL8,AQ8,AV8,BA8)-SUM(I8,N8,S8))) -> 0 | Y8: =ROUND(U8+V8-W8-X8,2) -> 0 | Z8: =AD7 -> 0 | AA8: =ROUND(Z8*$AA$5/12,2) -> 0 | AB8: =MIN($AB$5,Z8+AA8) -> 0 | AC8: =MAX(0,MIN(Z8+AA8-AB8,MonthlyPayment-SUM(H8,M8,R8,W8,AB8,AG8,AL8,AQ8,AV8,BA8)-SUM(I8,N8,S8,X8))) -> 0 | AD8: =ROUND(Z8+AA8-AB8-AC8,2) -> 0 | AE8: =AI7 -> 0 | AF8: =ROUND(AE8*$AF$5/12,2) -> 0 | AG8: =MIN($AG$5,AE8+AF8) -> 0 | AH8: =MAX(0,MIN(AE8+AF8-AG8,MonthlyPayment-SUM(H8,M8,R8,W8,AB8,AG8,AL8,AQ8,AV8,BA8)-SUM(I8,N8,S8,X8,AC8))) -> 0 | AI8: =ROUND(AE8+AF8-AG8-AH8,2) -> 0 | AJ8: =AN7 -> 0 | AK8: =ROUND(AJ8*$AK$5/12,2) -> 0 | AL8: =MIN($AL$5,AJ8+AK8) -> 0 | AM8: =MAX(0,MIN(AJ8+AK8-AL8,MonthlyPayment-SUM(H8,M8,R8,W8,AB8,AG8,AL8,AQ8,AV8,BA8)-SUM(I8,N8,S8,X8,AC8,AH8))) -> 0 | AN8: =ROUND(AJ8+AK8-AL8-AM8,2) -> 0 | AO8: =AS7 -> 0 | AP8: =ROUND(AO8*$AP$5/12,2) -> 0 | AQ8: =MIN($AQ$5,AO8+AP8) -> 0 | AR8: =MAX(0,MIN(AO8+AP8-AQ8,MonthlyPayment-SUM(H8,M8,R8,W8,AB8,AG8,AL8,AQ8,AV8,BA8)-SUM(I8,N8,S8,X8,AC8,AH8,AM8))) -> 0 | AS8: =ROUND(AO8+AP8-AQ8-AR8,2) -> 0 | AT8: =AX7 -> 0 | AU8: =ROUND(AT8*$AU$5/12,2) -> 0 | AV8: =MIN($AV$5,AT8+AU8) -> 0 | AW8: =MAX(0,MIN(AT8+AU8-AV8,MonthlyPayment-SUM(H8,M8,R8,W8,AB8,AG8,AL8,AQ8,AV8,BA8)-SUM(I8,N8,S8,X8,AC8,AH8,AM8,AR8))) -> 0 | AX8: =ROUND(AT8+AU8-AV8-AW8,2) -> 0 | AY8: =BC7 -> 0 | AZ8: =ROUND(AY8*$AZ$5/12,2) -> 0 | BA8: =MIN($BA$5,AY8+AZ8) -> 0 | BB8: =MAX(0,MIN(AY8+AZ8-BA8,MonthlyPayment-SUM(H8,M8,R8,W8,AB8,AG8,AL8,AQ8,AV8,BA8)-SUM(I8,N8,S8,X8,AC8,AH8,AM8,AR8,AW8))) -> 0 | BC8: =ROUND(AY8+AZ8-BA8-BB8,2) -> 0
A9: 3 | B9: =IF(FirstPayment="","",EDATE(FirstPayment,A9-1)) | C9: =SUM(H9,M9,R9,W9,AB9,AG9,AL9,AQ9,AV9,BA9,I9,N9,S9,X9,AC9,AH9,AM9,AR9,AW9,BB9) -> 0 | D9: =SUM(J9,O9,T9,Y9,AD9,AI9,AN9,AS9,AX9,BC9) -> 0 | E9: =SUM(G9,L9,Q9,V9,AA9,AF9,AK9,AP9,AU9,AZ9) -> 0 | F9: =J8 -> 0 | G9: =ROUND(F9*$G$5/12,2) -> 0 | H9: =MIN($H$5,F9+G9) -> 0 | I9: =MAX(0,MIN(F9+G9-H9,MonthlyPayment-SUM(H9,M9,R9,W9,AB9,AG9,AL9,AQ9,AV9,BA9))) -> 0 | J9: =ROUND(F9+G9-H9-I9,2) -> 0 | K9: =O8 -> 0 | L9: =ROUND(K9*$L$5/12,2) -> 0 | M9: =MIN($M$5,K9+L9) -> 0 | N9: =MAX(0,MIN(K9+L9-M9,MonthlyPayment-SUM(H9,M9,R9,W9,AB9,AG9,AL9,AQ9,AV9,BA9)-SUM(I9))) -> 0 | O9: =ROUND(K9+L9-M9-N9,2) -> 0 | P9: =T8 -> 0 | Q9: =ROUND(P9*$Q$5/12,2) -> 0 | R9: =MIN($R$5,P9+Q9) -> 0 | S9: =MAX(0,MIN(P9+Q9-R9,MonthlyPayment-SUM(H9,M9,R9,W9,AB9,AG9,AL9,AQ9,AV9,BA9)-SUM(I9,N9))) -> 0 | T9: =ROUND(P9+Q9-R9-S9,2) -> 0 | U9: =Y8 -> 0 | V9: =ROUND(U9*$V$5/12,2) -> 0 | W9: =MIN($W$5,U9+V9) -> 0 | X9: =MAX(0,MIN(U9+V9-W9,MonthlyPayment-SUM(H9,M9,R9,W9,AB9,AG9,AL9,AQ9,AV9,BA9)-SUM(I9,N9,S9))) -> 0 | Y9: =ROUND(U9+V9-W9-X9,2) -> 0 | Z9: =AD8 -> 0 | AA9: =ROUND(Z9*$AA$5/12,2) -> 0 | AB9: =MIN($AB$5,Z9+AA9) -> 0 | AC9: =MAX(0,MIN(Z9+AA9-AB9,MonthlyPayment-SUM(H9,M9,R9,W9,AB9,AG9,AL9,AQ9,AV9,BA9)-SUM(I9,N9,S9,X9))) -> 0 | AD9: =ROUND(Z9+AA9-AB9-AC9,2) -> 0 | AE9: =AI8 -> 0 | AF9: =ROUND(AE9*$AF$5/12,2) -> 0 | AG9: =MIN($AG$5,AE9+AF9) -> 0 | AH9: =MAX(0,MIN(AE9+AF9-AG9,MonthlyPayment-SUM(H9,M9,R9,W9,AB9,AG9,AL9,AQ9,AV9,BA9)-SUM(I9,N9,S9,X9,AC9))) -> 0 | AI9: =ROUND(AE9+AF9-AG9-AH9,2) -> 0 | AJ9: =AN8 -> 0 | AK9: =ROUND(AJ9*$AK$5/12,2) -> 0 | AL9: =MIN($AL$5,AJ9+AK9) -> 0 | AM9: =MAX(0,MIN(AJ9+AK9-AL9,MonthlyPayment-SUM(H9,M9,R9,W9,AB9,AG9,AL9,AQ9,AV9,BA9)-SUM(I9,N9,S9,X9,AC9,AH9))) -> 0 | AN9: =ROUND(AJ9+AK9-AL9-AM9,2) -> 0 | AO9: =AS8 -> 0 | AP9: =ROUND(AO9*$AP$5/12,2) -> 0 | AQ9: =MIN($AQ$5,AO9+AP9) -> 0 | AR9: =MAX(0,MIN(AO9+AP9-AQ9,MonthlyPayment-SUM(H9,M9,R9,W9,AB9,AG9,AL9,AQ9,AV9,BA9)-SUM(I9,N9,S9,X9,AC9,AH9,AM9))) -> 0 | AS9: =ROUND(AO9+AP9-AQ9-AR9,2) -> 0 | AT9: =AX8 -> 0 | AU9: =ROUND(AT9*$AU$5/12,2) -> 0 | AV9: =MIN($AV$5,AT9+AU9) -> 0 | AW9: =MAX(0,MIN(AT9+AU9-AV9,MonthlyPayment-SUM(H9,M9,R9,W9,AB9,AG9,AL9,AQ9,AV9,BA9)-SUM(I9,N9,S9,X9,AC9,AH9,AM9,AR9))) -> 0 | AX9: =ROUND(AT9+AU9-AV9-AW9,2) -> 0 | AY9: =BC8 -> 0 | AZ9: =ROUND(AY9*$AZ$5/12,2) -> 0 | BA9: =MIN($BA$5,AY9+AZ9) -> 0 | BB9: =MAX(0,MIN(AY9+AZ9-BA9,MonthlyPayment-SUM(H9,M9,R9,W9,AB9,AG9,AL9,AQ9,AV9,BA9)-SUM(I9,N9,S9,X9,AC9,AH9,AM9,AR9,AW9))) -> 0 | BC9: =ROUND(AY9+AZ9-BA9-BB9,2) -> 0
A10: 4 | B10: =IF(FirstPayment="","",EDATE(FirstPayment,A10-1)) | C10: =SUM(H10,M10,R10,W10,AB10,AG10,AL10,AQ10,AV10,BA10,I10,N10,S10,X10,AC10,AH10,AM10,AR10,AW10,BB10) -> 0 | D10: =SUM(J10,O10,T10,Y10,AD10,AI10,AN10,AS10,AX10,BC10) -> 0 | E10: =SUM(G10,L10,Q10,V10,AA10,AF10,AK10,AP10,AU10,AZ10) -> 0 | F10: =J9 -> 0 | G10: =ROUND(F10*$G$5/12,2) -> 0 | H10: =MIN($H$5,F10+G10) -> 0 | I10: =MAX(0,MIN(F10+G10-H10,MonthlyPayment-SUM(H10,M10,R10,W10,AB10,AG10,AL10,AQ10,AV10,BA10))) -> 0 | J10: =ROUND(F10+G10-H10-I10,2) -> 0 | K10: =O9 -> 0 | L10: =ROUND(K10*$L$5/12,2) -> 0 | M10: =MIN($M$5,K10+L10) -> 0 | N10: =MAX(0,MIN(K10+L10-M10,MonthlyPayment-SUM(H10,M10,R10,W10,AB10,AG10,AL10,AQ10,AV10,BA10)-SUM(I10))) -> 0 | O10: =ROUND(K10+L10-M10-N10,2) -> 0 | P10: =T9 -> 0 | Q10: =ROUND(P10*$Q$5/12,2) -> 0 | R10: =MIN($R$5,P10+Q10) -> 0 | S10: =MAX(0,MIN(P10+Q10-R10,MonthlyPayment-SUM(H10,M10,R10,W10,AB10,AG10,AL10,AQ10,AV10,BA10)-SUM(I10,N10))) -> 0 | T10: =ROUND(P10+Q10-R10-S10,2) -> 0 | U10: =Y9 -> 0 | V10: =ROUND(U10*$V$5/12,2) -> 0 | W10: =MIN($W$5,U10+V10) -> 0 | X10: =MAX(0,MIN(U10+V10-W10,MonthlyPayment-SUM(H10,M10,R10,W10,AB10,AG10,AL10,AQ10,AV10,BA10)-SUM(I10,N10,S10))) -> 0 | Y10: =ROUND(U10+V10-W10-X10,2) -> 0 | Z10: =AD9 -> 0 | AA10: =ROUND(Z10*$AA$5/12,2) -> 0 | AB10: =MIN($AB$5,Z10+AA10) -> 0 | AC10: =MAX(0,MIN(Z10+AA10-AB10,MonthlyPayment-SUM(H10,M10,R10,W10,AB10,AG10,AL10,AQ10,AV10,BA10)-SUM(I10,N10,S10,X10))) -> 0 | AD10: =ROUND(Z10+AA10-AB10-AC10,2) -> 0 | AE10: =AI9 -> 0 | AF10: =ROUND(AE10*$AF$5/12,2) -> 0 | AG10: =MIN($AG$5,AE10+AF10) -> 0 | AH10: =MAX(0,MIN(AE10+AF10-AG10,MonthlyPayment-SUM(H10,M10,R10,W10,AB10,AG10,AL10,AQ10,AV10,BA10)-SUM(I10,N10,S10,X10,AC10))) -> 0 | AI10: =ROUND(AE10+AF10-AG10-AH10,2) -> 0 | AJ10: =AN9 -> 0 | AK10: =ROUND(AJ10*$AK$5/12,2) -> 0 | AL10: =MIN($AL$5,AJ10+AK10) -> 0 | AM10: =MAX(0,MIN(AJ10+AK10-AL10,MonthlyPayment-SUM(H10,M10,R10,W10,AB10,AG10,AL10,AQ10,AV10,BA10)-SUM(I10,N10,S10,X10,AC10,AH10))) -> 0 | AN10: =ROUND(AJ10+AK10-AL10-AM10,2) -> 0 | AO10: =AS9 -> 0 | AP10: =ROUND(AO10*$AP$5/12,2) -> 0 | AQ10: =MIN($AQ$5,AO10+AP10) -> 0 | AR10: =MAX(0,MIN(AO10+AP10-AQ10,MonthlyPayment-SUM(H10,M10,R10,W10,AB10,AG10,AL10,AQ10,AV10,BA10)-SUM(I10,N10,S10,X10,AC10,AH10,AM10))) -> 0 | AS10: =ROUND(AO10+AP10-AQ10-AR10,2) -> 0 | AT10: =AX9 -> 0 | AU10: =ROUND(AT10*$AU$5/12,2) -> 0 | AV10: =MIN($AV$5,AT10+AU10) -> 0 | AW10: =MAX(0,MIN(AT10+AU10-AV10,MonthlyPayment-SUM(H10,M10,R10,W10,AB10,AG10,AL10,AQ10,AV10,BA10)-SUM(I10,N10,S10,X10,AC10,AH10,AM10,AR10))) -> 0 | AX10: =ROUND(AT10+AU10-AV10-AW10,2) -> 0 | AY10: =BC9 -> 0 | AZ10: =ROUND(AY10*$AZ$5/12,2) -> 0 | BA10: =MIN($BA$5,AY10+AZ10) -> 0 | BB10: =MAX(0,MIN(AY10+AZ10-BA10,MonthlyPayment-SUM(H10,M10,R10,W10,AB10,AG10,AL10,AQ10,AV10,BA10)-SUM(I10,N10,S10,X10,AC10,AH10,AM10,AR10,AW10))) -> 0 | BC10: =ROUND(AY10+AZ10-BA10-BB10,2) -> 0
A11: 5 | B11: =IF(FirstPayment="","",EDATE(FirstPayment,A11-1)) | C11: =SUM(H11,M11,R11,W11,AB11,AG11,AL11,AQ11,AV11,BA11,I11,N11,S11,X11,AC11,AH11,AM11,AR11,AW11,BB11) -> 0 | D11: =SUM(J11,O11,T11,Y11,AD11,AI11,AN11,AS11,AX11,BC11) -> 0 | E11: =SUM(G11,L11,Q11,V11,AA11,AF11,AK11,AP11,AU11,AZ11) -> 0 | F11: =J10 -> 0 | G11: =ROUND(F11*$G$5/12,2) -> 0 | H11: =MIN($H$5,F11+G11) -> 0 | I11: =MAX(0,MIN(F11+G11-H11,MonthlyPayment-SUM(H11,M11,R11,W11,AB11,AG11,AL11,AQ11,AV11,BA11))) -> 0 | J11: =ROUND(F11+G11-H11-I11,2) -> 0 | K11: =O10 -> 0 | L11: =ROUND(K11*$L$5/12,2) -> 0 | M11: =MIN($M$5,K11+L11) -> 0 | N11: =MAX(0,MIN(K11+L11-M11,MonthlyPayment-SUM(H11,M11,R11,W11,AB11,AG11,AL11,AQ11,AV11,BA11)-SUM(I11))) -> 0 | O11: =ROUND(K11+L11-M11-N11,2) -> 0 | P11: =T10 -> 0 | Q11: =ROUND(P11*$Q$5/12,2) -> 0 | R11: =MIN($R$5,P11+Q11) -> 0 | S11: =MAX(0,MIN(P11+Q11-R11,MonthlyPayment-SUM(H11,M11,R11,W11,AB11,AG11,AL11,AQ11,AV11,BA11)-SUM(I11,N11))) -> 0 | T11: =ROUND(P11+Q11-R11-S11,2) -> 0 | U11: =Y10 -> 0 | V11: =ROUND(U11*$V$5/12,2) -> 0 | W11: =MIN($W$5,U11+V11) -> 0 | X11: =MAX(0,MIN(U11+V11-W11,MonthlyPayment-SUM(H11,M11,R11,W11,AB11,AG11,AL11,AQ11,AV11,BA11)-SUM(I11,N11,S11))) -> 0 | Y11: =ROUND(U11+V11-W11-X11,2) -> 0 | Z11: =AD10 -> 0 | AA11: =ROUND(Z11*$AA$5/12,2) -> 0 | AB11: =MIN($AB$5,Z11+AA11) -> 0 | AC11: =MAX(0,MIN(Z11+AA11-AB11,MonthlyPayment-SUM(H11,M11,R11,W11,AB11,AG11,AL11,AQ11,AV11,BA11)-SUM(I11,N11,S11,X11))) -> 0 | AD11: =ROUND(Z11+AA11-AB11-AC11,2) -> 0 | AE11: =AI10 -> 0 | AF11: =ROUND(AE11*$AF$5/12,2) -> 0 | AG11: =MIN($AG$5,AE11+AF11) -> 0 | AH11: =MAX(0,MIN(AE11+AF11-AG11,MonthlyPayment-SUM(H11,M11,R11,W11,AB11,AG11,AL11,AQ11,AV11,BA11)-SUM(I11,N11,S11,X11,AC11))) -> 0 | AI11: =ROUND(AE11+AF11-AG11-AH11,2) -> 0 | AJ11: =AN10 -> 0 | AK11: =ROUND(AJ11*$AK$5/12,2) -> 0 | AL11: =MIN($AL$5,AJ11+AK11) -> 0 | AM11: =MAX(0,MIN(AJ11+AK11-AL11,MonthlyPayment-SUM(H11,M11,R11,W11,AB11,AG11,AL11,AQ11,AV11,BA11)-SUM(I11,N11,S11,X11,AC11,AH11))) -> 0 | AN11: =ROUND(AJ11+AK11-AL11-AM11,2) -> 0 | AO11: =AS10 -> 0 | AP11: =ROUND(AO11*$AP$5/12,2) -> 0 | AQ11: =MIN($AQ$5,AO11+AP11) -> 0 | AR11: =MAX(0,MIN(AO11+AP11-AQ11,MonthlyPayment-SUM(H11,M11,R11,W11,AB11,AG11,AL11,AQ11,AV11,BA11)-SUM(I11,N11,S11,X11,AC11,AH11,AM11))) -> 0 | AS11: =ROUND(AO11+AP11-AQ11-AR11,2) -> 0 | AT11: =AX10 -> 0 | AU11: =ROUND(AT11*$AU$5/12,2) -> 0 | AV11: =MIN($AV$5,AT11+AU11) -> 0 | AW11: =MAX(0,MIN(AT11+AU11-AV11,MonthlyPayment-SUM(H11,M11,R11,W11,AB11,AG11,AL11,AQ11,AV11,BA11)-SUM(I11,N11,S11,X11,AC11,AH11,AM11,AR11))) -> 0 | AX11: =ROUND(AT11+AU11-AV11-AW11,2) -> 0 | AY11: =BC10 -> 0 | AZ11: =ROUND(AY11*$AZ$5/12,2) -> 0 | BA11: =MIN($BA$5,AY11+AZ11) -> 0 | BB11: =MAX(0,MIN(AY11+AZ11-BA11,MonthlyPayment-SUM(H11,M11,R11,W11,AB11,AG11,AL11,AQ11,AV11,BA11)-SUM(I11,N11,S11,X11,AC11,AH11,AM11,AR11,AW11))) -> 0 | BC11: =ROUND(AY11+AZ11-BA11-BB11,2) -> 0
A12: 6 | B12: =IF(FirstPayment="","",EDATE(FirstPayment,A12-1)) | C12: =SUM(H12,M12,R12,W12,AB12,AG12,AL12,AQ12,AV12,BA12,I12,N12,S12,X12,AC12,AH12,AM12,AR12,AW12,BB12) -> 0 | D12: =SUM(J12,O12,T12,Y12,AD12,AI12,AN12,AS12,AX12,BC12) -> 0 | E12: =SUM(G12,L12,Q12,V12,AA12,AF12,AK12,AP12,AU12,AZ12) -> 0 | F12: =J11 -> 0 | G12: =ROUND(F12*$G$5/12,2) -> 0 | H12: =MIN($H$5,F12+G12) -> 0 | I12: =MAX(0,MIN(F12+G12-H12,MonthlyPayment-SUM(H12,M12,R12,W12,AB12,AG12,AL12,AQ12,AV12,BA12))) -> 0 | J12: =ROUND(F12+G12-H12-I12,2) -> 0 | K12: =O11 -> 0 | L12: =ROUND(K12*$L$5/12,2) -> 0 | M12: =MIN($M$5,K12+L12) -> 0 | N12: =MAX(0,MIN(K12+L12-M12,MonthlyPayment-SUM(H12,M12,R12,W12,AB12,AG12,AL12,AQ12,AV12,BA12)-SUM(I12))) -> 0 | O12: =ROUND(K12+L12-M12-N12,2) -> 0 | P12: =T11 -> 0 | Q12: =ROUND(P12*$Q$5/12,2) -> 0 | R12: =MIN($R$5,P12+Q12) -> 0 | S12: =MAX(0,MIN(P12+Q12-R12,MonthlyPayment-SUM(H12,M12,R12,W12,AB12,AG12,AL12,AQ12,AV12,BA12)-SUM(I12,N12))) -> 0 | T12: =ROUND(P12+Q12-R12-S12,2) -> 0 | U12: =Y11 -> 0 | V12: =ROUND(U12*$V$5/12,2) -> 0 | W12: =MIN($W$5,U12+V12) -> 0 | X12: =MAX(0,MIN(U12+V12-W12,MonthlyPayment-SUM(H12,M12,R12,W12,AB12,AG12,AL12,AQ12,AV12,BA12)-SUM(I12,N12,S12))) -> 0 | Y12: =ROUND(U12+V12-W12-X12,2) -> 0 | Z12: =AD11 -> 0 | AA12: =ROUND(Z12*$AA$5/12,2) -> 0 | AB12: =MIN($AB$5,Z12+AA12) -> 0 | AC12: =MAX(0,MIN(Z12+AA12-AB12,MonthlyPayment-SUM(H12,M12,R12,W12,AB12,AG12,AL12,AQ12,AV12,BA12)-SUM(I12,N12,S12,X12))) -> 0 | AD12: =ROUND(Z12+AA12-AB12-AC12,2) -> 0 | AE12: =AI11 -> 0 | AF12: =ROUND(AE12*$AF$5/12,2) -> 0 | AG12: =MIN($AG$5,AE12+AF12) -> 0 | AH12: =MAX(0,MIN(AE12+AF12-AG12,MonthlyPayment-SUM(H12,M12,R12,W12,AB12,AG12,AL12,AQ12,AV12,BA12)-SUM(I12,N12,S12,X12,AC12))) -> 0 | AI12: =ROUND(AE12+AF12-AG12-AH12,2) -> 0 | AJ12: =AN11 -> 0 | AK12: =ROUND(AJ12*$AK$5/12,2) -> 0 | AL12: =MIN($AL$5,AJ12+AK12) -> 0 | AM12: =MAX(0,MIN(AJ12+AK12-AL12,MonthlyPayment-SUM(H12,M12,R12,W12,AB12,AG12,AL12,AQ12,AV12,BA12)-SUM(I12,N12,S12,X12,AC12,AH12))) -> 0 | AN12: =ROUND(AJ12+AK12-AL12-AM12,2) -> 0 | AO12: =AS11 -> 0 | AP12: =ROUND(AO12*$AP$5/12,2) -> 0 | AQ12: =MIN($AQ$5,AO12+AP12) -> 0 | AR12: =MAX(0,MIN(AO12+AP12-AQ12,MonthlyPayment-SUM(H12,M12,R12,W12,AB12,AG12,AL12,AQ12,AV12,BA12)-SUM(I12,N12,S12,X12,AC12,AH12,AM12))) -> 0 | AS12: =ROUND(AO12+AP12-AQ12-AR12,2) -> 0 | AT12: =AX11 -> 0 | AU12: =ROUND(AT12*$AU$5/12,2) -> 0 | AV12: =MIN($AV$5,AT12+AU12) -> 0 | AW12: =MAX(0,MIN(AT12+AU12-AV12,MonthlyPayment-SUM(H12,M12,R12,W12,AB12,AG12,AL12,AQ12,AV12,BA12)-SUM(I12,N12,S12,X12,AC12,AH12,AM12,AR12))) -> 0 | AX12: =ROUND(AT12+AU12-AV12-AW12,2) -> 0 | AY12: =BC11 -> 0 | AZ12: =ROUND(AY12*$AZ$5/12,2) -> 0 | BA12: =MIN($BA$5,AY12+AZ12) -> 0 | BB12: =MAX(0,MIN(AY12+AZ12-BA12,MonthlyPayment-SUM(H12,M12,R12,W12,AB12,AG12,AL12,AQ12,AV12,BA12)-SUM(I12,N12,S12,X12,AC12,AH12,AM12,AR12,AW12))) -> 0 | BC12: =ROUND(AY12+AZ12-BA12-BB12,2) -> 0
A13: 7 | B13: =IF(FirstPayment="","",EDATE(FirstPayment,A13-1)) | C13: =SUM(H13,M13,R13,W13,AB13,AG13,AL13,AQ13,AV13,BA13,I13,N13,S13,X13,AC13,AH13,AM13,AR13,AW13,BB13) -> 0 | D13: =SUM(J13,O13,T13,Y13,AD13,AI13,AN13,AS13,AX13,BC13) -> 0 | E13: =SUM(G13,L13,Q13,V13,AA13,AF13,AK13,AP13,AU13,AZ13) -> 0 | F13: =J12 -> 0 | G13: =ROUND(F13*$G$5/12,2) -> 0 | H13: =MIN($H$5,F13+G13) -> 0 | I13: =MAX(0,MIN(F13+G13-H13,MonthlyPayment-SUM(H13,M13,R13,W13,AB13,AG13,AL13,AQ13,AV13,BA13))) -> 0 | J13: =ROUND(F13+G13-H13-I13,2) -> 0 | K13: =O12 -> 0 | L13: =ROUND(K13*$L$5/12,2) -> 0 | M13: =MIN($M$5,K13+L13) -> 0 | N13: =MAX(0,MIN(K13+L13-M13,MonthlyPayment-SUM(H13,M13,R13,W13,AB13,AG13,AL13,AQ13,AV13,BA13)-SUM(I13))) -> 0 | O13: =ROUND(K13+L13-M13-N13,2) -> 0 | P13: =T12 -> 0 | Q13: =ROUND(P13*$Q$5/12,2) -> 0 | R13: =MIN($R$5,P13+Q13) -> 0 | S13: =MAX(0,MIN(P13+Q13-R13,MonthlyPayment-SUM(H13,M13,R13,W13,AB13,AG13,AL13,AQ13,AV13,BA13)-SUM(I13,N13))) -> 0 | T13: =ROUND(P13+Q13-R13-S13,2) -> 0 | U13: =Y12 -> 0 | V13: =ROUND(U13*$V$5/12,2) -> 0 | W13: =MIN($W$5,U13+V13) -> 0 | X13: =MAX(0,MIN(U13+V13-W13,MonthlyPayment-SUM(H13,M13,R13,W13,AB13,AG13,AL13,AQ13,AV13,BA13)-SUM(I13,N13,S13))) -> 0 | Y13: =ROUND(U13+V13-W13-X13,2) -> 0 | Z13: =AD12 -> 0 | AA13: =ROUND(Z13*$AA$5/12,2) -> 0 | AB13: =MIN($AB$5,Z13+AA13) -> 0 | AC13: =MAX(0,MIN(Z13+AA13-AB13,MonthlyPayment-SUM(H13,M13,R13,W13,AB13,AG13,AL13,AQ13,AV13,BA13)-SUM(I13,N13,S13,X13))) -> 0 | AD13: =ROUND(Z13+AA13-AB13-AC13,2) -> 0 | AE13: =AI12 -> 0 | AF13: =ROUND(AE13*$AF$5/12,2) -> 0 | AG13: =MIN($AG$5,AE13+AF13) -> 0 | AH13: =MAX(0,MIN(AE13+AF13-AG13,MonthlyPayment-SUM(H13,M13,R13,W13,AB13,AG13,AL13,AQ13,AV13,BA13)-SUM(I13,N13,S13,X13,AC13))) -> 0 | AI13: =ROUND(AE13+AF13-AG13-AH13,2) -> 0 | AJ13: =AN12 -> 0 | AK13: =ROUND(AJ13*$AK$5/12,2) -> 0 | AL13: =MIN($AL$5,AJ13+AK13) -> 0 | AM13: =MAX(0,MIN(AJ13+AK13-AL13,MonthlyPayment-SUM(H13,M13,R13,W13,AB13,AG13,AL13,AQ13,AV13,BA13)-SUM(I13,N13,S13,X13,AC13,AH13))) -> 0 | AN13: =ROUND(AJ13+AK13-AL13-AM13,2) -> 0 | AO13: =AS12 -> 0 | AP13: =ROUND(AO13*$AP$5/12,2) -> 0 | AQ13: =MIN($AQ$5,AO13+AP13) -> 0 | AR13: =MAX(0,MIN(AO13+AP13-AQ13,MonthlyPayment-SUM(H13,M13,R13,W13,AB13,AG13,AL13,AQ13,AV13,BA13)-SUM(I13,N13,S13,X13,AC13,AH13,AM13))) -> 0 | AS13: =ROUND(AO13+AP13-AQ13-AR13,2) -> 0 | AT13: =AX12 -> 0 | AU13: =ROUND(AT13*$AU$5/12,2) -> 0 | AV13: =MIN($AV$5,AT13+AU13) -> 0 | AW13: =MAX(0,MIN(AT13+AU13-AV13,MonthlyPayment-SUM(H13,M13,R13,W13,AB13,AG13,AL13,AQ13,AV13,BA13)-SUM(I13,N13,S13,X13,AC13,AH13,AM13,AR13))) -> 0 | AX13: =ROUND(AT13+AU13-AV13-AW13,2) -> 0 | AY13: =BC12 -> 0 | AZ13: =ROUND(AY13*$AZ$5/12,2) -> 0 | BA13: =MIN($BA$5,AY13+AZ13) -> 0 | BB13: =MAX(0,MIN(AY13+AZ13-BA13,MonthlyPayment-SUM(H13,M13,R13,W13,AB13,AG13,AL13,AQ13,AV13,BA13)-SUM(I13,N13,S13,X13,AC13,AH13,AM13,AR13,AW13))) -> 0 | BC13: =ROUND(AY13+AZ13-BA13-BB13,2) -> 0
A14: 8 | B14: =IF(FirstPayment="","",EDATE(FirstPayment,A14-1)) | C14: =SUM(H14,M14,R14,W14,AB14,AG14,AL14,AQ14,AV14,BA14,I14,N14,S14,X14,AC14,AH14,AM14,AR14,AW14,BB14) -> 0 | D14: =SUM(J14,O14,T14,Y14,AD14,AI14,AN14,AS14,AX14,BC14) -> 0 | E14: =SUM(G14,L14,Q14,V14,AA14,AF14,AK14,AP14,AU14,AZ14) -> 0 | F14: =J13 -> 0 | G14: =ROUND(F14*$G$5/12,2) -> 0 | H14: =MIN($H$5,F14+G14) -> 0 | I14: =MAX(0,MIN(F14+G14-H14,MonthlyPayment-SUM(H14,M14,R14,W14,AB14,AG14,AL14,AQ14,AV14,BA14))) -> 0 | J14: =ROUND(F14+G14-H14-I14,2) -> 0 | K14: =O13 -> 0 | L14: =ROUND(K14*$L$5/12,2) -> 0 | M14: =MIN($M$5,K14+L14) -> 0 | N14: =MAX(0,MIN(K14+L14-M14,MonthlyPayment-SUM(H14,M14,R14,W14,AB14,AG14,AL14,AQ14,AV14,BA14)-SUM(I14))) -> 0 | O14: =ROUND(K14+L14-M14-N14,2) -> 0 | P14: =T13 -> 0 | Q14: =ROUND(P14*$Q$5/12,2) -> 0 | R14: =MIN($R$5,P14+Q14) -> 0 | S14: =MAX(0,MIN(P14+Q14-R14,MonthlyPayment-SUM(H14,M14,R14,W14,AB14,AG14,AL14,AQ14,AV14,BA14)-SUM(I14,N14))) -> 0 | T14: =ROUND(P14+Q14-R14-S14,2) -> 0 | U14: =Y13 -> 0 | V14: =ROUND(U14*$V$5/12,2) -> 0 | W14: =MIN($W$5,U14+V14) -> 0 | X14: =MAX(0,MIN(U14+V14-W14,MonthlyPayment-SUM(H14,M14,R14,W14,AB14,AG14,AL14,AQ14,AV14,BA14)-SUM(I14,N14,S14))) -> 0 | Y14: =ROUND(U14+V14-W14-X14,2) -> 0 | Z14: =AD13 -> 0 | AA14: =ROUND(Z14*$AA$5/12,2) -> 0 | AB14: =MIN($AB$5,Z14+AA14) -> 0 | AC14: =MAX(0,MIN(Z14+AA14-AB14,MonthlyPayment-SUM(H14,M14,R14,W14,AB14,AG14,AL14,AQ14,AV14,BA14)-SUM(I14,N14,S14,X14))) -> 0 | AD14: =ROUND(Z14+AA14-AB14-AC14,2) -> 0 | AE14: =AI13 -> 0 | AF14: =ROUND(AE14*$AF$5/12,2) -> 0 | AG14: =MIN($AG$5,AE14+AF14) -> 0 | AH14: =MAX(0,MIN(AE14+AF14-AG14,MonthlyPayment-SUM(H14,M14,R14,W14,AB14,AG14,AL14,AQ14,AV14,BA14)-SUM(I14,N14,S14,X14,AC14))) -> 0 | AI14: =ROUND(AE14+AF14-AG14-AH14,2) -> 0 | AJ14: =AN13 -> 0 | AK14: =ROUND(AJ14*$AK$5/12,2) -> 0 | AL14: =MIN($AL$5,AJ14+AK14) -> 0 | AM14: =MAX(0,MIN(AJ14+AK14-AL14,MonthlyPayment-SUM(H14,M14,R14,W14,AB14,AG14,AL14,AQ14,AV14,BA14)-SUM(I14,N14,S14,X14,AC14,AH14))) -> 0 | AN14: =ROUND(AJ14+AK14-AL14-AM14,2) -> 0 | AO14: =AS13 -> 0 | AP14: =ROUND(AO14*$AP$5/12,2) -> 0 | AQ14: =MIN($AQ$5,AO14+AP14) -> 0 | AR14: =MAX(0,MIN(AO14+AP14-AQ14,MonthlyPayment-SUM(H14,M14,R14,W14,AB14,AG14,AL14,AQ14,AV14,BA14)-SUM(I14,N14,S14,X14,AC14,AH14,AM14))) -> 0 | AS14: =ROUND(AO14+AP14-AQ14-AR14,2) -> 0 | AT14: =AX13 -> 0 | AU14: =ROUND(AT14*$AU$5/12,2) -> 0 | AV14: =MIN($AV$5,AT14+AU14) -> 0 | AW14: =MAX(0,MIN(AT14+AU14-AV14,MonthlyPayment-SUM(H14,M14,R14,W14,AB14,AG14,AL14,AQ14,AV14,BA14)-SUM(I14,N14,S14,X14,AC14,AH14,AM14,AR14))) -> 0 | AX14: =ROUND(AT14+AU14-AV14-AW14,2) -> 0 | AY14: =BC13 -> 0 | AZ14: =ROUND(AY14*$AZ$5/12,2) -> 0 | BA14: =MIN($BA$5,AY14+AZ14) -> 0 | BB14: =MAX(0,MIN(AY14+AZ14-BA14,MonthlyPayment-SUM(H14,M14,R14,W14,AB14,AG14,AL14,AQ14,AV14,BA14)-SUM(I14,N14,S14,X14,AC14,AH14,AM14,AR14,AW14))) -> 0 | BC14: =ROUND(AY14+AZ14-BA14-BB14,2) -> 0
A15: 9 | B15: =IF(FirstPayment="","",EDATE(FirstPayment,A15-1)) | C15: =SUM(H15,M15,R15,W15,AB15,AG15,AL15,AQ15,AV15,BA15,I15,N15,S15,X15,AC15,AH15,AM15,AR15,AW15,BB15) -> 0 | D15: =SUM(J15,O15,T15,Y15,AD15,AI15,AN15,AS15,AX15,BC15) -> 0 | E15: =SUM(G15,L15,Q15,V15,AA15,AF15,AK15,AP15,AU15,AZ15) -> 0 | F15: =J14 -> 0 | G15: =ROUND(F15*$G$5/12,2) -> 0 | H15: =MIN($H$5,F15+G15) -> 0 | I15: =MAX(0,MIN(F15+G15-H15,MonthlyPayment-SUM(H15,M15,R15,W15,AB15,AG15,AL15,AQ15,AV15,BA15))) -> 0 | J15: =ROUND(F15+G15-H15-I15,2) -> 0 | K15: =O14 -> 0 | L15: =ROUND(K15*$L$5/12,2) -> 0 | M15: =MIN($M$5,K15+L15) -> 0 | N15: =MAX(0,MIN(K15+L15-M15,MonthlyPayment-SUM(H15,M15,R15,W15,AB15,AG15,AL15,AQ15,AV15,BA15)-SUM(I15))) -> 0 | O15: =ROUND(K15+L15-M15-N15,2) -> 0 | P15: =T14 -> 0 | Q15: =ROUND(P15*$Q$5/12,2) -> 0 | R15: =MIN($R$5,P15+Q15) -> 0 | S15: =MAX(0,MIN(P15+Q15-R15,MonthlyPayment-SUM(H15,M15,R15,W15,AB15,AG15,AL15,AQ15,AV15,BA15)-SUM(I15,N15))) -> 0 | T15: =ROUND(P15+Q15-R15-S15,2) -> 0 | U15: =Y14 -> 0 | V15: =ROUND(U15*$V$5/12,2) -> 0 | W15: =MIN($W$5,U15+V15) -> 0 | X15: =MAX(0,MIN(U15+V15-W15,MonthlyPayment-SUM(H15,M15,R15,W15,AB15,AG15,AL15,AQ15,AV15,BA15)-SUM(I15,N15,S15))) -> 0 | Y15: =ROUND(U15+V15-W15-X15,2) -> 0 | Z15: =AD14 -> 0 | AA15: =ROUND(Z15*$AA$5/12,2) -> 0 | AB15: =MIN($AB$5,Z15+AA15) -> 0 | AC15: =MAX(0,MIN(Z15+AA15-AB15,MonthlyPayment-SUM(H15,M15,R15,W15,AB15,AG15,AL15,AQ15,AV15,BA15)-SUM(I15,N15,S15,X15))) -> 0 | AD15: =ROUND(Z15+AA15-AB15-AC15,2) -> 0 | AE15: =AI14 -> 0 | AF15: =ROUND(AE15*$AF$5/12,2) -> 0 | AG15: =MIN($AG$5,AE15+AF15) -> 0 | AH15: =MAX(0,MIN(AE15+AF15-AG15,MonthlyPayment-SUM(H15,M15,R15,W15,AB15,AG15,AL15,AQ15,AV15,BA15)-SUM(I15,N15,S15,X15,AC15))) -> 0 | AI15: =ROUND(AE15+AF15-AG15-AH15,2) -> 0 | AJ15: =AN14 -> 0 | AK15: =ROUND(AJ15*$AK$5/12,2) -> 0 | AL15: =MIN($AL$5,AJ15+AK15) -> 0 | AM15: =MAX(0,MIN(AJ15+AK15-AL15,MonthlyPayment-SUM(H15,M15,R15,W15,AB15,AG15,AL15,AQ15,AV15,BA15)-SUM(I15,N15,S15,X15,AC15,AH15))) -> 0 | AN15: =ROUND(AJ15+AK15-AL15-AM15,2) -> 0 | AO15: =AS14 -> 0 | AP15: =ROUND(AO15*$AP$5/12,2) -> 0 | AQ15: =MIN($AQ$5,AO15+AP15) -> 0 | AR15: =MAX(0,MIN(AO15+AP15-AQ15,MonthlyPayment-SUM(H15,M15,R15,W15,AB15,AG15,AL15,AQ15,AV15,BA15)-SUM(I15,N15,S15,X15,AC15,AH15,AM15))) -> 0 | AS15: =ROUND(AO15+AP15-AQ15-AR15,2) -> 0 | AT15: =AX14 -> 0 | AU15: =ROUND(AT15*$AU$5/12,2) -> 0 | AV15: =MIN($AV$5,AT15+AU15) -> 0 | AW15: =MAX(0,MIN(AT15+AU15-AV15,MonthlyPayment-SUM(H15,M15,R15,W15,AB15,AG15,AL15,AQ15,AV15,BA15)-SUM(I15,N15,S15,X15,AC15,AH15,AM15,AR15))) -> 0 | AX15: =ROUND(AT15+AU15-AV15-AW15,2) -> 0 | AY15: =BC14 -> 0 | AZ15: =ROUND(AY15*$AZ$5/12,2) -> 0 | BA15: =MIN($BA$5,AY15+AZ15) -> 0 | BB15: =MAX(0,MIN(AY15+AZ15-BA15,MonthlyPayment-SUM(H15,M15,R15,W15,AB15,AG15,AL15,AQ15,AV15,BA15)-SUM(I15,N15,S15,X15,AC15,AH15,AM15,AR15,AW15))) -> 0 | BC15: =ROUND(AY15+AZ15-BA15-BB15,2) -> 0
A16: 10 | B16: =IF(FirstPayment="","",EDATE(FirstPayment,A16-1)) | C16: =SUM(H16,M16,R16,W16,AB16,AG16,AL16,AQ16,AV16,BA16,I16,N16,S16,X16,AC16,AH16,AM16,AR16,AW16,BB16) -> 0 | D16: =SUM(J16,O16,T16,Y16,AD16,AI16,AN16,AS16,AX16,BC16) -> 0 | E16: =SUM(G16,L16,Q16,V16,AA16,AF16,AK16,AP16,AU16,AZ16) -> 0 | F16: =J15 -> 0 | G16: =ROUND(F16*$G$5/12,2) -> 0 | H16: =MIN($H$5,F16+G16) -> 0 | I16: =MAX(0,MIN(F16+G16-H16,MonthlyPayment-SUM(H16,M16,R16,W16,AB16,AG16,AL16,AQ16,AV16,BA16))) -> 0 | J16: =ROUND(F16+G16-H16-I16,2) -> 0 | K16: =O15 -> 0 | L16: =ROUND(K16*$L$5/12,2) -> 0 | M16: =MIN($M$5,K16+L16) -> 0 | N16: =MAX(0,MIN(K16+L16-M16,MonthlyPayment-SUM(H16,M16,R16,W16,AB16,AG16,AL16,AQ16,AV16,BA16)-SUM(I16))) -> 0 | O16: =ROUND(K16+L16-M16-N16,2) -> 0 | P16: =T15 -> 0 | Q16: =ROUND(P16*$Q$5/12,2) -> 0 | R16: =MIN($R$5,P16+Q16) -> 0 | S16: =MAX(0,MIN(P16+Q16-R16,MonthlyPayment-SUM(H16,M16,R16,W16,AB16,AG16,AL16,AQ16,AV16,BA16)-SUM(I16,N16))) -> 0 | T16: =ROUND(P16+Q16-R16-S16,2) -> 0 | U16: =Y15 -> 0 | V16: =ROUND(U16*$V$5/12,2) -> 0 | W16: =MIN($W$5,U16+V16) -> 0 | X16: =MAX(0,MIN(U16+V16-W16,MonthlyPayment-SUM(H16,M16,R16,W16,AB16,AG16,AL16,AQ16,AV16,BA16)-SUM(I16,N16,S16))) -> 0 | Y16: =ROUND(U16+V16-W16-X16,2) -> 0 | Z16: =AD15 -> 0 | AA16: =ROUND(Z16*$AA$5/12,2) -> 0 | AB16: =MIN($AB$5,Z16+AA16) -> 0 | AC16: =MAX(0,MIN(Z16+AA16-AB16,MonthlyPayment-SUM(H16,M16,R16,W16,AB16,AG16,AL16,AQ16,AV16,BA16)-SUM(I16,N16,S16,X16))) -> 0 | AD16: =ROUND(Z16+AA16-AB16-AC16,2) -> 0 | AE16: =AI15 -> 0 | AF16: =ROUND(AE16*$AF$5/12,2) -> 0 | AG16: =MIN($AG$5,AE16+AF16) -> 0 | AH16: =MAX(0,MIN(AE16+AF16-AG16,MonthlyPayment-SUM(H16,M16,R16,W16,AB16,AG16,AL16,AQ16,AV16,BA16)-SUM(I16,N16,S16,X16,AC16))) -> 0 | AI16: =ROUND(AE16+AF16-AG16-AH16,2) -> 0 | AJ16: =AN15 -> 0 | AK16: =ROUND(AJ16*$AK$5/12,2) -> 0 | AL16: =MIN($AL$5,AJ16+AK16) -> 0 | AM16: =MAX(0,MIN(AJ16+AK16-AL16,MonthlyPayment-SUM(H16,M16,R16,W16,AB16,AG16,AL16,AQ16,AV16,BA16)-SUM(I16,N16,S16,X16,AC16,AH16))) -> 0 | AN16: =ROUND(AJ16+AK16-AL16-AM16,2) -> 0 | AO16: =AS15 -> 0 | AP16: =ROUND(AO16*$AP$5/12,2) -> 0 | AQ16: =MIN($AQ$5,AO16+AP16) -> 0 | AR16: =MAX(0,MIN(AO16+AP16-AQ16,MonthlyPayment-SUM(H16,M16,R16,W16,AB16,AG16,AL16,AQ16,AV16,BA16)-SUM(I16,N16,S16,X16,AC16,AH16,AM16))) -> 0 | AS16: =ROUND(AO16+AP16-AQ16-AR16,2) -> 0 | AT16: =AX15 -> 0 | AU16: =ROUND(AT16*$AU$5/12,2) -> 0 | AV16: =MIN($AV$5,AT16+AU16) -> 0 | AW16: =MAX(0,MIN(AT16+AU16-AV16,MonthlyPayment-SUM(H16,M16,R16,W16,AB16,AG16,AL16,AQ16,AV16,BA16)-SUM(I16,N16,S16,X16,AC16,AH16,AM16,AR16))) -> 0 | AX16: =ROUND(AT16+AU16-AV16-AW16,2) -> 0 | AY16: =BC15 -> 0 | AZ16: =ROUND(AY16*$AZ$5/12,2) -> 0 | BA16: =MIN($BA$5,AY16+AZ16) -> 0 | BB16: =MAX(0,MIN(AY16+AZ16-BA16,MonthlyPayment-SUM(H16,M16,R16,W16,AB16,AG16,AL16,AQ16,AV16,BA16)-SUM(I16,N16,S16,X16,AC16,AH16,AM16,AR16,AW16))) -> 0 | BC16: =ROUND(AY16+AZ16-BA16-BB16,2) -> 0
A17: 11 | B17: =IF(FirstPayment="","",EDATE(FirstPayment,A17-1)) | C17: =SUM(H17,M17,R17,W17,AB17,AG17,AL17,AQ17,AV17,BA17,I17,N17,S17,X17,AC17,AH17,AM17,AR17,AW17,BB17) -> 0 | D17: =SUM(J17,O17,T17,Y17,AD17,AI17,AN17,AS17,AX17,BC17) -> 0 | E17: =SUM(G17,L17,Q17,V17,AA17,AF17,AK17,AP17,AU17,AZ17) -> 0 | F17: =J16 -> 0 | G17: =ROUND(F17*$G$5/12,2) -> 0 | H17: =MIN($H$5,F17+G17) -> 0 | I17: =MAX(0,MIN(F17+G17-H17,MonthlyPayment-SUM(H17,M17,R17,W17,AB17,AG17,AL17,AQ17,AV17,BA17))) -> 0 | J17: =ROUND(F17+G17-H17-I17,2) -> 0 | K17: =O16 -> 0 | L17: =ROUND(K17*$L$5/12,2) -> 0 | M17: =MIN($M$5,K17+L17) -> 0 | N17: =MAX(0,MIN(K17+L17-M17,MonthlyPayment-SUM(H17,M17,R17,W17,AB17,AG17,AL17,AQ17,AV17,BA17)-SUM(I17))) -> 0 | O17: =ROUND(K17+L17-M17-N17,2) -> 0 | P17: =T16 -> 0 | Q17: =ROUND(P17*$Q$5/12,2) -> 0 | R17: =MIN($R$5,P17+Q17) -> 0 | S17: =MAX(0,MIN(P17+Q17-R17,MonthlyPayment-SUM(H17,M17,R17,W17,AB17,AG17,AL17,AQ17,AV17,BA17)-SUM(I17,N17))) -> 0 | T17: =ROUND(P17+Q17-R17-S17,2) -> 0 | U17: =Y16 -> 0 | V17: =ROUND(U17*$V$5/12,2) -> 0 | W17: =MIN($W$5,U17+V17) -> 0 | X17: =MAX(0,MIN(U17+V17-W17,MonthlyPayment-SUM(H17,M17,R17,W17,AB17,AG17,AL17,AQ17,AV17,BA17)-SUM(I17,N17,S17))) -> 0 | Y17: =ROUND(U17+V17-W17-X17,2) -> 0 | Z17: =AD16 -> 0 | AA17: =ROUND(Z17*$AA$5/12,2) -> 0 | AB17: =MIN($AB$5,Z17+AA17) -> 0 | AC17: =MAX(0,MIN(Z17+AA17-AB17,MonthlyPayment-SUM(H17,M17,R17,W17,AB17,AG17,AL17,AQ17,AV17,BA17)-SUM(I17,N17,S17,X17))) -> 0 | AD17: =ROUND(Z17+AA17-AB17-AC17,2) -> 0 | AE17: =AI16 -> 0 | AF17: =ROUND(AE17*$AF$5/12,2) -> 0 | AG17: =MIN($AG$5,AE17+AF17) -> 0 | AH17: =MAX(0,MIN(AE17+AF17-AG17,MonthlyPayment-SUM(H17,M17,R17,W17,AB17,AG17,AL17,AQ17,AV17,BA17)-SUM(I17,N17,S17,X17,AC17))) -> 0 | AI17: =ROUND(AE17+AF17-AG17-AH17,2) -> 0 | AJ17: =AN16 -> 0 | AK17: =ROUND(AJ17*$AK$5/12,2) -> 0 | AL17: =MIN($AL$5,AJ17+AK17) -> 0 | AM17: =MAX(0,MIN(AJ17+AK17-AL17,MonthlyPayment-SUM(H17,M17,R17,W17,AB17,AG17,AL17,AQ17,AV17,BA17)-SUM(I17,N17,S17,X17,AC17,AH17))) -> 0 | AN17: =ROUND(AJ17+AK17-AL17-AM17,2) -> 0 | AO17: =AS16 -> 0 | AP17: =ROUND(AO17*$AP$5/12,2) -> 0 | AQ17: =MIN($AQ$5,AO17+AP17) -> 0 | AR17: =MAX(0,MIN(AO17+AP17-AQ17,MonthlyPayment-SUM(H17,M17,R17,W17,AB17,AG17,AL17,AQ17,AV17,BA17)-SUM(I17,N17,S17,X17,AC17,AH17,AM17))) -> 0 | AS17: =ROUND(AO17+AP17-AQ17-AR17,2) -> 0 | AT17: =AX16 -> 0 | AU17: =ROUND(AT17*$AU$5/12,2) -> 0 | AV17: =MIN($AV$5,AT17+AU17) -> 0 | AW17: =MAX(0,MIN(AT17+AU17-AV17,MonthlyPayment-SUM(H17,M17,R17,W17,AB17,AG17,AL17,AQ17,AV17,BA17)-SUM(I17,N17,S17,X17,AC17,AH17,AM17,AR17))) -> 0 | AX17: =ROUND(AT17+AU17-AV17-AW17,2) -> 0 | AY17: =BC16 -> 0 | AZ17: =ROUND(AY17*$AZ$5/12,2) -> 0 | BA17: =MIN($BA$5,AY17+AZ17) -> 0 | BB17: =MAX(0,MIN(AY17+AZ17-BA17,MonthlyPayment-SUM(H17,M17,R17,W17,AB17,AG17,AL17,AQ17,AV17,BA17)-SUM(I17,N17,S17,X17,AC17,AH17,AM17,AR17,AW17))) -> 0 | BC17: =ROUND(AY17+AZ17-BA17-BB17,2) -> 0
A18: 12 | B18: =IF(FirstPayment="","",EDATE(FirstPayment,A18-1)) | C18: =SUM(H18,M18,R18,W18,AB18,AG18,AL18,AQ18,AV18,BA18,I18,N18,S18,X18,AC18,AH18,AM18,AR18,AW18,BB18) -> 0 | D18: =SUM(J18,O18,T18,Y18,AD18,AI18,AN18,AS18,AX18,BC18) -> 0 | E18: =SUM(G18,L18,Q18,V18,AA18,AF18,AK18,AP18,AU18,AZ18) -> 0 | F18: =J17 -> 0 | G18: =ROUND(F18*$G$5/12,2) -> 0 | H18: =MIN($H$5,F18+G18) -> 0 | I18: =MAX(0,MIN(F18+G18-H18,MonthlyPayment-SUM(H18,M18,R18,W18,AB18,AG18,AL18,AQ18,AV18,BA18))) -> 0 | J18: =ROUND(F18+G18-H18-I18,2) -> 0 | K18: =O17 -> 0 | L18: =ROUND(K18*$L$5/12,2) -> 0 | M18: =MIN($M$5,K18+L18) -> 0 | N18: =MAX(0,MIN(K18+L18-M18,MonthlyPayment-SUM(H18,M18,R18,W18,AB18,AG18,AL18,AQ18,AV18,BA18)-SUM(I18))) -> 0 | O18: =ROUND(K18+L18-M18-N18,2) -> 0 | P18: =T17 -> 0 | Q18: =ROUND(P18*$Q$5/12,2) -> 0 | R18: =MIN($R$5,P18+Q18) -> 0 | S18: =MAX(0,MIN(P18+Q18-R18,MonthlyPayment-SUM(H18,M18,R18,W18,AB18,AG18,AL18,AQ18,AV18,BA18)-SUM(I18,N18))) -> 0 | T18: =ROUND(P18+Q18-R18-S18,2) -> 0 | U18: =Y17 -> 0 | V18: =ROUND(U18*$V$5/12,2) -> 0 | W18: =MIN($W$5,U18+V18) -> 0 | X18: =MAX(0,MIN(U18+V18-W18,MonthlyPayment-SUM(H18,M18,R18,W18,AB18,AG18,AL18,AQ18,AV18,BA18)-SUM(I18,N18,S18))) -> 0 | Y18: =ROUND(U18+V18-W18-X18,2) -> 0 | Z18: =AD17 -> 0 | AA18: =ROUND(Z18*$AA$5/12,2) -> 0 | AB18: =MIN($AB$5,Z18+AA18) -> 0 | AC18: =MAX(0,MIN(Z18+AA18-AB18,MonthlyPayment-SUM(H18,M18,R18,W18,AB18,AG18,AL18,AQ18,AV18,BA18)-SUM(I18,N18,S18,X18))) -> 0 | AD18: =ROUND(Z18+AA18-AB18-AC18,2) -> 0 | AE18: =AI17 -> 0 | AF18: =ROUND(AE18*$AF$5/12,2) -> 0 | AG18: =MIN($AG$5,AE18+AF18) -> 0 | AH18: =MAX(0,MIN(AE18+AF18-AG18,MonthlyPayment-SUM(H18,M18,R18,W18,AB18,AG18,AL18,AQ18,AV18,BA18)-SUM(I18,N18,S18,X18,AC18))) -> 0 | AI18: =ROUND(AE18+AF18-AG18-AH18,2) -> 0 | AJ18: =AN17 -> 0 | AK18: =ROUND(AJ18*$AK$5/12,2) -> 0 | AL18: =MIN($AL$5,AJ18+AK18) -> 0 | AM18: =MAX(0,MIN(AJ18+AK18-AL18,MonthlyPayment-SUM(H18,M18,R18,W18,AB18,AG18,AL18,AQ18,AV18,BA18)-SUM(I18,N18,S18,X18,AC18,AH18))) -> 0 | AN18: =ROUND(AJ18+AK18-AL18-AM18,2) -> 0 | AO18: =AS17 -> 0 | AP18: =ROUND(AO18*$AP$5/12,2) -> 0 | AQ18: =MIN($AQ$5,AO18+AP18) -> 0 | AR18: =MAX(0,MIN(AO18+AP18-AQ18,MonthlyPayment-SUM(H18,M18,R18,W18,AB18,AG18,AL18,AQ18,AV18,BA18)-SUM(I18,N18,S18,X18,AC18,AH18,AM18))) -> 0 | AS18: =ROUND(AO18+AP18-AQ18-AR18,2) -> 0 | AT18: =AX17 -> 0 | AU18: =ROUND(AT18*$AU$5/12,2) -> 0 | AV18: =MIN($AV$5,AT18+AU18) -> 0 | AW18: =MAX(0,MIN(AT18+AU18-AV18,MonthlyPayment-SUM(H18,M18,R18,W18,AB18,AG18,AL18,AQ18,AV18,BA18)-SUM(I18,N18,S18,X18,AC18,AH18,AM18,AR18))) -> 0 | AX18: =ROUND(AT18+AU18-AV18-AW18,2) -> 0 | AY18: =BC17 -> 0 | AZ18: =ROUND(AY18*$AZ$5/12,2) -> 0 | BA18: =MIN($BA$5,AY18+AZ18) -> 0 | BB18: =MAX(0,MIN(AY18+AZ18-BA18,MonthlyPayment-SUM(H18,M18,R18,W18,AB18,AG18,AL18,AQ18,AV18,BA18)-SUM(I18,N18,S18,X18,AC18,AH18,AM18,AR18,AW18))) -> 0 | BC18: =ROUND(AY18+AZ18-BA18-BB18,2) -> 0
A19: 13 | B19: =IF(FirstPayment="","",EDATE(FirstPayment,A19-1)) | C19: =SUM(H19,M19,R19,W19,AB19,AG19,AL19,AQ19,AV19,BA19,I19,N19,S19,X19,AC19,AH19,AM19,AR19,AW19,BB19) -> 0 | D19: =SUM(J19,O19,T19,Y19,AD19,AI19,AN19,AS19,AX19,BC19) -> 0 | E19: =SUM(G19,L19,Q19,V19,AA19,AF19,AK19,AP19,AU19,AZ19) -> 0 | F19: =J18 -> 0 | G19: =ROUND(F19*$G$5/12,2) -> 0 | H19: =MIN($H$5,F19+G19) -> 0 | I19: =MAX(0,MIN(F19+G19-H19,MonthlyPayment-SUM(H19,M19,R19,W19,AB19,AG19,AL19,AQ19,AV19,BA19))) -> 0 | J19: =ROUND(F19+G19-H19-I19,2) -> 0 | K19: =O18 -> 0 | L19: =ROUND(K19*$L$5/12,2) -> 0 | M19: =MIN($M$5,K19+L19) -> 0 | N19: =MAX(0,MIN(K19+L19-M19,MonthlyPayment-SUM(H19,M19,R19,W19,AB19,AG19,AL19,AQ19,AV19,BA19)-SUM(I19))) -> 0 | O19: =ROUND(K19+L19-M19-N19,2) -> 0 | P19: =T18 -> 0 | Q19: =ROUND(P19*$Q$5/12,2) -> 0 | R19: =MIN($R$5,P19+Q19) -> 0 | S19: =MAX(0,MIN(P19+Q19-R19,MonthlyPayment-SUM(H19,M19,R19,W19,AB19,AG19,AL19,AQ19,AV19,BA19)-SUM(I19,N19))) -> 0 | T19: =ROUND(P19+Q19-R19-S19,2) -> 0 | U19: =Y18 -> 0 | V19: =ROUND(U19*$V$5/12,2) -> 0 | W19: =MIN($W$5,U19+V19) -> 0 | X19: =MAX(0,MIN(U19+V19-W19,MonthlyPayment-SUM(H19,M19,R19,W19,AB19,AG19,AL19,AQ19,AV19,BA19)-SUM(I19,N19,S19))) -> 0 | Y19: =ROUND(U19+V19-W19-X19,2) -> 0 | Z19: =AD18 -> 0 | AA19: =ROUND(Z19*$AA$5/12,2) -> 0 | AB19: =MIN($AB$5,Z19+AA19) -> 0 | AC19: =MAX(0,MIN(Z19+AA19-AB19,MonthlyPayment-SUM(H19,M19,R19,W19,AB19,AG19,AL19,AQ19,AV19,BA19)-SUM(I19,N19,S19,X19))) -> 0 | AD19: =ROUND(Z19+AA19-AB19-AC19,2) -> 0 | AE19: =AI18 -> 0 | AF19: =ROUND(AE19*$AF$5/12,2) -> 0 | AG19: =MIN($AG$5,AE19+AF19) -> 0 | AH19: =MAX(0,MIN(AE19+AF19-AG19,MonthlyPayment-SUM(H19,M19,R19,W19,AB19,AG19,AL19,AQ19,AV19,BA19)-SUM(I19,N19,S19,X19,AC19))) -> 0 | AI19: =ROUND(AE19+AF19-AG19-AH19,2) -> 0 | AJ19: =AN18 -> 0 | AK19: =ROUND(AJ19*$AK$5/12,2) -> 0 | AL19: =MIN($AL$5,AJ19+AK19) -> 0 | AM19: =MAX(0,MIN(AJ19+AK19-AL19,MonthlyPayment-SUM(H19,M19,R19,W19,AB19,AG19,AL19,AQ19,AV19,BA19)-SUM(I19,N19,S19,X19,AC19,AH19))) -> 0 | AN19: =ROUND(AJ19+AK19-AL19-AM19,2) -> 0 | AO19: =AS18 -> 0 | AP19: =ROUND(AO19*$AP$5/12,2) -> 0 | AQ19: =MIN($AQ$5,AO19+AP19) -> 0 | AR19: =MAX(0,MIN(AO19+AP19-AQ19,MonthlyPayment-SUM(H19,M19,R19,W19,AB19,AG19,AL19,AQ19,AV19,BA19)-SUM(I19,N19,S19,X19,AC19,AH19,AM19))) -> 0 | AS19: =ROUND(AO19+AP19-AQ19-AR19,2) -> 0 | AT19: =AX18 -> 0 | AU19: =ROUND(AT19*$AU$5/12,2) -> 0 | AV19: =MIN($AV$5,AT19+AU19) -> 0 | AW19: =MAX(0,MIN(AT19+AU19-AV19,MonthlyPayment-SUM(H19,M19,R19,W19,AB19,AG19,AL19,AQ19,AV19,BA19)-SUM(I19,N19,S19,X19,AC19,AH19,AM19,AR19))) -> 0 | AX19: =ROUND(AT19+AU19-AV19-AW19,2) -> 0 | AY19: =BC18 -> 0 | AZ19: =ROUND(AY19*$AZ$5/12,2) -> 0 | BA19: =MIN($BA$5,AY19+AZ19) -> 0 | BB19: =MAX(0,MIN(AY19+AZ19-BA19,MonthlyPayment-SUM(H19,M19,R19,W19,AB19,AG19,AL19,AQ19,AV19,BA19)-SUM(I19,N19,S19,X19,AC19,AH19,AM19,AR19,AW19))) -> 0 | BC19: =ROUND(AY19+AZ19-BA19-BB19,2) -> 0
... A366: 360 | B366: =IF(FirstPayment="","",EDATE(FirstPayment,A366-1)) | C366: =SUM(H366,M366,R366,W366,AB366,AG366,AL366,AQ366,AV366,BA366,I366,N366,S366,X366,AC366,AH366,AM366,AR366,AW366,BB366) -> 0 | D366: =SUM(J366,O366,T366,Y366,AD366,AI366,AN366,AS366,AX366,BC366) -> 0 | E366: =SUM(G366,L366,Q366,V366,AA366,AF366,AK366,AP366,AU366,AZ366) -> 0 | F366: =J365 -> 0 | G366: =ROUND(F366*$G$5/12,2) -> 0 | H366: =MIN($H$5,F366+G366) -> 0 | I366: =MAX(0,MIN(F366+G366-H366,MonthlyPayment-SUM(H366,M366,R366,W366,AB366,AG366,AL366,AQ366,AV366,BA366))) -> 0 | J366: =ROUND(F366+G366-H366-I366,2) -> 0 | K366: =O365 -> 0 | L366: =ROUND(K366*$L$5/12,2) -> 0 | M366: =MIN($M$5,K366+L366) -> 0 | N366: =MAX(0,MIN(K366+L366-M366,MonthlyPayment-SUM(H366,M366,R366,W366,AB366,AG366,AL366,AQ366,AV366,BA366)-SUM(I366))) -> 0 | O366: =ROUND(K366+L366-M366-N366,2) -> 0 | P366: =T365 -> 0 | Q366: =ROUND(P366*$Q$5/12,2) -> 0 | R366: =MIN($R$5,P366+Q366) -> 0 | S366: =MAX(0,MIN(P366+Q366-R366,MonthlyPayment-SUM(H366,M366,R366,W366,AB366,AG366,AL366,AQ366,AV366,BA366)-SUM(I366,N366))) -> 0 | T366: =ROUND(P366+Q366-R366-S366,2) -> 0 | U366: =Y365 -> 0 | V366: =ROUND(U366*$V$5/12,2) -> 0 | W366: =MIN($W$5,U366+V366) -> 0 | X366: =MAX(0,MIN(U366+V366-W366,MonthlyPayment-SUM(H366,M366,R366,W366,AB366,AG366,AL366,AQ366,AV366,BA366)-SUM(I366,N366,S366))) -> 0 | Y366: =ROUND(U366+V366-W366-X366,2) -> 0 | Z366: =AD365 -> 0 | AA366: =ROUND(Z366*$AA$5/12,2) -> 0 | AB366: =MIN($AB$5,Z366+AA366) -> 0 | AC366: =MAX(0,MIN(Z366+AA366-AB366,MonthlyPayment-SUM(H366,M366,R366,W366,AB366,AG366,AL366,AQ366,AV366,BA366)-SUM(I366,N366,S366,X366))) -> 0 | AD366: =ROUND(Z366+AA366-AB366-AC366,2) -> 0 | AE366: =AI365 -> 0 | AF366: =ROUND(AE366*$AF$5/12,2) -> 0 | AG366: =MIN($AG$5,AE366+AF366) -> 0 | AH366: =MAX(0,MIN(AE366+AF366-AG366,MonthlyPayment-SUM(H366,M366,R366,W366,AB366,AG366,AL366,AQ366,AV366,BA366)-SUM(I366,N366,S366,X366,AC366))) -> 0 | AI366: =ROUND(AE366+AF366-AG366-AH366,2) -> 0 | AJ366: =AN365 -> 0 | AK366: =ROUND(AJ366*$AK$5/12,2) -> 0 | AL366: =MIN($AL$5,AJ366+AK366) -> 0 | AM366: =MAX(0,MIN(AJ366+AK366-AL366,MonthlyPayment-SUM(H366,M366,R366,W366,AB366,AG366,AL366,AQ366,AV366,BA366)-SUM(I366,N366,S366,X366,AC366,AH366))) -> 0 | AN366: =ROUND(AJ366+AK366-AL366-AM366,2) -> 0 | AO366: =AS365 -> 0 | AP366: =ROUND(AO366*$AP$5/12,2) -> 0 | AQ366: =MIN($AQ$5,AO366+AP366) -> 0 | AR366: =MAX(0,MIN(AO366+AP366-AQ366,MonthlyPayment-SUM(H366,M366,R366,W366,AB366,AG366,AL366,AQ366,AV366,BA366)-SUM(I366,N366,S366,X366,AC366,AH366,AM366))) -> 0 | AS366: =ROUND(AO366+AP366-AQ366-AR366,2) -> 0 | AT366: =AX365 -> 0 | AU366: =ROUND(AT366*$AU$5/12,2) -> 0 | AV366: =MIN($AV$5,AT366+AU366) -> 0 | AW366: =MAX(0,MIN(AT366+AU366-AV366,MonthlyPayment-SUM(H366,M366,R366,W366,AB366,AG366,AL366,AQ366,AV366,BA366)-SUM(I366,N366,S366,X366,AC366,AH366,AM366,AR366))) -> 0 | AX366: =ROUND(AT366+AU366-AV366-AW366,2) -> 0 | AY366: =BC365 -> 0 | AZ366: =ROUND(AY366*$AZ$5/12,2) -> 0 | BA366: =MIN($BA$5,AY366+AZ366) -> 0 | BB366: =MAX(0,MIN(AY366+AZ366-BA366,MonthlyPayment-SUM(H366,M366,R366,W366,AB366,AG366,AL366,AQ366,AV366,BA366)-SUM(I366,N366,S366,X366,AC366,AH366,AM366,AR366,AW366))) -> 0 | BC366: =ROUND(AY366+AZ366-BA366-BB366,2) -> 0

Sheet Avalanche
A1: Payment schedule · Avalanche
A2: Excel template · Debt payoff planner · Pound sterling (£)
F4: =IF($F$5=0,"",INDEX('Debts'!$A$8:$A$17,$F$5)) | K4: =IF($K$5=0,"",INDEX('Debts'!$A$8:$A$17,$K$5)) | P4: =IF($P$5=0,"",INDEX('Debts'!$A$8:$A$17,$P$5)) | U4: =IF($U$5=0,"",INDEX('Debts'!$A$8:$A$17,$U$5)) | Z4: =IF($Z$5=0,"",INDEX('Debts'!$A$8:$A$17,$Z$5)) | AE4: =IF($AE$5=0,"",INDEX('Debts'!$A$8:$A$17,$AE$5)) | AJ4: =IF($AJ$5=0,"",INDEX('Debts'!$A$8:$A$17,$AJ$5)) | AO4: =IF($AO$5=0,"",INDEX('Debts'!$A$8:$A$17,$AO$5)) | AT4: =IF($AT$5=0,"",INDEX('Debts'!$A$8:$A$17,$AT$5)) | AY4: =IF($AY$5=0,"",INDEX('Debts'!$A$8:$A$17,$AY$5))
F5: =IFERROR(MATCH(1,'Debts'!$F$8:$F$17,0),0) -> 0 | G5: =IF($F$5=0,0,N(INDEX('Debts'!$C$8:$C$17,$F$5))) -> 0 | H5: =IF($F$5=0,0,N(INDEX('Debts'!$D$8:$D$17,$F$5))) -> 0 | I5: =IF($F$5=0,0,N(INDEX('Debts'!$B$8:$B$17,$F$5))) -> 0 | J5: =IF($I$5<=0,0,IF($J$366>0,-1,COUNTIF($J$7:$J$366,">0")+1)) -> 0 | K5: =IFERROR(MATCH(2,'Debts'!$F$8:$F$17,0),0) -> 0 | L5: =IF($K$5=0,0,N(INDEX('Debts'!$C$8:$C$17,$K$5))) -> 0 | M5: =IF($K$5=0,0,N(INDEX('Debts'!$D$8:$D$17,$K$5))) -> 0 | N5: =IF($K$5=0,0,N(INDEX('Debts'!$B$8:$B$17,$K$5))) -> 0 | O5: =IF($N$5<=0,0,IF($O$366>0,-1,COUNTIF($O$7:$O$366,">0")+1)) -> 0 | P5: =IFERROR(MATCH(3,'Debts'!$F$8:$F$17,0),0) -> 0 | Q5: =IF($P$5=0,0,N(INDEX('Debts'!$C$8:$C$17,$P$5))) -> 0 | R5: =IF($P$5=0,0,N(INDEX('Debts'!$D$8:$D$17,$P$5))) -> 0 | S5: =IF($P$5=0,0,N(INDEX('Debts'!$B$8:$B$17,$P$5))) -> 0 | T5: =IF($S$5<=0,0,IF($T$366>0,-1,COUNTIF($T$7:$T$366,">0")+1)) -> 0 | U5: =IFERROR(MATCH(4,'Debts'!$F$8:$F$17,0),0) -> 0 | V5: =IF($U$5=0,0,N(INDEX('Debts'!$C$8:$C$17,$U$5))) -> 0 | W5: =IF($U$5=0,0,N(INDEX('Debts'!$D$8:$D$17,$U$5))) -> 0 | X5: =IF($U$5=0,0,N(INDEX('Debts'!$B$8:$B$17,$U$5))) -> 0 | Y5: =IF($X$5<=0,0,IF($Y$366>0,-1,COUNTIF($Y$7:$Y$366,">0")+1)) -> 0 | Z5: =IFERROR(MATCH(5,'Debts'!$F$8:$F$17,0),0) -> 0 | AA5: =IF($Z$5=0,0,N(INDEX('Debts'!$C$8:$C$17,$Z$5))) -> 0 | AB5: =IF($Z$5=0,0,N(INDEX('Debts'!$D$8:$D$17,$Z$5))) -> 0 | AC5: =IF($Z$5=0,0,N(INDEX('Debts'!$B$8:$B$17,$Z$5))) -> 0 | AD5: =IF($AC$5<=0,0,IF($AD$366>0,-1,COUNTIF($AD$7:$AD$366,">0")+1)) -> 0 | AE5: =IFERROR(MATCH(6,'Debts'!$F$8:$F$17,0),0) -> 0 | AF5: =IF($AE$5=0,0,N(INDEX('Debts'!$C$8:$C$17,$AE$5))) -> 0 | AG5: =IF($AE$5=0,0,N(INDEX('Debts'!$D$8:$D$17,$AE$5))) -> 0 | AH5: =IF($AE$5=0,0,N(INDEX('Debts'!$B$8:$B$17,$AE$5))) -> 0 | AI5: =IF($AH$5<=0,0,IF($AI$366>0,-1,COUNTIF($AI$7:$AI$366,">0")+1)) -> 0 | AJ5: =IFERROR(MATCH(7,'Debts'!$F$8:$F$17,0),0) -> 0 | AK5: =IF($AJ$5=0,0,N(INDEX('Debts'!$C$8:$C$17,$AJ$5))) -> 0 | AL5: =IF($AJ$5=0,0,N(INDEX('Debts'!$D$8:$D$17,$AJ$5))) -> 0 | AM5: =IF($AJ$5=0,0,N(INDEX('Debts'!$B$8:$B$17,$AJ$5))) -> 0 | AN5: =IF($AM$5<=0,0,IF($AN$366>0,-1,COUNTIF($AN$7:$AN$366,">0")+1)) -> 0 | AO5: =IFERROR(MATCH(8,'Debts'!$F$8:$F$17,0),0) -> 0 | AP5: =IF($AO$5=0,0,N(INDEX('Debts'!$C$8:$C$17,$AO$5))) -> 0 | AQ5: =IF($AO$5=0,0,N(INDEX('Debts'!$D$8:$D$17,$AO$5))) -> 0 | AR5: =IF($AO$5=0,0,N(INDEX('Debts'!$B$8:$B$17,$AO$5))) -> 0 | AS5: =IF($AR$5<=0,0,IF($AS$366>0,-1,COUNTIF($AS$7:$AS$366,">0")+1)) -> 0 | AT5: =IFERROR(MATCH(9,'Debts'!$F$8:$F$17,0),0) -> 0 | AU5: =IF($AT$5=0,0,N(INDEX('Debts'!$C$8:$C$17,$AT$5))) -> 0 | AV5: =IF($AT$5=0,0,N(INDEX('Debts'!$D$8:$D$17,$AT$5))) -> 0 | AW5: =IF($AT$5=0,0,N(INDEX('Debts'!$B$8:$B$17,$AT$5))) -> 0 | AX5: =IF($AW$5<=0,0,IF($AX$366>0,-1,COUNTIF($AX$7:$AX$366,">0")+1)) -> 0 | AY5: =IFERROR(MATCH(10,'Debts'!$F$8:$F$17,0),0) -> 0 | AZ5: =IF($AY$5=0,0,N(INDEX('Debts'!$C$8:$C$17,$AY$5))) -> 0 | BA5: =IF($AY$5=0,0,N(INDEX('Debts'!$D$8:$D$17,$AY$5))) -> 0 | BB5: =IF($AY$5=0,0,N(INDEX('Debts'!$B$8:$B$17,$AY$5))) -> 0 | BC5: =IF($BB$5<=0,0,IF($BC$366>0,-1,COUNTIF($BC$7:$BC$366,">0")+1)) -> 0
A6: Month | B6: Date | C6: Paid this month | D6: Total balance | E6: Interest | F6: Starting balance | G6: Interest | H6: Minimum | I6: Extra | J6: Ending balance | K6: Starting balance | L6: Interest | M6: Minimum | N6: Extra | O6: Ending balance | P6: Starting balance | Q6: Interest | R6: Minimum | S6: Extra | T6: Ending balance | U6: Starting balance | V6: Interest | W6: Minimum | X6: Extra | Y6: Ending balance | Z6: Starting balance | AA6: Interest | AB6: Minimum | AC6: Extra | AD6: Ending balance | AE6: Starting balance | AF6: Interest | AG6: Minimum | AH6: Extra | AI6: Ending balance | AJ6: Starting balance | AK6: Interest | AL6: Minimum | AM6: Extra | AN6: Ending balance | AO6: Starting balance | AP6: Interest | AQ6: Minimum | AR6: Extra | AS6: Ending balance | AT6: Starting balance | AU6: Interest | AV6: Minimum | AW6: Extra | AX6: Ending balance | AY6: Starting balance | AZ6: Interest | BA6: Minimum | BB6: Extra | BC6: Ending balance
A7: 1 | B7: =IF(FirstPayment="","",EDATE(FirstPayment,A7-1)) | C7: =SUM(H7,M7,R7,W7,AB7,AG7,AL7,AQ7,AV7,BA7,I7,N7,S7,X7,AC7,AH7,AM7,AR7,AW7,BB7) -> 0 | D7: =SUM(J7,O7,T7,Y7,AD7,AI7,AN7,AS7,AX7,BC7) -> 0 | E7: =SUM(G7,L7,Q7,V7,AA7,AF7,AK7,AP7,AU7,AZ7) -> 0 | F7: =$I$5 -> 0 | G7: =ROUND(F7*$G$5/12,2) -> 0 | H7: =MIN($H$5,F7+G7) -> 0 | I7: =MAX(0,MIN(F7+G7-H7,MonthlyPayment-SUM(H7,M7,R7,W7,AB7,AG7,AL7,AQ7,AV7,BA7))) -> 0 | J7: =ROUND(F7+G7-H7-I7,2) -> 0 | K7: =$N$5 -> 0 | L7: =ROUND(K7*$L$5/12,2) -> 0 | M7: =MIN($M$5,K7+L7) -> 0 | N7: =MAX(0,MIN(K7+L7-M7,MonthlyPayment-SUM(H7,M7,R7,W7,AB7,AG7,AL7,AQ7,AV7,BA7)-SUM(I7))) -> 0 | O7: =ROUND(K7+L7-M7-N7,2) -> 0 | P7: =$S$5 -> 0 | Q7: =ROUND(P7*$Q$5/12,2) -> 0 | R7: =MIN($R$5,P7+Q7) -> 0 | S7: =MAX(0,MIN(P7+Q7-R7,MonthlyPayment-SUM(H7,M7,R7,W7,AB7,AG7,AL7,AQ7,AV7,BA7)-SUM(I7,N7))) -> 0 | T7: =ROUND(P7+Q7-R7-S7,2) -> 0 | U7: =$X$5 -> 0 | V7: =ROUND(U7*$V$5/12,2) -> 0 | W7: =MIN($W$5,U7+V7) -> 0 | X7: =MAX(0,MIN(U7+V7-W7,MonthlyPayment-SUM(H7,M7,R7,W7,AB7,AG7,AL7,AQ7,AV7,BA7)-SUM(I7,N7,S7))) -> 0 | Y7: =ROUND(U7+V7-W7-X7,2) -> 0 | Z7: =$AC$5 -> 0 | AA7: =ROUND(Z7*$AA$5/12,2) -> 0 | AB7: =MIN($AB$5,Z7+AA7) -> 0 | AC7: =MAX(0,MIN(Z7+AA7-AB7,MonthlyPayment-SUM(H7,M7,R7,W7,AB7,AG7,AL7,AQ7,AV7,BA7)-SUM(I7,N7,S7,X7))) -> 0 | AD7: =ROUND(Z7+AA7-AB7-AC7,2) -> 0 | AE7: =$AH$5 -> 0 | AF7: =ROUND(AE7*$AF$5/12,2) -> 0 | AG7: =MIN($AG$5,AE7+AF7) -> 0 | AH7: =MAX(0,MIN(AE7+AF7-AG7,MonthlyPayment-SUM(H7,M7,R7,W7,AB7,AG7,AL7,AQ7,AV7,BA7)-SUM(I7,N7,S7,X7,AC7))) -> 0 | AI7: =ROUND(AE7+AF7-AG7-AH7,2) -> 0 | AJ7: =$AM$5 -> 0 | AK7: =ROUND(AJ7*$AK$5/12,2) -> 0 | AL7: =MIN($AL$5,AJ7+AK7) -> 0 | AM7: =MAX(0,MIN(AJ7+AK7-AL7,MonthlyPayment-SUM(H7,M7,R7,W7,AB7,AG7,AL7,AQ7,AV7,BA7)-SUM(I7,N7,S7,X7,AC7,AH7))) -> 0 | AN7: =ROUND(AJ7+AK7-AL7-AM7,2) -> 0 | AO7: =$AR$5 -> 0 | AP7: =ROUND(AO7*$AP$5/12,2) -> 0 | AQ7: =MIN($AQ$5,AO7+AP7) -> 0 | AR7: =MAX(0,MIN(AO7+AP7-AQ7,MonthlyPayment-SUM(H7,M7,R7,W7,AB7,AG7,AL7,AQ7,AV7,BA7)-SUM(I7,N7,S7,X7,AC7,AH7,AM7))) -> 0 | AS7: =ROUND(AO7+AP7-AQ7-AR7,2) -> 0 | AT7: =$AW$5 -> 0 | AU7: =ROUND(AT7*$AU$5/12,2) -> 0 | AV7: =MIN($AV$5,AT7+AU7) -> 0 | AW7: =MAX(0,MIN(AT7+AU7-AV7,MonthlyPayment-SUM(H7,M7,R7,W7,AB7,AG7,AL7,AQ7,AV7,BA7)-SUM(I7,N7,S7,X7,AC7,AH7,AM7,AR7))) -> 0 | AX7: =ROUND(AT7+AU7-AV7-AW7,2) -> 0 | AY7: =$BB$5 -> 0 | AZ7: =ROUND(AY7*$AZ$5/12,2) -> 0 | BA7: =MIN($BA$5,AY7+AZ7) -> 0 | BB7: =MAX(0,MIN(AY7+AZ7-BA7,MonthlyPayment-SUM(H7,M7,R7,W7,AB7,AG7,AL7,AQ7,AV7,BA7)-SUM(I7,N7,S7,X7,AC7,AH7,AM7,AR7,AW7))) -> 0 | BC7: =ROUND(AY7+AZ7-BA7-BB7,2) -> 0
